From mboxrd@z Thu Jan 1 00:00:00 1970 Return-Path: Received: from mails.dpdk.org (mails.dpdk.org [217.70.189.124]) by inbox.dpdk.org (Postfix) with ESMTP id 6D50948B0E for ; Sat, 15 Nov 2025 01:26:01 +0100 (CET) Received: from mails.dpdk.org (localhost [127.0.0.1]) by mails.dpdk.org (Postfix) with ESMTP id 6758C400D6; Sat, 15 Nov 2025 01:26:01 +0100 (CET) Received: from mail-pl1-f227.google.com (mail-pl1-f227.google.com [209.85.214.227]) by mails.dpdk.org (Postfix) with ESMTP id 8DB41400D6 for ; Sat, 15 Nov 2025 01:26:00 +0100 (CET) Received: by mail-pl1-f227.google.com with SMTP id d9443c01a7336-2964d616df7so34109775ad.3 for ; Fri, 14 Nov 2025 16:26:00 -0800 (PST) DKIM-Signature: v=1; a=rsa-sha256; c=relaxed/relaxed; d=iol.unh.edu; s=unh-iol; t=1763166360; x=1763771160; darn=dpdk.org; h=cc:to:from:subject:message-id:date:from:to:cc:subject:date :message-id:reply-to; bh=03LGDGvH9exjMJ1j+50Ajghk4pc+Bm7/yYndeCIdbfI=; b=P1ViCHBGAaKQmJg4RETk/38QxYMbn5Zfe58U8vLQy9h35Q3Z0houAb0RhhuXHekHFx xeMg7+B4pAoRkIz82dN/ZldVYj2rmHPTanZ/3iZWS4ZQYUYTez5/bQlH6HjC/riXfRT/ yM9czxQv0Isy8DbcJ2tsQ3F8J38wF7g4ybNNU= X-Google-DKIM-Signature: v=1; a=rsa-sha256; c=relaxed/relaxed; d=1e100.net; s=20230601; t=1763166360; x=1763771160; h=cc:to:from:subject:message-id:date:x-gm-gg:x-gm-message-state:from :to:cc:subject:date:message-id:reply-to; bh=03LGDGvH9exjMJ1j+50Ajghk4pc+Bm7/yYndeCIdbfI=; b=HHUBMDGOKOHutoMhMaQ9oEomA/1Tq182XY5gyXGCj4agnuOkgbXB5zISpBGclHZ32O Qa4zRqI9oh8cVAeszmCwBzF7u0OHatvEmwwV0XmPmdkEjXl6u6rPZnxa8S6PSrBXht5N t5OJxp1QDLmbyhbzp6yOdBDu1nxcDYyQ+8ea7zkbD/weEVdo4HS2bqoMyYItMZ9wZ1ol +de2B8tVTVoikVUheHZ6N2Xw73efMAwEdmUlOayOZTevOrRbj9CaBteS4NLOebd1Yxzv rGKCat3+2gAfdDJEPc0P6/uyyNJrXa4CWQgxArJ6B2yLVEf0uQKWv3vTIGz+RWf+Aw58 FBPA== X-Gm-Message-State: AOJu0YyG1YQ2JCwQt1aLQhkrqz0IdCXRwa6EWbCfu2goD9JvSGxPltMv C1eimGnALLOyZM9zO0rztLsh6g9aVsmQbXeV70BPZuWw7bKzZfXpkK3HdTsDgiba3TBrWce8xQx H7WS+o5DV4CnJQHk7+Gc1ViHNe3saxmwWkcSgIxM3DTjY X-Gm-Gg: ASbGncsUCTt4zUhYPVOteUB7+5F449qunS3mEJJMNl5h/fI52BoYRxg3vkl2T9jvjvY /xl/W674ZRIUhmk2lF87WbLdhZY/JlSG4LrTuHY52dY4ikR5tiLDNJa19ToSBJIaI9Cs1PQT1aW 76U7gCuPEdFQXHhhUyjSYSxIxYGxX3RLIwEQ08roNZ+GcmFL4asZB5VFe3D2TSecXItVV6+9+K4 4Ngan37/XaX2zXIhtgpIB3bSNeoQAJ1dhC63oP2X8FRy7NSWBxjNIgbNA0VwWG70O6NtAqvJqeS IXF/4DQbH26qg5DUA4CrX7TiPl+4ZOjZSFZcJVkh/lO2QdumG7KucHN0k5DwhVB+VRMjI01HGFL OLKN7YzzpfRVAzGL+9S7mXJ49HOW/wBw= X-Google-Smtp-Source: AGHT+IHzCDKroqegKLEjpu7BWRYPOa4LjHUqDf6naI0Kot8qXKMKiggv2z7g4I6TEtTsSb7TOsUPA4qrLm41 X-Received: by 2002:a17:902:f603:b0:294:d953:6ff9 with SMTP id d9443c01a7336-2986a752adbmr53925095ad.47.1763166359724; Fri, 14 Nov 2025 16:25:59 -0800 (PST) Received: from postal.iol.unh.edu (postal.iol.unh.edu. [132.177.123.84]) by smtp-relay.gmail.com with ESMTPS id d9443c01a7336-2985c2b88efsm7064375ad.54.2025.11.14.16.25.59 (version=TLS1_2 cipher=ECDHE-ECDSA-AES128-GCM-SHA256 bits=128/128); Fri, 14 Nov 2025 16:25:59 -0800 (PST) X-Relaying-Domain: iol.unh.edu Date: Fri, 14 Nov 2025 16:25:59 -0800 (PST) Message-ID: <6917c897.170a0220.44026.2f77SMTPIN_ADDED_MISSING@mx.google.com> Received: from [172.21.0.4] (unknown [172.18.0.240]) by postal.iol.unh.edu (Postfix) with ESMTP id 384776051830; Fri, 14 Nov 2025 19:25:59 -0500 (EST) Subject: |SUCCESS| [GIT MASTER] be0112878b4fc3a1b918370ed2fe615c52039d77 From: dpdklab@iol.unh.edu To: Test Report Cc: dpdk-test-reports@iol.unh.edu Content-Type: text/plain X-BeenThere: test-report@dpdk.org X-Mailman-Version: 2.1.29 Precedence: list List-Id: automatic DPDK test reports List-Unsubscribe: , List-Archive: List-Post: List-Help: List-Subscribe: , Errors-To: test-report-bounces@dpdk.org _Testing PASS_ Branch: dpdk be0112878b4fc3a1b918370ed2fe615c52039d77 --> testing pass Upstream job id: Generic-DPDK-Compile-Meson#444358 Test environment and result as below: +------------------------------+--------------------+ | Environment | dpdk_meson_compile | +==============================+====================+ | Red Hat Enterprise Linux 9.5 | PASS | +------------------------------+--------------------+ | Ubuntu 20.04 | PASS | +------------------------------+--------------------+ | Debian GNU/Linux 12 | PASS | +------------------------------+--------------------+ | Fedora Linux 42 | PASS | +------------------------------+--------------------+ | Ubuntu 22.04 | PASS | +------------------------------+--------------------+ | Ubuntu 24.04 | PASS | +------------------------------+--------------------+ | CentOS Stream 9 | PASS | +------------------------------+--------------------+ | CentOS Stream 10 | PASS | +------------------------------+--------------------+ Red Hat Enterprise Linux 9.5 Kernel: 5.4 Compiler: gcc gcc (GCC) 11.5.0 20240719 (Red Hat 11.5.0-2) Ubuntu 20.04 Kernel: 5.15 Compiler: aarch64-linux-gnu-gcc gcc (Ubuntu 9.4.0-1ubuntu1~20.04.2) 9.4.0 Debian GNU/Linux 12 Kernel: 5.4 Compiler: gcc gcc (Debian 12.2.0-14+deb12u1) 12.2.0 Fedora Linux 42 Kernel: 5.4 Compiler: gcc gcc (GCC) 15.2.1 20250808 (Red Hat 15.2.1-1) Ubuntu 22.04 Kernel: 5.4 Compiler: gcc gcc (Ubuntu 11.4.0-1ubuntu1~22.04) 11.4.0 Ubuntu 24.04 Kernel: 5.4 Compiler: gcc gcc (Ubuntu 13.3.0-6ubuntu2~24.04) 13.3.0 CentOS Stream 9 Kernel: 5.4 Compiler: gcc gcc (GCC) 11.5.0 20240719 (Red Hat 11.5.0-11) CentOS Stream 10 Kernel: 5.4 Compiler: gcc gcc (GCC) 14.2.1 20250110 (Red Hat 14.2.1-8) To view detailed results, visit: https://lab.dpdk.org/results/dashboard/tarballs/35590/ UNH-IOL DPDK Community Lab To manage your email subscriptions, visit: https://lab.dpdk.org/results/dashboard/preferences/subscriptions/