From mboxrd@z Thu Jan 1 00:00:00 1970 Return-Path: Received: from mails.dpdk.org (mails.dpdk.org [217.70.189.124]) by inbox.dpdk.org (Postfix) with ESMTP id 84A6E48B0E for ; Sat, 15 Nov 2025 01:26:39 +0100 (CET) Received: from mails.dpdk.org (localhost [127.0.0.1]) by mails.dpdk.org (Postfix) with ESMTP id 7AD36400D6; Sat, 15 Nov 2025 01:26:39 +0100 (CET) Received: from mail-pf1-f228.google.com (mail-pf1-f228.google.com [209.85.210.228]) by mails.dpdk.org (Postfix) with ESMTP id 2BFA0400D6 for ; Sat, 15 Nov 2025 01:26:38 +0100 (CET) Received: by mail-pf1-f228.google.com with SMTP id d2e1a72fcca58-7b9c17dd591so1878898b3a.3 for ; Fri, 14 Nov 2025 16:26:38 -0800 (PST) DKIM-Signature: v=1; a=rsa-sha256; c=relaxed/relaxed; d=iol.unh.edu; s=unh-iol; t=1763166397; x=1763771197; darn=dpdk.org; h=references:in-reply-to:cc:to:from:subject:message-id:date:from:to :cc:subject:date:message-id:reply-to; bh=J6xEj0XMNapDrwvnclk14NVwHVk9urWYOA/mzKTEXjY=; b=B05Ycq7gNyakgISsU34Nchm3mxyL+liZvfaDf1Xz4ROLk2cW1t2RoKg9x0IxZ3XtbC vwEH/K2Guk+V2OnuprggJqDe0TWvKxIpQUhsbJYGyZcYOhky92/e90T3NXCY7gknzkBd E2Y3XmBWY9gEDhtiuj+jM56p+QoAtdAbohwGE= X-Google-DKIM-Signature: v=1; a=rsa-sha256; c=relaxed/relaxed; d=1e100.net; s=20230601; t=1763166397; x=1763771197; h=references:in-reply-to:cc:to:from:subject:message-id:date:x-gm-gg :x-gm-message-state:from:to:cc:subject:date:message-id:reply-to; bh=J6xEj0XMNapDrwvnclk14NVwHVk9urWYOA/mzKTEXjY=; b=U3iMTt4ofgyaSBamZuAofrhIABbS1BSoa9n/ERwuERDW94ASb8MD8vGGM7S1puSHxC P9/PKc1VFPIK5rve7UwBGsbnNxGTN69Rfvk1AYlqnZtouNMFWTyBy4fzhh5LL3MbULwk 6yIMHzUmZgoRtXcS5LmxAONk2kz4K12LgB9fUV0rzGmwvOqXTB7krQsgHMSzCzyqIjPO FYk9fkOYgwnRtqJgLHKI5ACZ/60cS5EOSe2xCTCL81+9meSQsSMFJWXCRnXIy69Be6Za R3W+iOGNuiDC+aJYsSRiQ3wjlqRT2eIUXL5ym/p10yVn579m8ykRHbkJuTN47tjTYGBx fQQA== X-Gm-Message-State: AOJu0YzfkASP69eHRZBqB58CangKHwencrbu+mIgir+gXU5W6AANklZ5 phaao/KpA6/9bDEKoVO7VpbfzX//YcoJkyoJR/4HSVI3K4BP5QJltNe5euBM+HDRwiLB+UDLgPM mweHm7hh1p0Pw0MZS+NpPMOThDLACViTzhF4HQ3/oVk940E8ASOtUrBHhf+Cb X-Gm-Gg: ASbGncvTc4VfEJ0HU3LISX3GfnTgWJBcSA8kJlR50p5ukiLWnx55dcwS6ACs+0FOIoZ 0adNR+qu+E1oguXcYm4mkwC0PEbM3KhCIp/1qwVUJ9gvO2wYLy7bg3UZ8oY0XHEDGkzqXTFp1m7 r0oHH5MzxIuUKheFohujMhbgEsWniLBz0VPrhPekvSNxJVRj5JO0Tjdz5WNu/ol2SnqCw1/Xufi Yc3YGuzmwshC+KeoihP+MVn+bH+imiNY5ZXfJZ5xm0iE5NrM8SoqcggAwTOjaotm5FIrOauktmp GM0BoxSsdW+y3LFERvDJxDMlCiMe2AWiFSsdS33llc9rIY/WnCbfFwKK0Bc8V9VsYkLOg0f+CTb 99ee7LgFA X-Google-Smtp-Source: AGHT+IGDg41lQckNdhB/4LgJnzxEEZFd1t54DRhFpXbecwf2IxSvwhbnXa05d+f/YzdKmVZ8qMRJpEO1bdkc X-Received: by 2002:a05:6a00:a88:b0:7ab:5d1b:2d12 with SMTP id d2e1a72fcca58-7ba39bea0afmr5974032b3a.8.1763166397296; Fri, 14 Nov 2025 16:26:37 -0800 (PST) Received: from postal.iol.unh.edu (postal.iol.unh.edu. [2606:4100:3880:1234::84]) by smtp-relay.gmail.com with ESMTPS id d2e1a72fcca58-7b928207b26sm577706b3a.9.2025.11.14.16.26.37 (version=TLS1_2 cipher=ECDHE-ECDSA-AES128-GCM-SHA256 bits=128/128); Fri, 14 Nov 2025 16:26:37 -0800 (PST) X-Relaying-Domain: iol.unh.edu Date: Fri, 14 Nov 2025 16:26:37 -0800 (PST) Message-ID: <6917c8bd.050a0220.2c78d2.e0a7SMTPIN_ADDED_MISSING@mx.google.com> Received: from [172.21.0.5] (unknown [172.18.0.240]) by postal.iol.unh.edu (Postfix) with ESMTP id 775C96051830; Fri, 14 Nov 2025 19:26:36 -0500 (EST) Subject: |SUCCESS| pw158780-158781 [PATCH] [2/2] dts: shorten a too long line From: dpdklab@iol.unh.edu To: Test Report Cc: dpdk-test-reports@iol.unh.edu In-Reply-To: <20251113232954.273454-3-probb@iol.unh.edu> References: <20251113232954.273454-3-probb@iol.unh.edu> Content-Type: text/plain X-BeenThere: test-report@dpdk.org X-Mailman-Version: 2.1.29 Precedence: list List-Id: automatic DPDK test reports List-Unsubscribe: , List-Archive: List-Post: List-Help: List-Subscribe: , Errors-To: test-report-bounces@dpdk.org Test-Label: iol-compile-arm64-testing Test-Status: SUCCESS http://dpdk.org/patch/158781 _Testing PASS_ Submitter: Patrick Robb Date: Thursday, November 13 2025 23:29:54 DPDK git baseline: Repo:dpdk-next-dts Branch: master CommitID:8dcc93a520b22330e0ad59d360a4594b854f9ddd 158780-158781 --> testing pass Upstream job id: Generic-DPDK-Compile-Meson#444372 Test environment and result as below: +------------------------------+--------------------+ | Environment | dpdk_meson_compile | +==============================+====================+ | Red Hat Enterprise Linux 9.5 | PASS | +------------------------------+--------------------+ | Ubuntu 20.04 | PASS | +------------------------------+--------------------+ | Debian GNU/Linux 12 | PASS | +------------------------------+--------------------+ | Fedora Linux 42 | PASS | +------------------------------+--------------------+ | Ubuntu 22.04 | PASS | +------------------------------+--------------------+ | Ubuntu 24.04 | PASS | +------------------------------+--------------------+ | CentOS Stream 9 | PASS | +------------------------------+--------------------+ | CentOS Stream 10 | PASS | +------------------------------+--------------------+ Red Hat Enterprise Linux 9.5 Kernel: 5.4 Compiler: gcc gcc (GCC) 11.5.0 20240719 (Red Hat 11.5.0-2) Ubuntu 20.04 Kernel: 5.15 Compiler: aarch64-linux-gnu-gcc gcc (Ubuntu 9.4.0-1ubuntu1~20.04.2) 9.4.0 Debian GNU/Linux 12 Kernel: 5.4 Compiler: gcc gcc (Debian 12.2.0-14+deb12u1) 12.2.0 Fedora Linux 42 Kernel: 5.4 Compiler: gcc gcc (GCC) 15.2.1 20250808 (Red Hat 15.2.1-1) Ubuntu 22.04 Kernel: 5.4 Compiler: gcc gcc (Ubuntu 11.4.0-1ubuntu1~22.04) 11.4.0 Ubuntu 24.04 Kernel: 5.4 Compiler: gcc gcc (Ubuntu 13.3.0-6ubuntu2~24.04) 13.3.0 CentOS Stream 9 Kernel: 5.4 Compiler: gcc gcc (GCC) 11.5.0 20240719 (Red Hat 11.5.0-11) CentOS Stream 10 Kernel: 5.4 Compiler: gcc gcc (GCC) 14.2.1 20250110 (Red Hat 14.2.1-8) To view detailed results, visit: https://lab.dpdk.org/results/dashboard/patchsets/34586/ UNH-IOL DPDK Community Lab To manage your email subscriptions, visit: https://lab.dpdk.org/results/dashboard/preferences/subscriptions/