From mboxrd@z Thu Jan 1 00:00:00 1970 Return-Path: Received: from mails.dpdk.org (mails.dpdk.org [217.70.189.124]) by inbox.dpdk.org (Postfix) with ESMTP id 978ED48B0E for ; Sat, 15 Nov 2025 01:27:14 +0100 (CET) Received: from mails.dpdk.org (localhost [127.0.0.1]) by mails.dpdk.org (Postfix) with ESMTP id 8DDD1400D6; Sat, 15 Nov 2025 01:27:14 +0100 (CET) Received: from mail-vk1-f228.google.com (mail-vk1-f228.google.com [209.85.221.228]) by mails.dpdk.org (Postfix) with ESMTP id 4E34C400D6 for ; Sat, 15 Nov 2025 01:27:13 +0100 (CET) Received: by mail-vk1-f228.google.com with SMTP id 71dfb90a1353d-55b2f2ae1cbso86609e0c.1 for ; Fri, 14 Nov 2025 16:27:13 -0800 (PST) DKIM-Signature: v=1; a=rsa-sha256; c=relaxed/relaxed; d=iol.unh.edu; s=unh-iol; t=1763166432; x=1763771232; darn=dpdk.org; h=cc:to:from:subject:message-id:date:from:to:cc:subject:date :message-id:reply-to; bh=HGWRo/aG1Ha00BuFw3iuiKwm7CdegtP67C2wpr0cdxQ=; b=ckx0rdKgwz1dhxTZwvWOTjRV5vM0I89/JWITKBbndMADO228nzf2eVbmoLIi9s5EUd Hq+jvcoVNzY2JayIQLUnxzaHh9ugi02lcExYziYOK/Wo4p/XorxDNzyA2BcvzAfbWoX4 +PrfNBZ3LI8QMrQD2S4puh7sm6jkCa/Yfro8E= X-Google-DKIM-Signature: v=1; a=rsa-sha256; c=relaxed/relaxed; d=1e100.net; s=20230601; t=1763166432; x=1763771232; h=cc:to:from:subject:message-id:date:x-gm-gg:x-gm-message-state:from :to:cc:subject:date:message-id:reply-to; bh=HGWRo/aG1Ha00BuFw3iuiKwm7CdegtP67C2wpr0cdxQ=; b=TgvYgy9KcV3iqdc09yK6FFJYDBVwvoMrgR9OgL55Mfvj+V/sHKN/XYqx6zc2MvQTAT VbJkQFlvAiUsGKN95W78PwlDLFoG/QpDrRbdU43xGU44RoHxcjqLkCrPCVvnmvGT4zDO uZ6SCffuw1mWdb6v8b5zDpT2HAQM62doawXDcog43MuQFPfpfDc4GFAsRUUzHVDcu7mT HJw3eKNa6b2rKt3grwdTxgPfFCPM3OfMSPiSuxt2lbeynVfMUVa4DtOFn8IXP67emrWf 02qUHjye54etmn6sjkMveBXflBaRHjQpXPxsTs2z2ERnmg/LhAfVDthTwd+3ByUcYTRX 7cRg== X-Gm-Message-State: AOJu0YxuxRzVk6+hWnbz/P7vpMGl1vNQmLgAKf/5K+y3jyxbnVjAQk3p NW8YhqHEA0qDn2BTAPlyzsCPOoT1Qn38PW7yuz6aeO6IioZnqk59M11Hfw1BvDeURaNXBBa4GPu 5IilGXeuWJ++xmfo2gJ5/vm/MkenGc1vfRlql2SKT+hRrUVyR/hTl X-Gm-Gg: ASbGnctpCzfp6KFKlla7BJx6pRYw6Dq1mNdAJcoOu6lOnrlBirNMpo4pOxvR0PADlBZ /dGRjLodV052YntLoQvjp3bFBRbHNntJLfHeag07/2I5a9cV/cP6oWbm7Q62ZX0vvCvpjPbq5zU 76DlBpuG4ZPnfPukmjcmXuhGgif1mOQX/c+fJI2jfpIpo2OWgydk43Djz+eOtrV0YmPor3psOJx 5oFXPhhTsyp8tC2vR0/a7hCIWtbHj7IrcS4LTwYEqjM1gA9dzOUJsqGbyAjYB1ZQ5DmubyqI6nR /1EFto/iu4kR3BciKnlaYenEJ2/UCVokpyNBuE5BBrV4jhUnhhO5FzL8LXQUOL4+cssDh8JY94e ND+vufKS7 X-Google-Smtp-Source: AGHT+IE5582z79mZFaahzjzNm0I4yHVa1tJ6D3Bc5Kj33SWofrX5ERyHOKL/u1l3qwb4QzTaVpgOP28sCQCN X-Received: by 2002:a05:6122:a24:b0:559:83be:69c5 with SMTP id 71dfb90a1353d-55b1be653c9mr2150178e0c.10.1763166432649; Fri, 14 Nov 2025 16:27:12 -0800 (PST) Received: from postal.iol.unh.edu (postal.iol.unh.edu. [2606:4100:3880:1234::84]) by smtp-relay.gmail.com with ESMTPS id 71dfb90a1353d-55b0f430e99sm740809e0c.4.2025.11.14.16.27.12 (version=TLS1_2 cipher=ECDHE-ECDSA-AES128-GCM-SHA256 bits=128/128); Fri, 14 Nov 2025 16:27:12 -0800 (PST) X-Relaying-Domain: iol.unh.edu Date: Fri, 14 Nov 2025 16:27:12 -0800 (PST) Message-ID: <6917c8e0.050a0220.1d23fc.522fSMTPIN_ADDED_MISSING@mx.google.com> Received: from [172.21.0.5] (unknown [172.18.0.240]) by postal.iol.unh.edu (Postfix) with ESMTP id 1A0636051830; Fri, 14 Nov 2025 19:27:12 -0500 (EST) Subject: |SUCCESS| [GIT MASTER] 9784db2c5af1eecd02fc21132b59b5b266039b87 From: dpdklab@iol.unh.edu To: Test Report Cc: dpdk-test-reports@iol.unh.edu, Xueming Li , Christian Ehrhardt , Kevin Traynor , Luca Boccassi Content-Type: text/plain X-BeenThere: test-report@dpdk.org X-Mailman-Version: 2.1.29 Precedence: list List-Id: automatic DPDK test reports List-Unsubscribe: , List-Archive: List-Post: List-Help: List-Subscribe: , Errors-To: test-report-bounces@dpdk.org _Testing PASS_ Branch: tags/v22.11 9784db2c5af1eecd02fc21132b59b5b266039b87 --> testing pass Upstream job id: Generic-DPDK-Compile-Meson#444377 Test environment and result as below: +------------------------------+--------------------+ | Environment | dpdk_meson_compile | +==============================+====================+ | CentOS Stream 10 | PASS | +------------------------------+--------------------+ | CentOS Stream 9 | PASS | +------------------------------+--------------------+ | Red Hat Enterprise Linux 9.5 | PASS | +------------------------------+--------------------+ | Ubuntu 20.04 | PASS | +------------------------------+--------------------+ | Debian GNU/Linux 12 | PASS | +------------------------------+--------------------+ | Fedora Linux 42 | PASS | +------------------------------+--------------------+ | Ubuntu 22.04 | PASS | +------------------------------+--------------------+ | Ubuntu 24.04 | PASS | +------------------------------+--------------------+ CentOS Stream 10 Kernel: 5.4 Compiler: gcc gcc (GCC) 14.2.1 20250110 (Red Hat 14.2.1-8) CentOS Stream 9 Kernel: 5.4 Compiler: gcc gcc (GCC) 11.5.0 20240719 (Red Hat 11.5.0-11) Red Hat Enterprise Linux 9.5 Kernel: 5.4 Compiler: gcc gcc (GCC) 11.5.0 20240719 (Red Hat 11.5.0-2) Ubuntu 20.04 Kernel: 5.15 Compiler: aarch64-linux-gnu-gcc gcc (Ubuntu 9.4.0-1ubuntu1~20.04.2) 9.4.0 Debian GNU/Linux 12 Kernel: 5.4 Compiler: gcc gcc (Debian 12.2.0-14+deb12u1) 12.2.0 Fedora Linux 42 Kernel: 5.4 Compiler: gcc gcc (GCC) 15.2.1 20250808 (Red Hat 15.2.1-1) Ubuntu 22.04 Kernel: 5.4 Compiler: gcc gcc (Ubuntu 11.4.0-1ubuntu1~22.04) 11.4.0 Ubuntu 24.04 Kernel: 5.4 Compiler: gcc gcc (Ubuntu 13.3.0-6ubuntu2~24.04) 13.3.0 To view detailed results, visit: https://lab.dpdk.org/results/dashboard/tarballs/35592/ UNH-IOL DPDK Community Lab To manage your email subscriptions, visit: https://lab.dpdk.org/results/dashboard/preferences/subscriptions/