From mboxrd@z Thu Jan 1 00:00:00 1970 Return-Path: Received: from mails.dpdk.org (mails.dpdk.org [217.70.189.124]) by inbox.dpdk.org (Postfix) with ESMTP id AF92148B0E for ; Sat, 15 Nov 2025 01:27:36 +0100 (CET) Received: from mails.dpdk.org (localhost [127.0.0.1]) by mails.dpdk.org (Postfix) with ESMTP id A6BB3400D6; Sat, 15 Nov 2025 01:27:36 +0100 (CET) Received: from mail-pl1-f227.google.com (mail-pl1-f227.google.com [209.85.214.227]) by mails.dpdk.org (Postfix) with ESMTP id 79FB5400D6 for ; Sat, 15 Nov 2025 01:27:35 +0100 (CET) Received: by mail-pl1-f227.google.com with SMTP id d9443c01a7336-297dd95ffe4so22136905ad.3 for ; Fri, 14 Nov 2025 16:27:35 -0800 (PST) DKIM-Signature: v=1; a=rsa-sha256; c=relaxed/relaxed; d=iol.unh.edu; s=unh-iol; t=1763166454; x=1763771254; darn=dpdk.org; h=cc:to:from:subject:message-id:date:from:to:cc:subject:date :message-id:reply-to; bh=m/LiclWScNipetBkTqxh+C4kPKKxGrwzCTX7Wn24KbY=; b=Azb67654R/8Xp6R4q0JgJklSL3cPSASno8FXpDg/C7m3D+D57tcMD9hrT0CQXSUQG3 czZNEif4a9RyctfUlXnQvAu7RCyKN+fRlr/dwYNyFPYaUdFovtFvzxWu6GZUNL8UaCqq wFAMdGTnBxTpHqgjS/SiUlMv/5FL/8eAhhj+A= X-Google-DKIM-Signature: v=1; a=rsa-sha256; c=relaxed/relaxed; d=1e100.net; s=20230601; t=1763166454; x=1763771254; h=cc:to:from:subject:message-id:date:x-gm-gg:x-gm-message-state:from :to:cc:subject:date:message-id:reply-to; bh=m/LiclWScNipetBkTqxh+C4kPKKxGrwzCTX7Wn24KbY=; b=vvr2mxqbYmTZNaoezYERbeNet46OmQQjB2HLMtAqmtitxMzoOXmI33datFV5OkQocV NbK8YuGYZIh4LwDwcahKb8d7bsw+wGoBAqlR5xc/DCJLs0tMx6zFSehrrDetX6RDEKhV Y0QnFC2HwVRX3mOTUfNrfh22gJswpAjwRtpB64MzBzn5rBa1rlzEHsMz52abXk5ap0al 8mPE3TmT2JRj3cbnhhfJSG0ct8eRYxovayWbfbaVlO/owaV2ors7emXMD0/+5OfLVdk+ uPPLDVVfFX6zoy4xU2k8KdPY+dxueh/TxmSWBbo1F8n+tTSDq4QC8RREMgcXxDjFnDEy 8UOg== X-Gm-Message-State: AOJu0YxZf8aNUCJEye57OWZ+4TpCgx7weBHGGxM3iSeAFeoUKDkcdizx Cbo5MMhM5RSYDIcPAaKKNrg7SqYyc7quwfMqjbNXpJTEPNAOsT8jdCUakTk82qKk3EbYE3XQePV 2mJT1epi5Wrds3LAfNll+bnwCah+4vXbOoK9yYsnlUUrn/n7yDqP6 X-Gm-Gg: ASbGnctx0L5HzyWxcYtqtXGultlZqOujGv7etsQSHNRvwXzt8CyaUOU7CkAmaHOJC96 makLKJ0acDFZjbDCV4SCPsVaZFvfwv+fVAHxEH4b3gHe0Clytae1XUVbxRUE93rLnJmGkxOjwh+ vhdit39UQNzebzXnLVNaL7nDH4vTa5HoxOELKLTg2IjxFPyc3XWaW1aHs3q+Wn+dqi1YyfODM8L 0BqLBXy/OgEkMY0qyyQ5LpKvemkwn8SsFUB7YRUv1CJFtNYbL+6VCJu6taWPRFRmTpqRZI2ZAz7 CRw04wEwfKLdOJpVLSVwpZ4/kAk6GHd1W9G8I1thqzI+H2CHWQDJxpnJY5Pet0lh4UOMnh6i4oj 0uT+ekqBp X-Google-Smtp-Source: AGHT+IE5c8/K2XSznSll/hezm6Er1FTiLcbAsPqbba1LIrrfXiePFsGdgdHlPVijklGRBTNOk41Oy++Irrr6 X-Received: by 2002:a17:902:ce91:b0:294:fcae:826 with SMTP id d9443c01a7336-2986a75e7c4mr65117195ad.59.1763166454638; Fri, 14 Nov 2025 16:27:34 -0800 (PST) Received: from postal.iol.unh.edu (postal.iol.unh.edu. [2606:4100:3880:1234::84]) by smtp-relay.gmail.com with ESMTPS id d9443c01a7336-2985c245e1esm7292075ad.23.2025.11.14.16.27.34 (version=TLS1_2 cipher=ECDHE-ECDSA-AES128-GCM-SHA256 bits=128/128); Fri, 14 Nov 2025 16:27:34 -0800 (PST) X-Relaying-Domain: iol.unh.edu Date: Fri, 14 Nov 2025 16:27:34 -0800 (PST) Message-ID: <6917c8f6.170a0220.1be898.405fSMTPIN_ADDED_MISSING@mx.google.com> Received: from [172.21.0.5] (unknown [172.18.0.240]) by postal.iol.unh.edu (Postfix) with ESMTP id 19E856051830; Fri, 14 Nov 2025 19:27:34 -0500 (EST) Subject: |SUCCESS| [GIT MASTER] 9784db2c5af1eecd02fc21132b59b5b266039b87 From: dpdklab@iol.unh.edu To: Test Report Cc: dpdk-test-reports@iol.unh.edu, Xueming Li , Christian Ehrhardt , Kevin Traynor , Luca Boccassi Content-Type: text/plain X-BeenThere: test-report@dpdk.org X-Mailman-Version: 2.1.29 Precedence: list List-Id: automatic DPDK test reports List-Unsubscribe: , List-Archive: List-Post: List-Help: List-Subscribe: , Errors-To: test-report-bounces@dpdk.org _Testing PASS_ Branch: tags/v22.11 9784db2c5af1eecd02fc21132b59b5b266039b87 --> testing pass Upstream job id: Generic-DPDK-Compile-Meson#444415 Test environment and result as below: +------------------------------+--------------------+ | Environment | dpdk_meson_compile | +==============================+====================+ | CentOS Stream 10 | PASS | +------------------------------+--------------------+ | CentOS Stream 9 | PASS | +------------------------------+--------------------+ | Red Hat Enterprise Linux 9.5 | PASS | +------------------------------+--------------------+ | Ubuntu 20.04 | PASS | +------------------------------+--------------------+ | Debian GNU/Linux 12 | PASS | +------------------------------+--------------------+ | Fedora Linux 42 | PASS | +------------------------------+--------------------+ | Ubuntu 22.04 | PASS | +------------------------------+--------------------+ | Ubuntu 24.04 | PASS | +------------------------------+--------------------+ CentOS Stream 10 Kernel: 5.4 Compiler: gcc gcc (GCC) 14.2.1 20250110 (Red Hat 14.2.1-8) CentOS Stream 9 Kernel: 5.4 Compiler: gcc gcc (GCC) 11.5.0 20240719 (Red Hat 11.5.0-11) Red Hat Enterprise Linux 9.5 Kernel: 5.4 Compiler: gcc gcc (GCC) 11.5.0 20240719 (Red Hat 11.5.0-2) Ubuntu 20.04 Kernel: 5.15 Compiler: aarch64-linux-gnu-gcc gcc (Ubuntu 9.4.0-1ubuntu1~20.04.2) 9.4.0 Debian GNU/Linux 12 Kernel: 5.4 Compiler: gcc gcc (Debian 12.2.0-14+deb12u1) 12.2.0 Fedora Linux 42 Kernel: 5.4 Compiler: gcc gcc (GCC) 15.2.1 20250808 (Red Hat 15.2.1-1) Ubuntu 22.04 Kernel: 5.4 Compiler: gcc gcc (Ubuntu 11.4.0-1ubuntu1~22.04) 11.4.0 Ubuntu 24.04 Kernel: 5.4 Compiler: gcc gcc (Ubuntu 13.3.0-6ubuntu2~24.04) 13.3.0 To view detailed results, visit: https://lab.dpdk.org/results/dashboard/tarballs/35592/ UNH-IOL DPDK Community Lab To manage your email subscriptions, visit: https://lab.dpdk.org/results/dashboard/preferences/subscriptions/