From mboxrd@z Thu Jan 1 00:00:00 1970 Return-Path: Received: from mails.dpdk.org (mails.dpdk.org [217.70.189.124]) by inbox.dpdk.org (Postfix) with ESMTP id 21DAA48B0E for ; Sat, 15 Nov 2025 01:30:05 +0100 (CET) Received: from mails.dpdk.org (localhost [127.0.0.1]) by mails.dpdk.org (Postfix) with ESMTP id F0A6D400D6; Sat, 15 Nov 2025 01:30:04 +0100 (CET) Received: from mail-qv1-f97.google.com (mail-qv1-f97.google.com [209.85.219.97]) by mails.dpdk.org (Postfix) with ESMTP id 369BA400D6 for ; Sat, 15 Nov 2025 01:30:04 +0100 (CET) Received: by mail-qv1-f97.google.com with SMTP id 6a1803df08f44-87c13813464so35112576d6.1 for ; Fri, 14 Nov 2025 16:30:04 -0800 (PST) DKIM-Signature: v=1; a=rsa-sha256; c=relaxed/relaxed; d=iol.unh.edu; s=unh-iol; t=1763166603; x=1763771403; darn=dpdk.org; h=references:in-reply-to:cc:to:from:subject:message-id:date:from:to :cc:subject:date:message-id:reply-to; bh=fr5frAwMxsmyPQLJ3dzHNSfcr4BCn+ULDWOfNyJVEHY=; b=Llif2qGyvYNhrGqYkxfADZpwKw6gNsfeW1aHrSSfxKH8vlGLp+zbvMtVzdAhlsjNum VB2J418C2RWe8Za37YneZCHf/jJCnsoD34jBoEnTEb4MxNp5xjmnJ7I9nECpp8NbMb+9 19A66NSYS094tjj0XW8mIVSE22U+WhPZv+Ug0= X-Google-DKIM-Signature: v=1; a=rsa-sha256; c=relaxed/relaxed; d=1e100.net; s=20230601; t=1763166603; x=1763771403; h=references:in-reply-to:cc:to:from:subject:message-id:date:x-gm-gg :x-gm-message-state:from:to:cc:subject:date:message-id:reply-to; bh=fr5frAwMxsmyPQLJ3dzHNSfcr4BCn+ULDWOfNyJVEHY=; b=JhOsAyXf5LVlmuakW4Ohh0E1Tkbh1+bUDGIXhcb8b0ObDKzkNEgTiN9zDHwcpsqvbL I4USv4DF96Dj//jFVvNi6UbDMYrZASDjTHVw2psIzKZr3JQ1ErhMFqJh3vg+MY8puro/ 2NxhxyvmwXcQaAPzsmcOvwU0643LUEOCr/JxBQ/mGp1b5CMz3UsIVqzMK8e4o5vdyKvv y9HAbjkcyTc/etEdMOrS6cmc8DfMhmxw6fiBkzMPljCLyleewbo/sEl8PhbuKP9df7Bl 0mifQmU07+J/LuFHoadkN8IgpzPADKY0AOsVEu59Tq3n4kYprXqMnFnm+uS8T8rEl0FN 5PVA== X-Gm-Message-State: AOJu0YwyAMWuN0+tS9TEdApZkSIAxiR2UM0AXU7aohwRsQOOt1KwjN9D tcBv1SZq5i4Iu7cgzEqWWENFp3s3CdKxddP07715UpZY9KAi9+ijZIjHM9umGDmvn32m4BD2fzG LVQ43KwcOBexGRpGIfkBp/B+mZqml47ZISWQg/uqmlM8b X-Gm-Gg: ASbGncuoPylWbimrY6jm+DTSHIvQ66vrot5znwYqtne7qB/WnwhUQUd5HEQy41dU6vG R3b685w2+klaAe87oCwzuixBEtjUW1RuwiQUwDb1RJTF/vnPGBsGRP+YGrYM8Lmx9tkMTpEReFU nST0wGqHPYa0n8BDruTo0IfOOs9zdw/++G8X2knW2sjGlEmPXaqGx7IzPTRHoVKQ9sMqUarE3W0 0wTq0UoI4eSzUvk3qB9cQRO6wx7zFJtHfqYF4e6GJ6ajpqNCfrggPXwjfdnd13R+AZJyIVRlPcq 1c4Jow11ZXnBThPjtCWXR7TcJeJdddDmNqE7UI7vQl9DOFQcS39LPMkcArmcyn8OPN0Zz3EW0rl eXqokK8K7Le9zVzi211C0AICX38zsQlk= X-Google-Smtp-Source: AGHT+IEB0DMljoezye7+VF0lwVQYsX2aS5h2x7llpQEjkC5UWVQPfyHO+FIyqphomCP+OR+ozcLwXAFPyw0q X-Received: by 2002:ad4:5c64:0:b0:87c:22eb:36b9 with SMTP id 6a1803df08f44-8829259069amr71847696d6.9.1763166603452; Fri, 14 Nov 2025 16:30:03 -0800 (PST) Received: from postal.iol.unh.edu (postal.iol.unh.edu. [132.177.123.84]) by smtp-relay.gmail.com with ESMTPS id 6a1803df08f44-882862b7fdbsm7539806d6.7.2025.11.14.16.30.03 (version=TLS1_2 cipher=ECDHE-ECDSA-AES128-GCM-SHA256 bits=128/128); Fri, 14 Nov 2025 16:30:03 -0800 (PST) X-Relaying-Domain: iol.unh.edu Date: Fri, 14 Nov 2025 16:30:03 -0800 (PST) Message-ID: <6917c98b.050a0220.3be1fe.4858SMTPIN_ADDED_MISSING@mx.google.com> Received: from [172.21.0.2] (unknown [172.18.0.240]) by postal.iol.unh.edu (Postfix) with ESMTP id 1E97D6051830; Fri, 14 Nov 2025 19:30:03 -0500 (EST) Subject: |SUCCESS| pw158816 [PATCH] net/e1000: add check for filter mask rang From: dpdklab@iol.unh.edu To: Test Report Cc: dpdk-test-reports@iol.unh.edu, Bruce Richardson In-Reply-To: <20251114182131.1296580-1-stephen@networkplumber.org> References: <20251114182131.1296580-1-stephen@networkplumber.org> Content-Type: text/plain X-BeenThere: test-report@dpdk.org X-Mailman-Version: 2.1.29 Precedence: list List-Id: automatic DPDK test reports List-Unsubscribe: , List-Archive: List-Post: List-Help: List-Subscribe: , Errors-To: test-report-bounces@dpdk.org Test-Label: iol-compile-amd64-testing Test-Status: SUCCESS http://dpdk.org/patch/158816 _Testing PASS_ Submitter: Stephen Hemminger Date: Friday, November 14 2025 18:21:31 DPDK git baseline: Repo:dpdk-next-net-intel Branch: master CommitID:e5357d609907d504f4705e4899f3dad43cb4b70f 158816 --> testing pass Upstream job id: Generic-DPDK-Compile-Meson#444494 Test environment and result as below: +------------------+--------------------+ | Environment | dpdk_meson_compile | +==================+====================+ | Ubuntu 20.04 | PASS | +------------------+--------------------+ | FreeBSD 14.2 | PASS | +------------------+--------------------+ | CentOS Stream 10 | PASS | +------------------+--------------------+ Ubuntu 20.04 Kernel: 4.19 Compiler: gcc gcc (Ubuntu 9.4.0-1ubuntu1~20.04.2) 9.4.0 FreeBSD 14.2 Kernel: 14.2-RELEASE Compiler: clang 18.1.6 CentOS Stream 10 Kernel: 5.15 Compiler: gcc gcc (GCC) 14.2.1 20250110 (Red Hat 14.2.1-8) To view detailed results, visit: https://lab.dpdk.org/results/dashboard/patchsets/34598/ UNH-IOL DPDK Community Lab To manage your email subscriptions, visit: https://lab.dpdk.org/results/dashboard/preferences/subscriptions/