From mboxrd@z Thu Jan 1 00:00:00 1970 Return-Path: Received: from mails.dpdk.org (mails.dpdk.org [217.70.189.124]) by inbox.dpdk.org (Postfix) with ESMTP id B9AE048B0E for ; Sat, 15 Nov 2025 01:36:54 +0100 (CET) Received: from mails.dpdk.org (localhost [127.0.0.1]) by mails.dpdk.org (Postfix) with ESMTP id 9CF95400D6; Sat, 15 Nov 2025 01:36:54 +0100 (CET) Received: from mail-ot1-f98.google.com (mail-ot1-f98.google.com [209.85.210.98]) by mails.dpdk.org (Postfix) with ESMTP id 595DF400D6 for ; Sat, 15 Nov 2025 01:36:53 +0100 (CET) Received: by mail-ot1-f98.google.com with SMTP id 46e09a7af769-7c6d13986f8so1857539a34.0 for ; Fri, 14 Nov 2025 16:36:53 -0800 (PST) DKIM-Signature: v=1; a=rsa-sha256; c=relaxed/relaxed; d=iol.unh.edu; s=unh-iol; t=1763167012; x=1763771812; darn=dpdk.org; h=references:in-reply-to:cc:to:from:subject:message-id:date:from:to :cc:subject:date:message-id:reply-to; bh=t84zXxbLsagKD4T5TBWiQRDAjKrnDSGopHJEDov6tFc=; b=Lks21U1M+snycmABxp18XnTEJtQEyaJgYUIQfwz+/Ie9wCkkO+RKGtADWlOhabVOOn uaiU9/MtYT1vkMCJEypKqzU8RuHGuB1dj+gBEq/6iC+AUgPfcrSYtM48yWhk6eev+y9u zvIEzNYl1WNUmG94hhYBQwWvu3VmQBeLTMK0w= X-Google-DKIM-Signature: v=1; a=rsa-sha256; c=relaxed/relaxed; d=1e100.net; s=20230601; t=1763167012; x=1763771812; h=references:in-reply-to:cc:to:from:subject:message-id:date:x-gm-gg :x-gm-message-state:from:to:cc:subject:date:message-id:reply-to; bh=t84zXxbLsagKD4T5TBWiQRDAjKrnDSGopHJEDov6tFc=; b=c91L/V+IkAdx0lzmdCXIDXQRYbtiajE427iqfhwdwMJqlcvFoPKUrXqp9Nw23cWUru QbCj6JIcOsladUS7ZNXmPXG9PFqSPSEjnr6HGM3vdeUnPs4i3ySucNGxstzGTrz4Zjq6 fqveA0BmjEcdyt4TVgOevcfFQ+VPAJfwdQXv+p6K/Bwxd8Qf1K06W7X2ucREhUcwLDkW 3dsmSMGA90Hwhuc+sOGdJYwNwoMxe0AWOv2EvPUJJ7OJ+mmqIOn2DM8OEuVNC9OVPkGu Y6cSLsa9pXOPquwF4KZiGEG/dpvOJDU+CoFuS0E3OPTBJ01yKiuwNyDU0sUeMaD2r1k5 uW2Q== X-Gm-Message-State: AOJu0Yw1BME16IqtBbJDbI/WWfJeP98n23XjtpjS2SA9axNuZ2o9YsK6 ITvQ4ZM50LqW4wtMcEm49eWBKBjDzl629w+gVUizkULX6dhKSPuZQ1o8wusrrU6JxOvAotIC50F pVjJjwPP1q6cCQeNbAnwUWfL3j9ee8G3eDeOfIKGsHI4R X-Gm-Gg: ASbGnctjmLMrpFEYjHX3/cTYfC5S5Lk8YZm+BGkDBcRYKEGe+q8y8t3GHgglZM+xFYb eOomu9h2vZo/3dgP7sKfPDQJHo5e94/hYrR6iaEXD+IAySdu+nswItyKMm16Gj+PLoBlLw9ubTD 36J6eexftDp5dutbu/2aUn8we55eXOdDe4PFUKXhMWuo3xiE6C19ke/yZtHLGs1sTv9g0Xb3Cky uYcXGzA+6m6ZdAzEu6CH7LalXRsZlCHYguCY0q6tef98BefZ2kEj4XSl2IZP04A4RQobm5TYTNa deav+oE93hrdQuxgJiwFMSa0aRMe+j5ZFvTmBJxpDoDSTcdjwpDRQhQVovGtkXuxxorQu1haaf4 deetePQoTdwWCf0T4jyHbL36/OxW2iFM= X-Google-Smtp-Source: AGHT+IEWW3EeVMfGy8q8olqKgfuIQYQO/Xd5JBEQcknpnGFXCiCh3PwHcPn1HODNf7RrrN+9zKEjEphc3m4B X-Received: by 2002:a9d:7f8a:0:b0:785:6792:4b3 with SMTP id 46e09a7af769-7c7382632c6mr4402052a34.10.1763167012423; Fri, 14 Nov 2025 16:36:52 -0800 (PST) Received: from postal.iol.unh.edu (postal.iol.unh.edu. [132.177.123.84]) by smtp-relay.gmail.com with ESMTPS id 46e09a7af769-7c750dfc23csm23825a34.5.2025.11.14.16.36.52 (version=TLS1_2 cipher=ECDHE-ECDSA-AES128-GCM-SHA256 bits=128/128); Fri, 14 Nov 2025 16:36:52 -0800 (PST) X-Relaying-Domain: iol.unh.edu Date: Fri, 14 Nov 2025 16:36:52 -0800 (PST) Message-ID: <6917cb24.050a0220.2e45c7.1367SMTPIN_ADDED_MISSING@mx.google.com> Received: from [172.21.0.3] (unknown [172.18.0.240]) by postal.iol.unh.edu (Postfix) with ESMTP id DF52060003E7; Fri, 14 Nov 2025 19:36:51 -0500 (EST) Subject: |SUCCESS| pw158777-158778 [PATCH] [2/2] net/iavf: check Rx timestamp From: dpdklab@iol.unh.edu To: Test Report Cc: dpdk-test-reports@iol.unh.edu, Bruce Richardson In-Reply-To: <20251113-jk-dpdk-iavf-rx-timestamping-improvements-v1-2-3d9a0168087b@intel.com> References: <20251113-jk-dpdk-iavf-rx-timestamping-improvements-v1-2-3d9a0168087b@intel.com> Content-Type: text/plain X-BeenThere: test-report@dpdk.org X-Mailman-Version: 2.1.29 Precedence: list List-Id: automatic DPDK test reports List-Unsubscribe: , List-Archive: List-Post: List-Help: List-Subscribe: , Errors-To: test-report-bounces@dpdk.org Test-Label: iol-unit-amd64-testing Test-Status: SUCCESS http://dpdk.org/patch/158778 _Testing PASS_ Submitter: Jacob Keller Date: Thursday, November 13 2025 21:33:45 DPDK git baseline: Repo:dpdk-next-net-intel Branch: master CommitID:e5357d609907d504f4705e4899f3dad43cb4b70f 158777-158778 --> testing pass Upstream job id: Generic-VM-Unit-Test-DPDK#32561 Test environment and result as below: +-------------------------------+----------------+ | Environment | dpdk_unit_test | +===============================+================+ | CentOS Stream 9 | PASS | +-------------------------------+----------------+ | Debian GNU/Linux 12 | PASS | +-------------------------------+----------------+ | CentOS Stream 10 | PASS | +-------------------------------+----------------+ | Fedora Linux 40 | PASS | +-------------------------------+----------------+ | Fedora Linux 41 | PASS | +-------------------------------+----------------+ | Fedora Linux 42 | PASS | +-------------------------------+----------------+ | Ubuntu 20.04 | PASS | +-------------------------------+----------------+ | Red Hat Enterprise Linux 8.10 | PASS | +-------------------------------+----------------+ | Red Hat Enterprise Linux 9.5 | PASS | +-------------------------------+----------------+ | Ubuntu 22.04 | PASS | +-------------------------------+----------------+ | Ubuntu 24.04 | PASS | +-------------------------------+----------------+ | Windows Server 2022 | PASS | +-------------------------------+----------------+ CentOS Stream 9 Kernel: 5.15 Compiler: gcc gcc (GCC) 11.5.0 20240719 (Red Hat 11.5.0-11) Debian GNU/Linux 12 Kernel: 5.15 Compiler: gcc gcc (Debian 12.2.0-14+deb12u1) 12.2.0 CentOS Stream 10 Kernel: 5.15 Compiler: gcc gcc (GCC) 14.2.1 20250110 (Red Hat 14.2.1-8) Fedora Linux 40 Kernel: 5.15 Compiler: gcc gcc (GCC) 14.2.1 20240912 (Red Hat 14.2.1-3) Fedora Linux 41 Kernel: 5.15 Compiler: gcc gcc (GCC) 14.3.1 20250523 (Red Hat 14.3.1-1) Fedora Linux 42 Kernel: 5.15 Compiler: gcc gcc (GCC) 15.2.1 20250808 (Red Hat 15.2.1-1) Ubuntu 20.04 Kernel: 5.15 Compiler: gcc gcc (Ubuntu 9.4.0-1ubuntu1~20.04.2) 9.4.0 Red Hat Enterprise Linux 8.10 Kernel: 5.15 Compiler: gcc gcc (GCC) 8.5.0 20210514 (Red Hat 8.5.0-22) Red Hat Enterprise Linux 9.5 Kernel: 5.15 Compiler: gcc gcc (GCC) 11.5.0 20240719 (Red Hat 11.5.0-2) Ubuntu 22.04 Kernel: 5.15 Compiler: gcc gcc (Ubuntu 11.4.0-1ubuntu1~22.04) 11.4.0 Ubuntu 24.04 Kernel: 5.15 Compiler: gcc gcc (Ubuntu 13.3.0-6ubuntu2~24.04) 13.3.0 Windows Server 2022 Kernel: 10.0.20348.2031 Compiler: clang 15.0.7, gcc 14.1.0 (MinGW), and MSVC VS 19.39.33521 To view detailed results, visit: https://lab.dpdk.org/results/dashboard/patchsets/34584/ UNH-IOL DPDK Community Lab To manage your email subscriptions, visit: https://lab.dpdk.org/results/dashboard/preferences/subscriptions/