From mboxrd@z Thu Jan 1 00:00:00 1970 Return-Path: Received: from mails.dpdk.org (mails.dpdk.org [217.70.189.124]) by inbox.dpdk.org (Postfix) with ESMTP id 2AF2B48B0E for ; Sat, 15 Nov 2025 01:41:00 +0100 (CET) Received: from mails.dpdk.org (localhost [127.0.0.1]) by mails.dpdk.org (Postfix) with ESMTP id 0F26D400D6; Sat, 15 Nov 2025 01:41:00 +0100 (CET) Received: from mail-yw1-f226.google.com (mail-yw1-f226.google.com [209.85.128.226]) by mails.dpdk.org (Postfix) with ESMTP id B16A5400D6 for ; Sat, 15 Nov 2025 01:40:58 +0100 (CET) Received: by mail-yw1-f226.google.com with SMTP id 00721157ae682-7881b67dc3aso43558507b3.1 for ; Fri, 14 Nov 2025 16:40:58 -0800 (PST) DKIM-Signature: v=1; a=rsa-sha256; c=relaxed/relaxed; d=iol.unh.edu; s=unh-iol; t=1763167258; x=1763772058; darn=dpdk.org; h=references:in-reply-to:cc:to:from:subject:message-id:date:from:to :cc:subject:date:message-id:reply-to; bh=4YFDWxP201KgnTh3dDZotZFVfRMPw3qIxyddWczJ0aM=; b=fe7KGohduORA6pXZB2ytvMlz9lR8vB+WhMf0kHS4T+ulORxWMjtcbNKBQA6/p80MMF wJHdixmDRRXa258ZKfuuYLsh2mprZe+xrG9URDsPxAFOK3qNHeSJiPhZnHelDMPXnPHL fie6YPgYQlBUopfNedrxOQ68gRyQFTZK/hDCE= X-Google-DKIM-Signature: v=1; a=rsa-sha256; c=relaxed/relaxed; d=1e100.net; s=20230601; t=1763167258; x=1763772058; h=references:in-reply-to:cc:to:from:subject:message-id:date:x-gm-gg :x-gm-message-state:from:to:cc:subject:date:message-id:reply-to; bh=4YFDWxP201KgnTh3dDZotZFVfRMPw3qIxyddWczJ0aM=; b=od9aZQIx5u5ex7yLnSURcLjpGhIQ7xVBNPO4y/8GUyK1RoCo0kMTuTthCOX/qsnH7I 3428ZiU4iCNI1MxwVPbmPsAZjzhdib3tScYXtG6/ArVaf5LtNiVzMOiENVZjdgvdFhZ+ c4vHudxSSXw8PDeppzqFHD9RE6qra6VHLZ9mvJnfBgcDJylcULVfJUZMufbUVS8IcMx4 IJxbqA47A6c/9LqbsftFOiBuPkmbdBdpgJg0YHZptTjD/Wt8AsuTrr03/pHjFMqydRv9 u4uHJK6xdXrA93wRDNA9/LGCEDDSQRL8mkKpk4EGAEAUwvWyjz1o0Tnoa0Io1AkMzmyc AcEQ== X-Gm-Message-State: AOJu0Ywj6bFRU5EZbkw7jIDp0L/Z6GERsRjOCb5BseJJj8NrhWx2WHpB 6VRWLiCyBflv43IP24dgx2aY3Cth7hyO1RVJg4IbyjcG0ScVxNeZSnfLlIvBDwrYelo1gUtecb9 xIsFVjhAMUImwWT24J/48cB+4bbv0wfKbjKqeTJMkzzdL X-Gm-Gg: ASbGncsb7yGEiRTfhV1aJWzrF12NSXM8s4OmmAtY3sSpfA4UeE8YtuSpXhyRjn65YBm hF2j7MwJV3Cf4I1i5AYRKp89QolKmTxSx5j/p1/Fqro2QUiZCECIpRwcpGzGKvu3URvYYHi0uCs 87iQaiDzwS/RguNc3Fxyv1QGrSUSQPerpb0b9df586bYU05WZkTRx29etqlSHZ+t4dnbHJlwUaf x4Dum1Pp4fTmBZB703brTJYI7FAnfbK1lEtdl/lR8SAu0WjnpNt+0BloX/IEcRxaeDABPvZY3p1 00wMqL9huyDRhFKthYGqQ9VT/mBnk+2DoUT+r1KQ0c35C8NgbTlnPkhP+rhk1J+HTKdpGD/RnEd oDTu+wF2jcC7HZAuLFrLxW726cEtVAuQ= X-Google-Smtp-Source: AGHT+IGaQR6UHAX05vJLF6Hl/FG2ta054zI35kTPKSA77I3QAcjl4Z5z0b3st/WG2vs+0hGLrp5xj7J6EHfT X-Received: by 2002:a05:690c:74c6:b0:786:5d93:4337 with SMTP id 00721157ae682-7892961f437mr50902477b3.19.1763167257914; Fri, 14 Nov 2025 16:40:57 -0800 (PST) Received: from postal.iol.unh.edu (postal.iol.unh.edu. [132.177.123.84]) by smtp-relay.gmail.com with ESMTPS id 00721157ae682-78821f6687esm3283347b3.16.2025.11.14.16.40.57 (version=TLS1_2 cipher=ECDHE-ECDSA-AES128-GCM-SHA256 bits=128/128); Fri, 14 Nov 2025 16:40:57 -0800 (PST) X-Relaying-Domain: iol.unh.edu Date: Fri, 14 Nov 2025 16:40:57 -0800 (PST) Message-ID: <6917cc19.050a0220.2d83cc.0936SMTPIN_ADDED_MISSING@mx.google.com> Received: from [172.21.0.3] (unknown [172.18.0.240]) by postal.iol.unh.edu (Postfix) with ESMTP id 599906051830; Fri, 14 Nov 2025 19:40:57 -0500 (EST) Subject: |SUCCESS| pw158815 [PATCH] net/qede: remove unused file From: dpdklab@iol.unh.edu To: Test Report Cc: dpdk-test-reports@iol.unh.edu In-Reply-To: <20251114180251.1233757-1-stephen@networkplumber.org> References: <20251114180251.1233757-1-stephen@networkplumber.org> Content-Type: text/plain X-BeenThere: test-report@dpdk.org X-Mailman-Version: 2.1.29 Precedence: list List-Id: automatic DPDK test reports List-Unsubscribe: , List-Archive: List-Post: List-Help: List-Subscribe: , Errors-To: test-report-bounces@dpdk.org Test-Label: iol-compile-amd64-testing Test-Status: SUCCESS http://dpdk.org/patch/158815 _Testing PASS_ Submitter: Stephen Hemminger Date: Friday, November 14 2025 18:02:51 DPDK git baseline: Repo:dpdk-next-net-mrvl Branch: master CommitID:db4c93a4c6e088346c7e6d7e744178295b568461 158815 --> testing pass Upstream job id: Generic-DPDK-Compile-Meson#444527 Test environment and result as below: +-------------------------------+--------------------+ | Environment | dpdk_meson_compile | +===============================+====================+ | Ubuntu 20.04 | PASS | +-------------------------------+--------------------+ | FreeBSD 14.2 | PASS | +-------------------------------+--------------------+ | Red Hat Enterprise Linux 8.10 | PASS | +-------------------------------+--------------------+ Ubuntu 20.04 Kernel: 4.19 Compiler: gcc gcc (Ubuntu 9.4.0-1ubuntu1~20.04.2) 9.4.0 FreeBSD 14.2 Kernel: 14.2-RELEASE Compiler: clang 18.1.6 Red Hat Enterprise Linux 8.10 Kernel: 5.15 Compiler: gcc gcc (GCC) 8.5.0 20210514 (Red Hat 8.5.0-22) To view detailed results, visit: https://lab.dpdk.org/results/dashboard/patchsets/34597/ UNH-IOL DPDK Community Lab To manage your email subscriptions, visit: https://lab.dpdk.org/results/dashboard/preferences/subscriptions/