From mboxrd@z Thu Jan 1 00:00:00 1970 Return-Path: Received: from mails.dpdk.org (mails.dpdk.org [217.70.189.124]) by inbox.dpdk.org (Postfix) with ESMTP id AE72648B11 for ; Sat, 15 Nov 2025 02:15:10 +0100 (CET) Received: from mails.dpdk.org (localhost [127.0.0.1]) by mails.dpdk.org (Postfix) with ESMTP id 8D9FB400D6; Sat, 15 Nov 2025 02:15:10 +0100 (CET) Received: from mail-pl1-f225.google.com (mail-pl1-f225.google.com [209.85.214.225]) by mails.dpdk.org (Postfix) with ESMTP id 20A93400D6 for ; Sat, 15 Nov 2025 02:15:10 +0100 (CET) Received: by mail-pl1-f225.google.com with SMTP id d9443c01a7336-2953ad5517dso30231435ad.0 for ; Fri, 14 Nov 2025 17:15:10 -0800 (PST) DKIM-Signature: v=1; a=rsa-sha256; c=relaxed/relaxed; d=iol.unh.edu; s=unh-iol; t=1763169309; x=1763774109; darn=dpdk.org; h=cc:to:from:subject:message-id:date:from:to:cc:subject:date :message-id:reply-to; bh=MS9H/THSHBspK6W7B0cy5T5eIWZtqSeCsKD4R0vyaCY=; b=GhKkVk8NKnpV2rmCQf1yhcFtoMa/X8GCuwdkT4/tX+IGYIv6i+bRXmucoF6ZnXoqky NfWXhhYyURePeKtVA9eozoxvwPPXANrBpLeDIOpjytoW67JV9Hixcy81iELmLKRlaHvq tRNgsvEqHh8nC1hb92qRCw+K660LEzkGRYmeE= X-Google-DKIM-Signature: v=1; a=rsa-sha256; c=relaxed/relaxed; d=1e100.net; s=20230601; t=1763169309; x=1763774109; h=cc:to:from:subject:message-id:date:x-gm-gg:x-gm-message-state:from :to:cc:subject:date:message-id:reply-to; bh=MS9H/THSHBspK6W7B0cy5T5eIWZtqSeCsKD4R0vyaCY=; b=rldNjnUSe8yHaZgAYIklfe9kaI37jSJMiQ5m04Gwg916p1g2zZKcR44YYLBlKEGnQV PcvkXkbI0bGsHedSUI+uFwN62/yPqYhRni31XGV+62EMpE/Ht3NWBxLY/cv7JOsRmozI kJBcmpD2x46PnadLAB8ufUTcEr4Igq/Zo3xiqu+n9TrJdBIBpYZ8folQSlzZvjdQhy5j RaXx6xN+GYHPzlnnucLvlXs1NPTO3hnTtDHUbB+yvNJm2Lv6q0qyP+mharIiH5P/JApj /d45CjIHNVNSGewGhHpwuYg3JO4TGK6dg/A6yxw2Tm2KCrJt1X5vGwi34zQQCXl1N9wK TNuA== X-Gm-Message-State: AOJu0Yxr4Ulp9nWplwBDrnL4SCGXjjv1YT0hnu3/Krtuo0z53isUoLdT is+jCNhlJU0mnQqKqloJ/+TcqAkvYb48BE4SYJaYpkuVlgFXhur32dAyGfTSrZ7Qt5IgCKnUwtR IHvo8PZ/ni9gKiSKRjFUYYttUlsUyK6uW/VHj7gmDba2E9lKT3WF6XDmquviC X-Gm-Gg: ASbGncveQa85eaT8cT38Ed3FomhI3OLgOBhCXE2zKQZ/hizHTYJ7Ju5yomMBoRhpqYX BrHio5bjf+L8Hv7AITE56uskBxOkiUwmhTaAJnKri8C76kR+TbcpnX67yg3lIb3wMTK1ke37VNe ScFueXU9PRRq7MSrbBZaSba7ij1K9a6XSyXkCpKuqo0ctbqEG7KNAOhTN67a7SNL1JqKJIMdK1A InLovi+b3RIC00Mr/Hqt74FPnWb3drjJiRnVbFInkAVWPLMxz8RsO429MQjphc6sZs4RhTq/Isi sSJkdIaO0IfEqXkO2e1HjQJdRK6YZ8eQ9SmBLx24geD3P6Dss2PWz0ju9S96/k8kSGFQ2oLSDIK u4WovLoAs X-Google-Smtp-Source: AGHT+IEazC8M/eqvFyfX9d7om7TZKY/W1w5nqRJg029hOPQOvTULnP2Kq0I8tl19qtCJhDrC//EMMZIPkUnI X-Received: by 2002:a17:903:252:b0:246:e1b6:f9b0 with SMTP id d9443c01a7336-2986a6cfd38mr61223875ad.18.1763169309119; Fri, 14 Nov 2025 17:15:09 -0800 (PST) Received: from postal.iol.unh.edu (postal.iol.unh.edu. [2606:4100:3880:1234::84]) by smtp-relay.gmail.com with ESMTPS id d9443c01a7336-298629cf1d3sm5687975ad.49.2025.11.14.17.15.09 (version=TLS1_2 cipher=ECDHE-ECDSA-AES128-GCM-SHA256 bits=128/128); Fri, 14 Nov 2025 17:15:09 -0800 (PST) X-Relaying-Domain: iol.unh.edu Date: Fri, 14 Nov 2025 17:15:09 -0800 (PST) Message-ID: <6917d41d.170a0220.2d0fd0.bc37SMTPIN_ADDED_MISSING@mx.google.com> Received: from [172.21.0.3] (unknown [172.18.0.240]) by postal.iol.unh.edu (Postfix) with ESMTP id 573116051830; Fri, 14 Nov 2025 20:15:08 -0500 (EST) Subject: |SUCCESS| [GIT MASTER] be0112878b4fc3a1b918370ed2fe615c52039d77 From: dpdklab@iol.unh.edu To: Test Report Cc: dpdk-test-reports@iol.unh.edu Content-Type: text/plain X-BeenThere: test-report@dpdk.org X-Mailman-Version: 2.1.29 Precedence: list List-Id: automatic DPDK test reports List-Unsubscribe: , List-Archive: List-Post: List-Help: List-Subscribe: , Errors-To: test-report-bounces@dpdk.org _Testing PASS_ Branch: dpdk be0112878b4fc3a1b918370ed2fe615c52039d77 --> testing pass Upstream job id: Generic-VM-Unit-Test-DPDK#32562 Test environment and result as below: +-------------------------------+----------------+ | Environment | dpdk_unit_test | +===============================+================+ | CentOS Stream 10 | PASS | +-------------------------------+----------------+ | Arch Linux 20250613.0.365270 | PASS | +-------------------------------+----------------+ | Debian GNU/Linux 12 | PASS | +-------------------------------+----------------+ | Fedora Linux 41 | PASS | +-------------------------------+----------------+ | Fedora Linux 40 | PASS | +-------------------------------+----------------+ | CentOS Stream 9 | PASS | +-------------------------------+----------------+ | Red Hat Enterprise Linux 9.5 | PASS | +-------------------------------+----------------+ | Fedora Linux 42 | PASS | +-------------------------------+----------------+ | Red Hat Enterprise Linux 8.10 | PASS | +-------------------------------+----------------+ | Ubuntu 22.04 | PASS | +-------------------------------+----------------+ | Ubuntu 24.04 | PASS | +-------------------------------+----------------+ | Ubuntu 20.04 | PASS | +-------------------------------+----------------+ | Windows Server 2022 | PASS | +-------------------------------+----------------+ CentOS Stream 10 Kernel: 5.15 Compiler: gcc gcc (GCC) 14.2.1 20250110 (Red Hat 14.2.1-8) Arch Linux 20250613.0.365270 Kernel: 5.15 Compiler: gcc gcc (GCC) 15.1.1 20250425 Debian GNU/Linux 12 Kernel: 5.15 Compiler: gcc gcc (Debian 12.2.0-14+deb12u1) 12.2.0 Fedora Linux 41 Kernel: 5.15 Compiler: gcc gcc (GCC) 14.3.1 20250523 (Red Hat 14.3.1-1) Fedora Linux 40 Kernel: 5.15 Compiler: gcc gcc (GCC) 14.2.1 20240912 (Red Hat 14.2.1-3) CentOS Stream 9 Kernel: 5.15 Compiler: gcc gcc (GCC) 11.5.0 20240719 (Red Hat 11.5.0-11) Red Hat Enterprise Linux 9.5 Kernel: 5.15 Compiler: gcc gcc (GCC) 11.5.0 20240719 (Red Hat 11.5.0-2) Fedora Linux 42 Kernel: 5.15 Compiler: gcc gcc (GCC) 15.2.1 20250808 (Red Hat 15.2.1-1) Red Hat Enterprise Linux 8.10 Kernel: 5.15 Compiler: gcc gcc (GCC) 8.5.0 20210514 (Red Hat 8.5.0-22) Ubuntu 22.04 Kernel: 5.15 Compiler: gcc gcc (Ubuntu 11.4.0-1ubuntu1~22.04) 11.4.0 Ubuntu 24.04 Kernel: 5.15 Compiler: gcc gcc (Ubuntu 13.3.0-6ubuntu2~24.04) 13.3.0 Ubuntu 20.04 Kernel: 5.15 Compiler: gcc gcc (Ubuntu 9.4.0-1ubuntu1~20.04.2) 9.4.0 Windows Server 2022 Kernel: 10.0.20348.2031 Compiler: clang 15.0.7, gcc 14.1.0 (MinGW), and MSVC VS 19.39.33521 To view detailed results, visit: https://lab.dpdk.org/results/dashboard/tarballs/35590/ UNH-IOL DPDK Community Lab To manage your email subscriptions, visit: https://lab.dpdk.org/results/dashboard/preferences/subscriptions/