From mboxrd@z Thu Jan 1 00:00:00 1970 Return-Path: Received: from mails.dpdk.org (mails.dpdk.org [217.70.189.124]) by inbox.dpdk.org (Postfix) with ESMTP id DD60B48B0F for ; Sat, 15 Nov 2025 02:36:44 +0100 (CET) Received: from mails.dpdk.org (localhost [127.0.0.1]) by mails.dpdk.org (Postfix) with ESMTP id B7C3A400D6; Sat, 15 Nov 2025 02:36:44 +0100 (CET) Received: from mail-yx1-f97.google.com (mail-yx1-f97.google.com [74.125.224.97]) by mails.dpdk.org (Postfix) with ESMTP id 2D730400D6 for ; Sat, 15 Nov 2025 02:36:43 +0100 (CET) Received: by mail-yx1-f97.google.com with SMTP id 956f58d0204a3-641e942242cso1036374d50.1 for ; Fri, 14 Nov 2025 17:36:43 -0800 (PST) DKIM-Signature: v=1; a=rsa-sha256; c=relaxed/relaxed; d=iol.unh.edu; s=unh-iol; t=1763170602; x=1763775402; darn=dpdk.org; h=references:in-reply-to:cc:to:from:subject:message-id:date:from:to :cc:subject:date:message-id:reply-to; bh=AXvo2sRIM/qzYyc0ieP2e017rQg1YC3PMLyKcGK/ORQ=; b=L0gGUc2c0vBqvSsFCoqocVo6+5Mb7OUmaOqn3qE9Qi8SblEQ+PvNu7S2LwPdwpc8l4 kgzH2G6Gwb0PSDm9GFWXPhM9vzT/vXRCtx4tOTlFB4pek5HRAVd0icR7w6phJbcg2n/2 vTSUEfjXbQItC7tanRCFwwn9hmNJQku08+2Qs= X-Google-DKIM-Signature: v=1; a=rsa-sha256; c=relaxed/relaxed; d=1e100.net; s=20230601; t=1763170602; x=1763775402; h=references:in-reply-to:cc:to:from:subject:message-id:date:x-gm-gg :x-gm-message-state:from:to:cc:subject:date:message-id:reply-to; bh=AXvo2sRIM/qzYyc0ieP2e017rQg1YC3PMLyKcGK/ORQ=; b=E8XOwYZH8QSJHP0P9b+NGC1EFrvS/6FslsEAhWL2eqjm219jpLDNA58M0Xw9/+QXBz TGIzvFSLFV3HjVKFJCyzuqx42wGTY5fZ7r8SH91XTp/oPr4hQWGttSsbSfqFF3SwytTc TFXbh3RgAWA5tT03rAZ+bPKQWDfd1fbd1wL4eoh0n31p+F3W1MjyMZ6EuWzSet347WVQ vnHdkUoyx94jPONb4v6sLlBjeUgDErc4w7jGFVzRxFr829NQ9kSaTjal2VxX0miSQ8Bc NThYfk0JR+j3qcHPiTYRwi7PCtsJslg5szFPRtzNSXJpOmjGcqF63owCvHAJ5jBquuaF 69BA== X-Gm-Message-State: AOJu0YxHrV+wPFT9SaJMM28ry+Ff1KOa/xtqOh1lyXx18357adTryr0c N1aNxQ0eCP8/r0iu+GM3ZJS8IpycqbvrOqXopTAbbV39qU2+tUE2lZabOnDiq1ST5bi7yntLR11 xRG0l3Zp0dm1qup4eN1u3nAQZI2QEbFp4ra53IKRixOm/ X-Gm-Gg: ASbGncuzGFLqsh+x46brQDm/qLIF9TPLO5k5dwCWfszGHpqpS/1kz+GptYJYtVomsOX g8162OR3xO7H2HTdcqXZcyTqHUHMYvZrxXMGy2SEBKuloLn6I3hbqT7AQi0Qs1Vx4ZfxoQwYzfC FSqeKo9alnrVVK25cZW9xkaYhx9W+34EgD6eVE+vuIXw5xkvungFLU0ARAHKHpdxeyGpfvlQqcy xnWpuNmMyW0x8Hb6YLLxr1N96ErV0W+xEzm5OK5RfJpdIRADWAgmjsCbRmIAA3jVRVBJjhnkFkr SLSRwDPqPQIiUYKFw7+Ry84l0oDeizdPUfkWTzfv7YT7nrVTS2Qr+xV3X5+0eZmHLfWklOQbHjM q9EJkrOxAgsft7j/7p3ok0DxYHiy7buU= X-Google-Smtp-Source: AGHT+IFYnyBy6Svl3nJBO7BYEElanlsM8NjaBQ6K+TKOCPWcRGm6r+meIQ95vrOgAgohOJk+IQWI7rmrqJfM X-Received: by 2002:a05:690e:431b:b0:63f:2b0c:2d55 with SMTP id 956f58d0204a3-641e768677emr3437763d50.51.1763170602457; Fri, 14 Nov 2025 17:36:42 -0800 (PST) Received: from postal.iol.unh.edu (postal.iol.unh.edu. [132.177.123.84]) by smtp-relay.gmail.com with ESMTPS id 956f58d0204a3-6410ea05fd0sm470690d50.5.2025.11.14.17.36.42 (version=TLS1_2 cipher=ECDHE-ECDSA-AES128-GCM-SHA256 bits=128/128); Fri, 14 Nov 2025 17:36:42 -0800 (PST) X-Relaying-Domain: iol.unh.edu Date: Fri, 14 Nov 2025 17:36:42 -0800 (PST) Message-ID: <6917d92a.050a0220.378962.6c89SMTPIN_ADDED_MISSING@mx.google.com> Received: from [172.21.0.4] (unknown [172.18.0.240]) by postal.iol.unh.edu (Postfix) with ESMTP id CDCB760003E7; Fri, 14 Nov 2025 20:36:41 -0500 (EST) Subject: |SUCCESS| pw158782 [PATCH] examples/ipsec-secgw: add support for SM4 From: dpdklab@iol.unh.edu To: Test Report Cc: dpdk-test-reports@iol.unh.edu In-Reply-To: <20251114014616.43476-1-sunyang.wu@jaguarmicro.com> References: <20251114014616.43476-1-sunyang.wu@jaguarmicro.com> Content-Type: text/plain X-BeenThere: test-report@dpdk.org X-Mailman-Version: 2.1.29 Precedence: list List-Id: automatic DPDK test reports List-Unsubscribe: , List-Archive: List-Post: List-Help: List-Subscribe: , Errors-To: test-report-bounces@dpdk.org Test-Label: iol-compile-amd64-testing Test-Status: SUCCESS http://dpdk.org/patch/158782 _Testing PASS_ Submitter: Sunyang Wu Date: Friday, November 14 2025 01:46:16 DPDK git baseline: Repo:dpdk Branch: master CommitID:be0112878b4fc3a1b918370ed2fe615c52039d77 158782 --> testing pass Upstream job id: Generic-DPDK-Compile-Meson#444496 Test environment and result as below: +-------------------------------+--------------------+-------------------+------------------+ | Environment | dpdk_meson_compile | dpdk_msvc_compile | dpdk_compile_ovs | +===============================+====================+===================+==================+ | Ubuntu 20.04 | PASS | SKIPPED | SKIPPED | +-------------------------------+--------------------+-------------------+------------------+ | FreeBSD 14.2 | PASS | SKIPPED | SKIPPED | +-------------------------------+--------------------+-------------------+------------------+ | CentOS Stream 9 | PASS | SKIPPED | SKIPPED | +-------------------------------+--------------------+-------------------+------------------+ | CentOS Stream 10 | PASS | SKIPPED | SKIPPED | +-------------------------------+--------------------+-------------------+------------------+ | Debian GNU/Linux 12 | PASS | SKIPPED | SKIPPED | +-------------------------------+--------------------+-------------------+------------------+ | Fedora Linux 42 | PASS | SKIPPED | PASS | +-------------------------------+--------------------+-------------------+------------------+ | openSUSE Leap 15.6 | PASS | SKIPPED | SKIPPED | +-------------------------------+--------------------+-------------------+------------------+ | Red Hat Enterprise Linux 8.10 | PASS | SKIPPED | SKIPPED | +-------------------------------+--------------------+-------------------+------------------+ | Ubuntu 24.04 | PASS | SKIPPED | PASS | +-------------------------------+--------------------+-------------------+------------------+ | Red Hat Enterprise Linux 9.5 | PASS | SKIPPED | SKIPPED | +-------------------------------+--------------------+-------------------+------------------+ | Ubuntu 22.04 | PASS | SKIPPED | SKIPPED | +-------------------------------+--------------------+-------------------+------------------+ | Alpine Linux 3.22.0 | PASS | SKIPPED | SKIPPED | +-------------------------------+--------------------+-------------------+------------------+ | Windows Server 2022 | SKIPPED | PASS | SKIPPED | +-------------------------------+--------------------+-------------------+------------------+ Ubuntu 20.04 Kernel: 4.19 Compiler: gcc gcc (Ubuntu 9.4.0-1ubuntu1~20.04.2) 9.4.0 FreeBSD 14.2 Kernel: 14.2-RELEASE Compiler: clang 18.1.6 CentOS Stream 9 Kernel: 5.15 Compiler: gcc gcc (GCC) 11.5.0 20240719 (Red Hat 11.5.0-11) CentOS Stream 10 Kernel: 5.15 Compiler: gcc gcc (GCC) 14.2.1 20250110 (Red Hat 14.2.1-8) Debian GNU/Linux 12 Kernel: 5.15 Compiler: gcc gcc (Debian 12.2.0-14+deb12u1) 12.2.0 Fedora Linux 42 Kernel: 5.15 Compiler: clang gcc (GCC) 15.2.1 20250808 (Red Hat 15.2.1-1) openSUSE Leap 15.6 Kernel: 5.15 Compiler: gcc gcc (SUSE Linux) 7.5.0 Red Hat Enterprise Linux 8.10 Kernel: 5.15 Compiler: gcc gcc (GCC) 8.5.0 20210514 (Red Hat 8.5.0-22) Ubuntu 24.04 Kernel: 5.15 Compiler: gcc gcc (Ubuntu 13.3.0-6ubuntu2~24.04) 13.3.0 Red Hat Enterprise Linux 9.5 Kernel: 5.15 Compiler: gcc gcc (GCC) 11.5.0 20240719 (Red Hat 11.5.0-2) Ubuntu 22.04 Kernel: 5.15 Compiler: gcc gcc (Ubuntu 11.4.0-1ubuntu1~22.04) 11.4.0 Alpine Linux 3.22.0 Kernel: 5.15 Compiler: gcc gcc (Alpine 14.2.0) 14.2.0 Windows Server 2022 Kernel: 10.0.20348.2031 Compiler: clang 15.0.7, gcc 14.1.0 (MinGW), and MSVC VS 19.39.33521 To view detailed results, visit: https://lab.dpdk.org/results/dashboard/patchsets/34588/ UNH-IOL DPDK Community Lab To manage your email subscriptions, visit: https://lab.dpdk.org/results/dashboard/preferences/subscriptions/