From mboxrd@z Thu Jan 1 00:00:00 1970 Return-Path: Received: from mails.dpdk.org (mails.dpdk.org [217.70.189.124]) by inbox.dpdk.org (Postfix) with ESMTP id 225AE48B0F for ; Sat, 15 Nov 2025 02:38:37 +0100 (CET) Received: from mails.dpdk.org (localhost [127.0.0.1]) by mails.dpdk.org (Postfix) with ESMTP id EE40D400D6; Sat, 15 Nov 2025 02:38:36 +0100 (CET) Received: from mail-pf1-f227.google.com (mail-pf1-f227.google.com [209.85.210.227]) by mails.dpdk.org (Postfix) with ESMTP id 055F1400D6 for ; Sat, 15 Nov 2025 02:38:35 +0100 (CET) Received: by mail-pf1-f227.google.com with SMTP id d2e1a72fcca58-7b9215e55e6so1776616b3a.2 for ; Fri, 14 Nov 2025 17:38:35 -0800 (PST) DKIM-Signature: v=1; a=rsa-sha256; c=relaxed/relaxed; d=iol.unh.edu; s=unh-iol; t=1763170715; x=1763775515; darn=dpdk.org; h=cc:to:from:subject:message-id:date:from:to:cc:subject:date :message-id:reply-to; bh=441iQr4rmH4gxEdjAzC0Oje2pM57BTZaLJ9LiF7AVTI=; b=L4Xmt74bwdfS5H70MIJrAS5z4eo+yfA2gGhbU5J7SPcIPify8D7dIMUMjZCMB47/mK 3BrexkfOeAHV0wJFKLbWWsn3CGqnPcT071SjZBqatoSZe80YOM9xwbHtto2U6K74/nnE fQa9aYyVUzc7ketM+0mLQZWkURc6RkuOWciXU= X-Google-DKIM-Signature: v=1; a=rsa-sha256; c=relaxed/relaxed; d=1e100.net; s=20230601; t=1763170715; x=1763775515; h=cc:to:from:subject:message-id:date:x-gm-gg:x-gm-message-state:from :to:cc:subject:date:message-id:reply-to; bh=441iQr4rmH4gxEdjAzC0Oje2pM57BTZaLJ9LiF7AVTI=; b=OhfzrIAEGYaRgCGExyDcCxX4/e0iNLHA6d2EVqZ7DjK9DI0QIC1XFM+Un4hG/NWBwg CU3MZmDrd26pxQ+5hM9yvPhpUPEYRK6uHyXxrK44PSwKqPFJ4rAum/Rw1APqRvAOv0Dh I9XY1yAOHiEskCzp/8sAY2/jYzqRg1v4SLROIxwrmcaSTxMQOrTpFSYxXKmKHB5XwvC3 koYrsQBT0bj1I4ps5vXac8V+3PvejhW6CAxT24r0dHOwIhnxiJ/8pGEPsh64b1Djpt9O 5UNjME5D78sL9pGFpwtE1XQOlQFJUox+j5BQK24oPComjIuGLJhYbgejJzGa6+oA+IsE iWKA== X-Gm-Message-State: AOJu0YypXs8J1qXSsgwKs7NO4XFdTlnjUmlLaOGiBvdkMndiy9EpxdY+ 47bXS+yIAjQhdusELN7Auzuh5FvqSL4Xn322D7zLf1j9Lep7zJeJzEpJnsD2A6ISrhsCmJ8U982 cJn4Og61Pvg59bdtxtjNVG0dyeZJQHbFt/n9fOY/ALqsy X-Gm-Gg: ASbGncvbudM0LxHrKGgMngkm3oaJBqsEbL59JjiJxwYlEGahKw653hRMdthF3ztPkF8 8USXGFHZyv9BLCO7M5LuhuZxiVIEcd4XV2uvczVauHGCaYXWkzdDShXga5qlvhTni8wpCym9RSX Zu8zCxvIpQlRmgMn5oJcPPCeIULG52h4zLEnD3EXKxtivAct3jx7xodEFthvA/p6cYaKukREJRC zLAXLhOCWftneakmfX8G/KlyjaAyRs675WoOe8OP3AQAbOoh1LuUH5kRsVOxYFJwoAfke4iDGBc aO99AvwMCnLZICjYKHeZIRQkQdsM6fogzCRma/hTGBMXfYELN6V2cUDbuL6qiisMzUltVZv9EJb PAMDdNTS1ICwOz1wCl7bcaTAiSxSGG1A= X-Google-Smtp-Source: AGHT+IH64qWGLJKg40DLYG0CLc370Thfz2w+5D2/vXb8A7rmXUlrMoKom2l3Uum/nuQdFYQ2zA2mwsYRxJSg X-Received: by 2002:a05:6a00:80f:b0:7b9:9d68:4a9b with SMTP id d2e1a72fcca58-7ba3ba97bb0mr5945420b3a.15.1763170714976; Fri, 14 Nov 2025 17:38:34 -0800 (PST) Received: from postal.iol.unh.edu (postal.iol.unh.edu. [132.177.123.84]) by smtp-relay.gmail.com with ESMTPS id d2e1a72fcca58-7b9287040f6sm623066b3a.10.2025.11.14.17.38.34 (version=TLS1_2 cipher=ECDHE-ECDSA-AES128-GCM-SHA256 bits=128/128); Fri, 14 Nov 2025 17:38:34 -0800 (PST) X-Relaying-Domain: iol.unh.edu Date: Fri, 14 Nov 2025 17:38:34 -0800 (PST) Message-ID: <6917d99a.050a0220.25384e.ed55SMTPIN_ADDED_MISSING@mx.google.com> Received: from [172.21.0.3] (unknown [172.18.0.240]) by postal.iol.unh.edu (Postfix) with ESMTP id 1774E6051830; Fri, 14 Nov 2025 20:38:34 -0500 (EST) Subject: |SUCCESS| [GIT MASTER] be0112878b4fc3a1b918370ed2fe615c52039d77 From: dpdklab@iol.unh.edu To: Test Report Cc: dpdk-test-reports@iol.unh.edu Content-Type: text/plain X-BeenThere: test-report@dpdk.org X-Mailman-Version: 2.1.29 Precedence: list List-Id: automatic DPDK test reports List-Unsubscribe: , List-Archive: List-Post: List-Help: List-Subscribe: , Errors-To: test-report-bounces@dpdk.org _Testing PASS_ Branch: dpdk be0112878b4fc3a1b918370ed2fe615c52039d77 --> testing pass Upstream job id: Generic-VM-Unit-Test-DPDK#32563 Test environment and result as below: +-------------------------------+----------------+ | Environment | dpdk_unit_test | +===============================+================+ | CentOS Stream 10 | PASS | +-------------------------------+----------------+ | Arch Linux 20250613.0.365270 | PASS | +-------------------------------+----------------+ | Debian GNU/Linux 12 | PASS | +-------------------------------+----------------+ | Fedora Linux 41 | PASS | +-------------------------------+----------------+ | Fedora Linux 40 | PASS | +-------------------------------+----------------+ | CentOS Stream 9 | PASS | +-------------------------------+----------------+ | Red Hat Enterprise Linux 9.5 | PASS | +-------------------------------+----------------+ | Fedora Linux 42 | PASS | +-------------------------------+----------------+ | Red Hat Enterprise Linux 8.10 | PASS | +-------------------------------+----------------+ | Ubuntu 22.04 | PASS | +-------------------------------+----------------+ | Ubuntu 24.04 | PASS | +-------------------------------+----------------+ | Ubuntu 20.04 | PASS | +-------------------------------+----------------+ | Windows Server 2022 | PASS | +-------------------------------+----------------+ CentOS Stream 10 Kernel: 5.15 Compiler: gcc gcc (GCC) 14.2.1 20250110 (Red Hat 14.2.1-8) Arch Linux 20250613.0.365270 Kernel: 5.15 Compiler: gcc gcc (GCC) 15.1.1 20250425 Debian GNU/Linux 12 Kernel: 5.15 Compiler: gcc gcc (Debian 12.2.0-14+deb12u1) 12.2.0 Fedora Linux 41 Kernel: 5.15 Compiler: gcc gcc (GCC) 14.3.1 20250523 (Red Hat 14.3.1-1) Fedora Linux 40 Kernel: 5.15 Compiler: gcc gcc (GCC) 14.2.1 20240912 (Red Hat 14.2.1-3) CentOS Stream 9 Kernel: 5.15 Compiler: gcc gcc (GCC) 11.5.0 20240719 (Red Hat 11.5.0-11) Red Hat Enterprise Linux 9.5 Kernel: 5.15 Compiler: gcc gcc (GCC) 11.5.0 20240719 (Red Hat 11.5.0-2) Fedora Linux 42 Kernel: 5.15 Compiler: gcc gcc (GCC) 15.2.1 20250808 (Red Hat 15.2.1-1) Red Hat Enterprise Linux 8.10 Kernel: 5.15 Compiler: gcc gcc (GCC) 8.5.0 20210514 (Red Hat 8.5.0-22) Ubuntu 22.04 Kernel: 5.15 Compiler: gcc gcc (Ubuntu 11.4.0-1ubuntu1~22.04) 11.4.0 Ubuntu 24.04 Kernel: 5.15 Compiler: gcc gcc (Ubuntu 13.3.0-6ubuntu2~24.04) 13.3.0 Ubuntu 20.04 Kernel: 5.15 Compiler: gcc gcc (Ubuntu 9.4.0-1ubuntu1~20.04.2) 9.4.0 Windows Server 2022 Kernel: 10.0.20348.2031 Compiler: clang 15.0.7, gcc 14.1.0 (MinGW), and MSVC VS 19.39.33521 To view detailed results, visit: https://lab.dpdk.org/results/dashboard/tarballs/35590/ UNH-IOL DPDK Community Lab To manage your email subscriptions, visit: https://lab.dpdk.org/results/dashboard/preferences/subscriptions/