From mboxrd@z Thu Jan 1 00:00:00 1970 Return-Path: Received: from mails.dpdk.org (mails.dpdk.org [217.70.189.124]) by inbox.dpdk.org (Postfix) with ESMTP id 8638248B0F for ; Sat, 15 Nov 2025 02:54:27 +0100 (CET) Received: from mails.dpdk.org (localhost [127.0.0.1]) by mails.dpdk.org (Postfix) with ESMTP id 7E759400D6; Sat, 15 Nov 2025 02:54:27 +0100 (CET) Received: from mail-ot1-f98.google.com (mail-ot1-f98.google.com [209.85.210.98]) by mails.dpdk.org (Postfix) with ESMTP id DCEA5400D6 for ; Sat, 15 Nov 2025 02:54:25 +0100 (CET) Received: by mail-ot1-f98.google.com with SMTP id 46e09a7af769-7c6e815310aso1600473a34.0 for ; Fri, 14 Nov 2025 17:54:25 -0800 (PST) DKIM-Signature: v=1; a=rsa-sha256; c=relaxed/relaxed; d=iol.unh.edu; s=unh-iol; t=1763171665; x=1763776465; darn=dpdk.org; h=references:in-reply-to:cc:to:from:subject:message-id:date:from:to :cc:subject:date:message-id:reply-to; bh=lxiWm2mTS5aauz4AhFHJo4qJtjUP9o/WkSLRbLnHYGA=; b=Wvn1OjUty5vGIX3/WQTet1OxU7VGxYPevPg0CwZpFWqVLSXt5vRCa3uEtaTX0OUtlk jBz3PgcFk3OCB3+LQlCRZ3XxTmS/+Dzc85QxTGbeRPHitXvcRK6+Yr023nVUpNVGt9t5 a5nz9VrSbCLuJOJ6YV+c/ay9+PjnKXxTt/51s= X-Google-DKIM-Signature: v=1; a=rsa-sha256; c=relaxed/relaxed; d=1e100.net; s=20230601; t=1763171665; x=1763776465; h=references:in-reply-to:cc:to:from:subject:message-id:date:x-gm-gg :x-gm-message-state:from:to:cc:subject:date:message-id:reply-to; bh=lxiWm2mTS5aauz4AhFHJo4qJtjUP9o/WkSLRbLnHYGA=; b=XOEN80t8UqJoxDz/mRSE2bFWIm5zTaKuAWPwPb6hvNSB1/RIagrAeNJJVyqZee+KPn YuUjC62BjyilGXLFVe7fQf+zA2Jhu2cPy/Xr5OHfmC2rftty8xYhBQ5lG0QAa+Gx89Bg Rg9IElx5DB3QuqJ0u6u311aHTw942UYM92kJJKm1jZEXTo2LdyQvXMDI9nG4lzZEyMJb GbQ46DuXuRKSU8/IRVPSU44bWgu37VEj6KkSTDDh53aAdGPQ31c7sd828ZF5Amufq/bF 8b7Ut3IWvIV8lzIMRHb/pBdXThEPSl7RagdS1Uo7oiCqV3apgB1gjhZ316p6PDlFotkL dicg== X-Gm-Message-State: AOJu0YzFr6vaMBb6VQBvHIBkxHrsEYIzAfrr5igBej34IosrdHv5iaj/ E2sx7f/bN02vi7rvB+ZW4oOnfZ4QKSDKAXZuYcXJrxrqUpXJeRF8147L3rQ0/+5z4r955mJMeIW +22X4WxvUuV6SywOF+bOyg9YmfDmeNMEYsnTbXjIGsT5uZf2LBKQjqR1xXzrE X-Gm-Gg: ASbGncsnIrHM4s6+sI/UNbIdUPYOgw8yNgh9tM20EYn3lBGjCJzAWzSh7k+QeZx6aAi HOX1XAwmzGO/w8bVEwpjx6Vn5ny98M6bUK6VvUV3Txa0tI4cHyQX/wZ311g1kHjEFRO699PceHs lMhQ3fItUHpnzMaC3pcPmc2OrbVr5O0MOPTsXKuUUE/RM852zLjuZ8Hmm1+DGzvwpAV6ahiPi5b GfmNaak1PMstRR+NRPXDclWxOPeZmzvOUAdNc1gpX22FI64wcze9obCJbQ9wfmIjfgpjDzS5/0n /wPIvtX9eis0UHvKKdB6FIS800PYImXUp+cxioxWpqz3IfLMu8vuvdmcrEiGn2gbA/5kO34G9YG S/mctNJ7t X-Google-Smtp-Source: AGHT+IFiNPYlEMw5PnxnloHljpUI5RmjuKDD28qU/rQvZoDVMQjaDxofsRR6QiPGTl306cb188CyvNaUMUU4 X-Received: by 2002:a05:6830:268b:b0:7c5:3ad3:e8bf with SMTP id 46e09a7af769-7c7444f2a18mr3952922a34.17.1763171665070; Fri, 14 Nov 2025 17:54:25 -0800 (PST) Received: from postal.iol.unh.edu (postal.iol.unh.edu. [2606:4100:3880:1234::84]) by smtp-relay.gmail.com with ESMTPS id 46e09a7af769-7c73a34b264sm630058a34.6.2025.11.14.17.54.25 (version=TLS1_2 cipher=ECDHE-ECDSA-AES128-GCM-SHA256 bits=128/128); Fri, 14 Nov 2025 17:54:25 -0800 (PST) X-Relaying-Domain: iol.unh.edu Date: Fri, 14 Nov 2025 17:54:25 -0800 (PST) Message-ID: <6917dd51.9d0a0220.6ba54.ed65SMTPIN_ADDED_MISSING@mx.google.com> Received: from [172.21.0.3] (unknown [172.18.0.240]) by postal.iol.unh.edu (Postfix) with ESMTP id 493EC6051830; Fri, 14 Nov 2025 20:54:24 -0500 (EST) Subject: |SUCCESS| pw158813 [PATCH] [v2] net/mlx5: fix warning from uninitial From: dpdklab@iol.unh.edu To: Test Report Cc: dpdk-test-reports@iol.unh.edu In-Reply-To: <20251114174912.1103626-1-stephen@networkplumber.org> References: <20251114174912.1103626-1-stephen@networkplumber.org> Content-Type: text/plain X-BeenThere: test-report@dpdk.org X-Mailman-Version: 2.1.29 Precedence: list List-Id: automatic DPDK test reports List-Unsubscribe: , List-Archive: List-Post: List-Help: List-Subscribe: , Errors-To: test-report-bounces@dpdk.org Test-Label: iol-compile-amd64-testing Test-Status: SUCCESS http://dpdk.org/patch/158813 _Testing PASS_ Submitter: Stephen Hemminger Date: Friday, November 14 2025 17:49:12 DPDK git baseline: Repo:dpdk-next-net-mlx Branch: master CommitID:ae657d56b1f0ea979b3f611edf28d773efc2ddcf 158813 --> testing pass Upstream job id: Windows-Compile-DPDK-VS#7558 Test environment and result as below: +---------------------+--------------------+-------------------+ | Environment | dpdk_meson_compile | dpdk_msvc_compile | +=====================+====================+===================+ | Ubuntu 20.04 | PASS | SKIPPED | +---------------------+--------------------+-------------------+ | FreeBSD 14.2 | PASS | SKIPPED | +---------------------+--------------------+-------------------+ | Windows Server 2022 | SKIPPED | PASS | +---------------------+--------------------+-------------------+ Ubuntu 20.04 Kernel: 4.19 Compiler: gcc gcc (Ubuntu 9.4.0-1ubuntu1~20.04.2) 9.4.0 FreeBSD 14.2 Kernel: 14.2-RELEASE Compiler: clang 18.1.6 Windows Server 2022 Kernel: 10.0.20348.2031 Compiler: clang 15.0.7, gcc 14.1.0 (MinGW), and MSVC VS 19.39.33521 To view detailed results, visit: https://lab.dpdk.org/results/dashboard/patchsets/34595/ UNH-IOL DPDK Community Lab To manage your email subscriptions, visit: https://lab.dpdk.org/results/dashboard/preferences/subscriptions/