From mboxrd@z Thu Jan 1 00:00:00 1970 Return-Path: Received: from mails.dpdk.org (mails.dpdk.org [217.70.189.124]) by inbox.dpdk.org (Postfix) with ESMTP id B15A048B0F for ; Sat, 15 Nov 2025 02:55:39 +0100 (CET) Received: from mails.dpdk.org (localhost [127.0.0.1]) by mails.dpdk.org (Postfix) with ESMTP id A854D400D6; Sat, 15 Nov 2025 02:55:39 +0100 (CET) Received: from mail-qt1-f226.google.com (mail-qt1-f226.google.com [209.85.160.226]) by mails.dpdk.org (Postfix) with ESMTP id 5D3BD400D6 for ; Sat, 15 Nov 2025 02:55:38 +0100 (CET) Received: by mail-qt1-f226.google.com with SMTP id d75a77b69052e-4e4d9fc4316so22119331cf.2 for ; Fri, 14 Nov 2025 17:55:38 -0800 (PST) DKIM-Signature: v=1; a=rsa-sha256; c=relaxed/relaxed; d=iol.unh.edu; s=unh-iol; t=1763171738; x=1763776538; darn=dpdk.org; h=references:in-reply-to:cc:to:from:subject:message-id:date:from:to :cc:subject:date:message-id:reply-to; bh=I9UdvROLfU97W6yfXwsnqg2w3AZryF/Jw/OV6pi0cxg=; b=cMwazm8RJLQZKLSwLCas64IXet7GfJPOmHVQGPfgR6fWNMOiWngM9i1LE/OlRdsSuE Q094G3u+I2QW4vXNMqqvcLZpu7+CBppchPxup0wkBZT6fzcglMxoD7sfVwvm2uTihNTl Wny7NzH5Y4HTUJ4/R4apMzNZPPNbAzw+3z7vM= X-Google-DKIM-Signature: v=1; a=rsa-sha256; c=relaxed/relaxed; d=1e100.net; s=20230601; t=1763171738; x=1763776538; h=references:in-reply-to:cc:to:from:subject:message-id:date:x-gm-gg :x-gm-message-state:from:to:cc:subject:date:message-id:reply-to; bh=I9UdvROLfU97W6yfXwsnqg2w3AZryF/Jw/OV6pi0cxg=; b=M2B8NGbCdQwK0aXETT1lQG7mb0P/kdcd69TxDMRxFvUj+xmLY2j7Zd9UgOU/tRnkMH ejQn+iKcKDmgjlxIDhIs7AuHTg6ygLi/oJRlNwxxFYMpPYVb0JbUPpc4eFEFJb317pjg IxbMXdv+sZRAGHPz73EvZ8JImqKnjRMb0Ic9b0VAs0aU0QoYm6wZA3EH54KUQHRQN5x5 TadDSUghBwj+u4zWBaUQV3/HEH4Al+QVFojqMTP3YjC9lRVhpHtWNkmA0LVkdeJa8Hv+ 1dYWbyWj6SvPz7NJUdZaiEGCLQiAQCkpYLY4a3BJunr7p7z5rn7wmrf95V7uSAWN+FM0 Emhg== X-Gm-Message-State: AOJu0Yzgsksup5y9ILDhAmAaEFWx9KhgxUeTwQbOYe+Kqw1WNCYAGSLS 7XhtAQNrgVIE14YQHDeEgWCSgO/n2KG8bdpVzETgHUIBkOCTmwRn49SMW4kRfb7BWOaWEXe2lHn SSL/FjhlpVSIVvDz+96EFELepQKyk4hxOx8LRLLLkOSE6mNii5WVyAL+hNtRM X-Gm-Gg: ASbGncvgBvpmCWEpsi6iTUY6/vucAlJQUVGtAl4DE3WMZw/uo6S/UmL3L8laP+hewdQ m2I0iWG0tozgAuH9v+3eY+w0MbShVdKlsIdaGS5IAIg54a5LL/7M3fjrQZUhmTgdCrPsMkP9IZV od7VZTWy3p0QRVPm1EcvC45l8GfxeeRCAsPpFmo7vpXG34RI5/Wg5X7b4Vhekx2YzzN2SuaVBIT hCYMlKNswV4rQA8VMZSmmH23bLAeS1itagb92mBi1Uq6yxD1Lx+JOFgNCG5QZMvNr5vIqSkbijy 5UM9H6299EKp06qTWTIISljKfdMvTO/CtnEdSX7ZDAtIW2Ii9GM1SMZom/vyLmGgrn+q+WEkHdu WN6UDPKNm X-Google-Smtp-Source: AGHT+IFilVjqrPiCpiPWo9CYCVxTYz30RMrsNwEun1bfCeAusHvQVsJChrHkgbi3smu/mTZS4kaTeXP1Oimd X-Received: by 2002:ac8:7fcc:0:b0:4ed:a744:adc with SMTP id d75a77b69052e-4edf20629b0mr73332151cf.10.1763171737660; Fri, 14 Nov 2025 17:55:37 -0800 (PST) Received: from postal.iol.unh.edu (postal.iol.unh.edu. [2606:4100:3880:1234::84]) by smtp-relay.gmail.com with ESMTPS id 6a1803df08f44-882862f836fsm7380726d6.10.2025.11.14.17.55.37 (version=TLS1_2 cipher=ECDHE-ECDSA-AES128-GCM-SHA256 bits=128/128); Fri, 14 Nov 2025 17:55:37 -0800 (PST) X-Relaying-Domain: iol.unh.edu Date: Fri, 14 Nov 2025 17:55:37 -0800 (PST) Message-ID: <6917dd99.050a0220.3844f7.4648SMTPIN_ADDED_MISSING@mx.google.com> Received: from [172.21.0.3] (unknown [172.18.0.240]) by postal.iol.unh.edu (Postfix) with ESMTP id 682676051830; Fri, 14 Nov 2025 20:55:37 -0500 (EST) Subject: |SUCCESS| pw158706 [PATCH] net/mlx5: fix send to kernel resources re From: dpdklab@iol.unh.edu To: Test Report Cc: dpdk-test-reports@iol.unh.edu In-Reply-To: <20251112162440.425611-1-getelson@nvidia.com> References: <20251112162440.425611-1-getelson@nvidia.com> Content-Type: text/plain X-BeenThere: test-report@dpdk.org X-Mailman-Version: 2.1.29 Precedence: list List-Id: automatic DPDK test reports List-Unsubscribe: , List-Archive: List-Post: List-Help: List-Subscribe: , Errors-To: test-report-bounces@dpdk.org Test-Label: iol-compile-amd64-testing Test-Status: SUCCESS http://dpdk.org/patch/158706 _Testing PASS_ Submitter: Gregory Etelson Date: Wednesday, November 12 2025 16:24:40 DPDK git baseline: Repo:dpdk-next-net-mlx Branch: master CommitID:ae657d56b1f0ea979b3f611edf28d773efc2ddcf 158706 --> testing pass Upstream job id: Windows-Compile-DPDK-Native#32336 Test environment and result as below: +-------------------------------+--------------------+------------------+-------------------+-------------------------+----------------------+ | Environment | dpdk_meson_compile | dpdk_compile_ovs | dpdk_msvc_compile | dpdk_llvm_clang_compile | dpdk_mingw64_compile | +===============================+====================+==================+===================+=========================+======================+ | Ubuntu 20.04 | PASS | SKIPPED | SKIPPED | SKIPPED | SKIPPED | +-------------------------------+--------------------+------------------+-------------------+-------------------------+----------------------+ | FreeBSD 14.2 | PASS | SKIPPED | SKIPPED | SKIPPED | SKIPPED | +-------------------------------+--------------------+------------------+-------------------+-------------------------+----------------------+ | CentOS Stream 9 | PASS | SKIPPED | SKIPPED | SKIPPED | SKIPPED | +-------------------------------+--------------------+------------------+-------------------+-------------------------+----------------------+ | CentOS Stream 10 | PASS | SKIPPED | SKIPPED | SKIPPED | SKIPPED | +-------------------------------+--------------------+------------------+-------------------+-------------------------+----------------------+ | Debian GNU/Linux 12 | PASS | SKIPPED | SKIPPED | SKIPPED | SKIPPED | +-------------------------------+--------------------+------------------+-------------------+-------------------------+----------------------+ | Fedora Linux 42 | PASS | PASS | SKIPPED | SKIPPED | SKIPPED | +-------------------------------+--------------------+------------------+-------------------+-------------------------+----------------------+ | openSUSE Leap 15.6 | PASS | SKIPPED | SKIPPED | SKIPPED | SKIPPED | +-------------------------------+--------------------+------------------+-------------------+-------------------------+----------------------+ | Red Hat Enterprise Linux 8.10 | PASS | SKIPPED | SKIPPED | SKIPPED | SKIPPED | +-------------------------------+--------------------+------------------+-------------------+-------------------------+----------------------+ | Red Hat Enterprise Linux 9.5 | PASS | SKIPPED | SKIPPED | SKIPPED | SKIPPED | +-------------------------------+--------------------+------------------+-------------------+-------------------------+----------------------+ | Ubuntu 22.04 | PASS | SKIPPED | SKIPPED | SKIPPED | SKIPPED | +-------------------------------+--------------------+------------------+-------------------+-------------------------+----------------------+ | Ubuntu 24.04 | PASS | PASS | SKIPPED | SKIPPED | SKIPPED | +-------------------------------+--------------------+------------------+-------------------+-------------------------+----------------------+ | Alpine Linux 3.22.0 | PASS | SKIPPED | SKIPPED | SKIPPED | SKIPPED | +-------------------------------+--------------------+------------------+-------------------+-------------------------+----------------------+ | Windows Server 2022 | SKIPPED | SKIPPED | PASS | PASS | PASS | +-------------------------------+--------------------+------------------+-------------------+-------------------------+----------------------+ Ubuntu 20.04 Kernel: 4.19 Compiler: gcc gcc (Ubuntu 9.4.0-1ubuntu1~20.04.2) 9.4.0 FreeBSD 14.2 Kernel: 14.2-RELEASE Compiler: clang 18.1.6 CentOS Stream 9 Kernel: 5.15 Compiler: gcc gcc (GCC) 11.5.0 20240719 (Red Hat 11.5.0-11) CentOS Stream 10 Kernel: 5.15 Compiler: gcc gcc (GCC) 14.2.1 20250110 (Red Hat 14.2.1-8) Debian GNU/Linux 12 Kernel: 5.15 Compiler: gcc gcc (Debian 12.2.0-14+deb12u1) 12.2.0 Fedora Linux 42 Kernel: 5.15 Compiler: clang gcc (GCC) 15.2.1 20250808 (Red Hat 15.2.1-1) openSUSE Leap 15.6 Kernel: 5.15 Compiler: gcc gcc (SUSE Linux) 7.5.0 Red Hat Enterprise Linux 8.10 Kernel: 5.15 Compiler: gcc gcc (GCC) 8.5.0 20210514 (Red Hat 8.5.0-22) Red Hat Enterprise Linux 9.5 Kernel: 5.15 Compiler: gcc gcc (GCC) 11.5.0 20240719 (Red Hat 11.5.0-2) Ubuntu 22.04 Kernel: 5.15 Compiler: gcc gcc (Ubuntu 11.4.0-1ubuntu1~22.04) 11.4.0 Ubuntu 24.04 Kernel: 5.15 Compiler: gcc gcc (Ubuntu 13.3.0-6ubuntu2~24.04) 13.3.0 Alpine Linux 3.22.0 Kernel: 5.15 Compiler: gcc gcc (Alpine 14.2.0) 14.2.0 Windows Server 2022 Kernel: 10.0.20348.2031 Compiler: clang 15.0.7, gcc 14.1.0 (MinGW), and MSVC VS 19.39.33521 To view detailed results, visit: https://lab.dpdk.org/results/dashboard/patchsets/34558/ UNH-IOL DPDK Community Lab To manage your email subscriptions, visit: https://lab.dpdk.org/results/dashboard/preferences/subscriptions/