From mboxrd@z Thu Jan 1 00:00:00 1970 Return-Path: Received: from mails.dpdk.org (mails.dpdk.org [217.70.189.124]) by inbox.dpdk.org (Postfix) with ESMTP id A6F0448B0F for ; Sat, 15 Nov 2025 03:04:33 +0100 (CET) Received: from mails.dpdk.org (localhost [127.0.0.1]) by mails.dpdk.org (Postfix) with ESMTP id 832C4400D6; Sat, 15 Nov 2025 03:04:33 +0100 (CET) Received: from mail-pl1-f228.google.com (mail-pl1-f228.google.com [209.85.214.228]) by mails.dpdk.org (Postfix) with ESMTP id 18E01400D6 for ; Sat, 15 Nov 2025 03:04:33 +0100 (CET) Received: by mail-pl1-f228.google.com with SMTP id d9443c01a7336-29568d93e87so23373415ad.2 for ; Fri, 14 Nov 2025 18:04:32 -0800 (PST) DKIM-Signature: v=1; a=rsa-sha256; c=relaxed/relaxed; d=iol.unh.edu; s=unh-iol; t=1763172272; x=1763777072; darn=dpdk.org; h=references:in-reply-to:cc:to:from:subject:message-id:date:from:to :cc:subject:date:message-id:reply-to; bh=RbmUZFrt5IvnsAjUS7zal6GKPkyLnq2VkWT6d7UwOLE=; b=dPrEcbfjiGDqH5yBjMcF/Pe7l4fKDC4WkJenWrEOyPoEf+9C2W+cF6X81jg7bgGVEi U90vkOuoWsJ1QzCm3yla4+GWBHt1u7tzCm8dTg7z1WzZfQkMmZ+hSFoA/94UaVFCxIXt Jo9ww9iJVe9PsYaT5YFLAZSveiUMtbOQMy294= X-Google-DKIM-Signature: v=1; a=rsa-sha256; c=relaxed/relaxed; d=1e100.net; s=20230601; t=1763172272; x=1763777072; h=references:in-reply-to:cc:to:from:subject:message-id:date:x-gm-gg :x-gm-message-state:from:to:cc:subject:date:message-id:reply-to; bh=RbmUZFrt5IvnsAjUS7zal6GKPkyLnq2VkWT6d7UwOLE=; b=VLrInGppbdwNYOe3ZoNum9yJfbVFWhvRJbMnypxF+IsCTl9GDQeNs4w8OG+uKne8Xn wdWJA/AWGPNDq+TAgMgUdDGn/IyY+XviVPlJerCbwG48frYfoAIIPf4KqK03sDY9CIuZ tueevrkTfM6CmKASQ7vNifsKQwtQmyseY6gP5s7Rectx/wU11Rbas2Yb9FGi6WOifAbF pEZSDf0kGHmrkdNzR6ChTjrtgpweXFIZUZyGaKQ6JXRH0ehFho+9ALBeyaj6lajJCe2I 4lreW4DJUn0Fs0CVTN0K+HOZvlYAxUKI5ML1gHFaf7jm3djFyCqgnf52iigr7A4oZ9GU vHkg== X-Gm-Message-State: AOJu0YzwphWUkP5Ph9O//kK9nl6ndLCyfC9XrBMnl/0R3w8C08cNmOTz FnsziDf2pjKp9Go9QTO87Q5wSp3QvhnCXzoQMi5843f/b42nk2o3BHT4nVZVuvSlidHiovD+3BL e889aFRqDHKAa2HW5k+H25Bxsi0Xgm0BJg37+pNHSaVsM X-Gm-Gg: ASbGncsVRbSdhpc89yTzUS+91hZ58Oqu2tRAebCyEizv1czuusBUOL0UxNd83t+LLMp t4EGSqWSjs571/qqyXtusuG4n4HDZYXmsos0RbZDwMBevGBbCzJ12dKWMBsazzpsxcEp1DSjekg Z0omP3aYBiazlNQstXJP04VIXRmm4rPbYgUFO9ISYYIL7k9DO6IOlRS/dE8HlBXl3BXdqyxl0gq TTHu07N3u75xml/CnZJh0cdv3s7Wbp+m0s0V6Yus0+WB0tt3NgFyeT1WugjDF/dNhUtV0dG6Zut kkTym55JqF0iJIgr/EYebDUJZKUg8xXzz6ecIj1IxIkSFKi/2rCQtWeQwPUPuh9ejFdX13db9An sxFaNwBJw1VmD2okxLN2PwvrxIJXYRo0= X-Google-Smtp-Source: AGHT+IEpotvBSaAOc8IqOySIhIB6QFeVeWlpPWHbO2wtu05+iZzSuCR/KRV+l+Cu9LlyhTF7k2NCGtTXbc+0 X-Received: by 2002:a17:902:e543:b0:28d:18fb:bb93 with SMTP id d9443c01a7336-2986a6b8261mr58090085ad.7.1763172272036; Fri, 14 Nov 2025 18:04:32 -0800 (PST) Received: from postal.iol.unh.edu (postal.iol.unh.edu. [132.177.123.84]) by smtp-relay.gmail.com with ESMTPS id d9443c01a7336-2985c234210sm7046585ad.6.2025.11.14.18.04.31 (version=TLS1_2 cipher=ECDHE-ECDSA-AES128-GCM-SHA256 bits=128/128); Fri, 14 Nov 2025 18:04:32 -0800 (PST) X-Relaying-Domain: iol.unh.edu Date: Fri, 14 Nov 2025 18:04:32 -0800 (PST) Message-ID: <6917dfb0.170a0220.f3b21.4997SMTPIN_ADDED_MISSING@mx.google.com> Received: from [172.21.0.2] (unknown [172.18.0.240]) by postal.iol.unh.edu (Postfix) with ESMTP id 323336051830; Fri, 14 Nov 2025 21:04:31 -0500 (EST) Subject: |SUCCESS| pw158780-158781 [PATCH] [2/2] dts: shorten a too long line From: dpdklab@iol.unh.edu To: Test Report Cc: dpdk-test-reports@iol.unh.edu In-Reply-To: <20251113232954.273454-3-probb@iol.unh.edu> References: <20251113232954.273454-3-probb@iol.unh.edu> Content-Type: text/plain X-BeenThere: test-report@dpdk.org X-Mailman-Version: 2.1.29 Precedence: list List-Id: automatic DPDK test reports List-Unsubscribe: , List-Archive: List-Post: List-Help: List-Subscribe: , Errors-To: test-report-bounces@dpdk.org Test-Label: iol-unit-amd64-testing Test-Status: SUCCESS http://dpdk.org/patch/158781 _Testing PASS_ Submitter: Patrick Robb Date: Thursday, November 13 2025 23:29:54 DPDK git baseline: Repo:dpdk-next-dts Branch: master CommitID:8dcc93a520b22330e0ad59d360a4594b854f9ddd 158780-158781 --> testing pass Upstream job id: Generic-VM-Unit-Test-DPDK#32564 Test environment and result as below: +-------------------------------+----------------+ | Environment | dpdk_unit_test | +===============================+================+ | CentOS Stream 9 | PASS | +-------------------------------+----------------+ | Debian GNU/Linux 12 | PASS | +-------------------------------+----------------+ | CentOS Stream 10 | PASS | +-------------------------------+----------------+ | Fedora Linux 40 | PASS | +-------------------------------+----------------+ | Fedora Linux 41 | PASS | +-------------------------------+----------------+ | Fedora Linux 42 | PASS | +-------------------------------+----------------+ | Red Hat Enterprise Linux 8.10 | PASS | +-------------------------------+----------------+ | Ubuntu 20.04 | PASS | +-------------------------------+----------------+ | Ubuntu 22.04 | PASS | +-------------------------------+----------------+ | Red Hat Enterprise Linux 9.5 | PASS | +-------------------------------+----------------+ | Ubuntu 24.04 | PASS | +-------------------------------+----------------+ | Windows Server 2022 | PASS | +-------------------------------+----------------+ CentOS Stream 9 Kernel: 5.15 Compiler: gcc gcc (GCC) 11.5.0 20240719 (Red Hat 11.5.0-11) Debian GNU/Linux 12 Kernel: 5.15 Compiler: gcc gcc (Debian 12.2.0-14+deb12u1) 12.2.0 CentOS Stream 10 Kernel: 5.15 Compiler: gcc gcc (GCC) 14.2.1 20250110 (Red Hat 14.2.1-8) Fedora Linux 40 Kernel: 5.15 Compiler: gcc gcc (GCC) 14.2.1 20240912 (Red Hat 14.2.1-3) Fedora Linux 41 Kernel: 5.15 Compiler: gcc gcc (GCC) 14.3.1 20250523 (Red Hat 14.3.1-1) Fedora Linux 42 Kernel: 5.15 Compiler: gcc gcc (GCC) 15.2.1 20250808 (Red Hat 15.2.1-1) Red Hat Enterprise Linux 8.10 Kernel: 5.15 Compiler: gcc gcc (GCC) 8.5.0 20210514 (Red Hat 8.5.0-22) Ubuntu 20.04 Kernel: 5.15 Compiler: gcc gcc (Ubuntu 9.4.0-1ubuntu1~20.04.2) 9.4.0 Ubuntu 22.04 Kernel: 5.15 Compiler: gcc gcc (Ubuntu 11.4.0-1ubuntu1~22.04) 11.4.0 Red Hat Enterprise Linux 9.5 Kernel: 5.15 Compiler: gcc gcc (GCC) 11.5.0 20240719 (Red Hat 11.5.0-2) Ubuntu 24.04 Kernel: 5.15 Compiler: gcc gcc (Ubuntu 13.3.0-6ubuntu2~24.04) 13.3.0 Windows Server 2022 Kernel: 10.0.20348.2031 Compiler: clang 15.0.7, gcc 14.1.0 (MinGW), and MSVC VS 19.39.33521 To view detailed results, visit: https://lab.dpdk.org/results/dashboard/patchsets/34586/ UNH-IOL DPDK Community Lab To manage your email subscriptions, visit: https://lab.dpdk.org/results/dashboard/preferences/subscriptions/