From mboxrd@z Thu Jan 1 00:00:00 1970 Return-Path: Received: from mails.dpdk.org (mails.dpdk.org [217.70.189.124]) by inbox.dpdk.org (Postfix) with ESMTP id 214CE48B0F for ; Sat, 15 Nov 2025 03:29:01 +0100 (CET) Received: from mails.dpdk.org (localhost [127.0.0.1]) by mails.dpdk.org (Postfix) with ESMTP id 1CD33400D6; Sat, 15 Nov 2025 03:29:01 +0100 (CET) Received: from mail-il1-f227.google.com (mail-il1-f227.google.com [209.85.166.227]) by mails.dpdk.org (Postfix) with ESMTP id 8B6B7400D6 for ; Sat, 15 Nov 2025 03:28:59 +0100 (CET) Received: by mail-il1-f227.google.com with SMTP id e9e14a558f8ab-4330e912c51so11947135ab.3 for ; Fri, 14 Nov 2025 18:28:59 -0800 (PST) DKIM-Signature: v=1; a=rsa-sha256; c=relaxed/relaxed; d=iol.unh.edu; s=unh-iol; t=1763173739; x=1763778539; darn=dpdk.org; h=references:in-reply-to:cc:to:from:subject:message-id:date:from:to :cc:subject:date:message-id:reply-to; bh=05SLVpNYYfDlrsQGwscRqX0yBNGDZZA1Idr0Ct72CG4=; b=IUdDC2B4zDwfx0XNfWTdCU+FGtpvUPvIoVjc51m4X/dfLO/f4iPwtPcx105u05GMyR 3wOoAJLQVAqaaDgkXR4VD5p/WRRW7vyrWn+TtCCnfKHxQpzlOoaoxrM+CD68PJq371oc 8RpLKDVS16ZOY81QJYEQT6vNs8k/6QCDDabUE= X-Google-DKIM-Signature: v=1; a=rsa-sha256; c=relaxed/relaxed; d=1e100.net; s=20230601; t=1763173739; x=1763778539; h=references:in-reply-to:cc:to:from:subject:message-id:date:x-gm-gg :x-gm-message-state:from:to:cc:subject:date:message-id:reply-to; bh=05SLVpNYYfDlrsQGwscRqX0yBNGDZZA1Idr0Ct72CG4=; b=awkPTB00YsIU9977ifWJGk7jLepYZOMayTLoHnSihn4uaNSKRK+ae8IGEOL9PUjMXc t+GLPGb6dHyIMqc7uXJiabmHtS2VpfLSvYpy0gH8uDTzJ5XwGIEEGRQ8NhkyExC3Aau9 e1Asw9tOlnPn6aDBq5DIZ98JOzHzA5CYItQTN3YNJuHJDxXOHnlu99slvB6jnq69LEkv R9LIRQRC52oPJQxdDE7zg7/dXzuI7KVslTVOJbrpPm05A9qR+PCrWrP/v5E+VX6L88wr mhtgdGU3bbMAwMvEjWJ5Bo/qO/JRODGrtz+DdAXtob+v2O3JeF8k1DvtFjUjzsVp22hQ MwZg== X-Gm-Message-State: AOJu0Yzgrr3DqSIUzfgR5nt6d+CdrueFpUO/CxGbdGktFRTM0BzsNlzL jC4MwVnXb227ts9T9fKkPUTNXsswKXIY6Fx2Is86hHOAMuoI9EN74/IZNcui9XaKpXvOfFXXXeI tTj5lOh0BYz5rJ5P0wrxmPJYkBcBHla+M42nJCxgki1D2L/A7/Msa9ykrzMKq X-Gm-Gg: ASbGncu7DahSfjr/HSWL3lKqbiA0pN/UnKZ5LklEBPUHWWifgqf+GQzoflBai6KXfEF wHCVoo9sZdwENWO0FbUdzeAPCOcfDjlQTYymj7vllS5AT/gTQ0XvkLKRSyNB9gsbAcnkKhxWc8i GnoS6DAy+t+mz+VZ5XuTPx6MqPklkW+rZoz+I+R1z8y7FKpgSlHH5w7/RBzB5XA4PT6JhuS8Eyi WrqS0WSEyY7mB0u8AWQ6Mk1LY6CosjqtBMuBHmm4eX/BpyeQrdkBjTWkALxxJN2PSqlyf9iW1Qs iozXf6/uMaw1TPfW5H3hQ/9y94Yov8YVBxgp7M6Yizgs6Uk4SAkmifogfUbhabwicTAMpQzRvmb SIL+NwlDQ X-Google-Smtp-Source: AGHT+IFctgO2HkK6GdJa6kVu6TiDMir0Z+uRj77SZ818HlfVBDlncZDi/KbpQy0uPFG4pu3+SsoP69E5lu9V X-Received: by 2002:a92:c269:0:b0:433:720b:2b80 with SMTP id e9e14a558f8ab-4348c878314mr79077615ab.5.1763173738833; Fri, 14 Nov 2025 18:28:58 -0800 (PST) Received: from postal.iol.unh.edu (postal.iol.unh.edu. [2606:4100:3880:1234::84]) by smtp-relay.gmail.com with ESMTPS id e9e14a558f8ab-434839d3d0dsm6052715ab.25.2025.11.14.18.28.58 (version=TLS1_2 cipher=ECDHE-ECDSA-AES128-GCM-SHA256 bits=128/128); Fri, 14 Nov 2025 18:28:58 -0800 (PST) X-Relaying-Domain: iol.unh.edu Date: Fri, 14 Nov 2025 18:28:58 -0800 (PST) Message-ID: <6917e56a.050a0220.3d2cc7.d5afSMTPIN_ADDED_MISSING@mx.google.com> Received: from [172.21.0.2] (unknown [172.18.0.240]) by postal.iol.unh.edu (Postfix) with ESMTP id 6E3C46051830; Fri, 14 Nov 2025 21:28:58 -0500 (EST) Subject: |SUCCESS| pw158815 [PATCH] net/qede: remove unused file From: dpdklab@iol.unh.edu To: Test Report Cc: dpdk-test-reports@iol.unh.edu In-Reply-To: <20251114180251.1233757-1-stephen@networkplumber.org> References: <20251114180251.1233757-1-stephen@networkplumber.org> Content-Type: text/plain X-BeenThere: test-report@dpdk.org X-Mailman-Version: 2.1.29 Precedence: list List-Id: automatic DPDK test reports List-Unsubscribe: , List-Archive: List-Post: List-Help: List-Subscribe: , Errors-To: test-report-bounces@dpdk.org Test-Label: iol-compile-amd64-testing Test-Status: SUCCESS http://dpdk.org/patch/158815 _Testing PASS_ Submitter: Stephen Hemminger Date: Friday, November 14 2025 18:02:51 DPDK git baseline: Repo:dpdk-next-net-mrvl Branch: master CommitID:db4c93a4c6e088346c7e6d7e744178295b568461 158815 --> testing pass Upstream job id: Windows-Compile-DPDK-VS#7559 Test environment and result as below: +-------------------------------+--------------------+-------------------+ | Environment | dpdk_meson_compile | dpdk_msvc_compile | +===============================+====================+===================+ | Ubuntu 20.04 | PASS | SKIPPED | +-------------------------------+--------------------+-------------------+ | FreeBSD 14.2 | PASS | SKIPPED | +-------------------------------+--------------------+-------------------+ | Red Hat Enterprise Linux 8.10 | PASS | SKIPPED | +-------------------------------+--------------------+-------------------+ | Windows Server 2022 | SKIPPED | PASS | +-------------------------------+--------------------+-------------------+ Ubuntu 20.04 Kernel: 4.19 Compiler: gcc gcc (Ubuntu 9.4.0-1ubuntu1~20.04.2) 9.4.0 FreeBSD 14.2 Kernel: 14.2-RELEASE Compiler: clang 18.1.6 Red Hat Enterprise Linux 8.10 Kernel: 5.15 Compiler: gcc gcc (GCC) 8.5.0 20210514 (Red Hat 8.5.0-22) Windows Server 2022 Kernel: 10.0.20348.2031 Compiler: clang 15.0.7, gcc 14.1.0 (MinGW), and MSVC VS 19.39.33521 To view detailed results, visit: https://lab.dpdk.org/results/dashboard/patchsets/34597/ UNH-IOL DPDK Community Lab To manage your email subscriptions, visit: https://lab.dpdk.org/results/dashboard/preferences/subscriptions/