From mboxrd@z Thu Jan 1 00:00:00 1970 Return-Path: Received: from mails.dpdk.org (mails.dpdk.org [217.70.189.124]) by inbox.dpdk.org (Postfix) with ESMTP id CC41348B10 for ; Sat, 15 Nov 2025 04:03:01 +0100 (CET) Received: from mails.dpdk.org (localhost [127.0.0.1]) by mails.dpdk.org (Postfix) with ESMTP id C7686400D6; Sat, 15 Nov 2025 04:03:01 +0100 (CET) Received: from mail-io1-f98.google.com (mail-io1-f98.google.com [209.85.166.98]) by mails.dpdk.org (Postfix) with ESMTP id E639E400D6 for ; Sat, 15 Nov 2025 04:02:59 +0100 (CET) Received: by mail-io1-f98.google.com with SMTP id ca18e2360f4ac-940d9772e28so107420139f.2 for ; Fri, 14 Nov 2025 19:02:59 -0800 (PST) DKIM-Signature: v=1; a=rsa-sha256; c=relaxed/relaxed; d=iol.unh.edu; s=unh-iol; t=1763175779; x=1763780579; darn=dpdk.org; h=references:in-reply-to:cc:to:from:subject:message-id:date:from:to :cc:subject:date:message-id:reply-to; bh=aoHdwZVCxGjm5ldIZ9QKLYbyXAaNpiOZSuBVtALAcpo=; b=JNeeoaKyxy7h7XsXW3Fdtk13lomdKBHjZN6qi73u4lf+Uj2Fs1XtqGI5pNswZh8IXO w9RosGeBUqEjo0YRvLn8UO29u2C8vCCavMVjDxXZ2QkMCkEUleMR83vuMKaySuhd/e2K ic/ftL8NDOCK0riREOojqeJa1zjveGS+wsesI= X-Google-DKIM-Signature: v=1; a=rsa-sha256; c=relaxed/relaxed; d=1e100.net; s=20230601; t=1763175779; x=1763780579; h=references:in-reply-to:cc:to:from:subject:message-id:date:x-gm-gg :x-gm-message-state:from:to:cc:subject:date:message-id:reply-to; bh=aoHdwZVCxGjm5ldIZ9QKLYbyXAaNpiOZSuBVtALAcpo=; b=K8yf+AcB63S1MXgk4tdP1iZIfRr8nxDgS8Pw/6Qka0mqoQGTUeubCi+da5Q+v6ba68 BcaHEmRO/bHkbE8qNLE6JbUO02V7p3Jnnzs6/fjsGncawaQCLdoF0+yXDhpDoKOtWvdY VeZ6ejpHrolyRy/JmWB5Fk+/FGsldWbhtBTVqXqBkLbKs4r9zxpIRlmEkXSL3RkRNhpO kb830bcFR2HpfR/nZYwtdRgwThhYWs+8CiFDfx9dc02WOehLfPRYVGAVykztWiFJPQoy K7mrSCur5BfD11FjH0Rz4ruOpOezsgOY6sinMDx8iKIiY/hSS/L2JUEGhX+sattoU8Yg 1EKg== X-Gm-Message-State: AOJu0YwykcrOsHLtvK15xqnSKpStnf7FcedX0ivkBZdpGpUIiFP7E8xF rNthaY2SuIPgLh6ywtcW6nlzAcjNHrdcYCxMnJDyLXV97sJJ4TEajHT9KngBzp6NkkNjRXe4rM3 a/Eb4lK5FrRJWyRJIqfJ4eUOT1hzgDL8jjlnaztzKzyEZ X-Gm-Gg: ASbGncsauhPPSUFE3D+opoUQ1bnAZl9dZXM6n+aIIVxDE8Ocxx1Yn7ZnvfneLzf4sht 51YBL/aP50y0dFXuYvUOaww8v69uWJ7O4Dt0Nr8Q+0ZXQl3PE3HA/u8XV8f1Ouo4Y4Slq6EY1Za ijRJgOVULIuTrFQ0XS2XUT3R5xfWRpbtU25gYUsMYTf5ebhlo2iKc5bKVZJR7AHWv4xE/yXM4y7 c6VOsIi0t2ybwEjla5U6ch6t5yhi03d4bGw4Yvpz2sCHpaxNQNQAeV/jOeJn7c+u3D47bHJCKpU Syiq4iam3HZFhIzGiwNXli9EQscZYE7nCcEkHkljGYKtbaCxDevX8nZDwoFgfAEFl1weIA88/AT B24Gn7pGQc40fM2EKoS4rK85VuOBnFQY= X-Google-Smtp-Source: AGHT+IFbg/pV85PQ/KUgAdTS4viHuFCQpvK5qNV9UDQ5p4w9b33GdDJjQBH5dntUkKdL/AD+wyMggv71hndK X-Received: by 2002:a05:6602:2cd4:b0:948:786f:4a54 with SMTP id ca18e2360f4ac-948e0cd1599mr769772939f.2.1763175779167; Fri, 14 Nov 2025 19:02:59 -0800 (PST) Received: from postal.iol.unh.edu (postal.iol.unh.edu. [132.177.123.84]) by smtp-relay.gmail.com with ESMTPS id 8926c6da1cb9f-5b7bd27fc2fsm318488173.17.2025.11.14.19.02.59 (version=TLS1_2 cipher=ECDHE-ECDSA-AES128-GCM-SHA256 bits=128/128); Fri, 14 Nov 2025 19:02:59 -0800 (PST) X-Relaying-Domain: iol.unh.edu Date: Fri, 14 Nov 2025 19:02:59 -0800 (PST) Message-ID: <6917ed63.050a0220.f6d07.0a7fSMTPIN_ADDED_MISSING@mx.google.com> Received: from [172.21.0.2] (unknown [172.18.0.240]) by postal.iol.unh.edu (Postfix) with ESMTP id B5EB36051830; Fri, 14 Nov 2025 22:02:58 -0500 (EST) Subject: |SUCCESS| pw158816 [PATCH] net/e1000: add check for filter mask rang From: dpdklab@iol.unh.edu To: Test Report Cc: dpdk-test-reports@iol.unh.edu, Bruce Richardson In-Reply-To: <20251114182131.1296580-1-stephen@networkplumber.org> References: <20251114182131.1296580-1-stephen@networkplumber.org> Content-Type: text/plain X-BeenThere: test-report@dpdk.org X-Mailman-Version: 2.1.29 Precedence: list List-Id: automatic DPDK test reports List-Unsubscribe: , List-Archive: List-Post: List-Help: List-Subscribe: , Errors-To: test-report-bounces@dpdk.org Test-Label: iol-compile-amd64-testing Test-Status: SUCCESS http://dpdk.org/patch/158816 _Testing PASS_ Submitter: Stephen Hemminger Date: Friday, November 14 2025 18:21:31 DPDK git baseline: Repo:dpdk-next-net-intel Branch: master CommitID:e5357d609907d504f4705e4899f3dad43cb4b70f 158816 --> testing pass Upstream job id: Windows-Compile-DPDK-VS#7560 Test environment and result as below: +---------------------+--------------------+-------------------+ | Environment | dpdk_meson_compile | dpdk_msvc_compile | +=====================+====================+===================+ | Ubuntu 20.04 | PASS | SKIPPED | +---------------------+--------------------+-------------------+ | FreeBSD 14.2 | PASS | SKIPPED | +---------------------+--------------------+-------------------+ | CentOS Stream 10 | PASS | SKIPPED | +---------------------+--------------------+-------------------+ | Windows Server 2022 | SKIPPED | PASS | +---------------------+--------------------+-------------------+ Ubuntu 20.04 Kernel: 4.19 Compiler: gcc gcc (Ubuntu 9.4.0-1ubuntu1~20.04.2) 9.4.0 FreeBSD 14.2 Kernel: 14.2-RELEASE Compiler: clang 18.1.6 CentOS Stream 10 Kernel: 5.15 Compiler: gcc gcc (GCC) 14.2.1 20250110 (Red Hat 14.2.1-8) Windows Server 2022 Kernel: 10.0.20348.2031 Compiler: clang 15.0.7, gcc 14.1.0 (MinGW), and MSVC VS 19.39.33521 To view detailed results, visit: https://lab.dpdk.org/results/dashboard/patchsets/34598/ UNH-IOL DPDK Community Lab To manage your email subscriptions, visit: https://lab.dpdk.org/results/dashboard/preferences/subscriptions/