From mboxrd@z Thu Jan 1 00:00:00 1970 Return-Path: Received: from mails.dpdk.org (mails.dpdk.org [217.70.189.124]) by inbox.dpdk.org (Postfix) with ESMTP id EEB0748B10 for ; Sat, 15 Nov 2025 04:13:14 +0100 (CET) Received: from mails.dpdk.org (localhost [127.0.0.1]) by mails.dpdk.org (Postfix) with ESMTP id C6BD4400D6; Sat, 15 Nov 2025 04:13:14 +0100 (CET) Received: from mail-oa1-f100.google.com (mail-oa1-f100.google.com [209.85.160.100]) by mails.dpdk.org (Postfix) with ESMTP id 0D093400D6 for ; Sat, 15 Nov 2025 04:13:14 +0100 (CET) Received: by mail-oa1-f100.google.com with SMTP id 586e51a60fabf-3e2eeb85822so1250232fac.2 for ; Fri, 14 Nov 2025 19:13:13 -0800 (PST) DKIM-Signature: v=1; a=rsa-sha256; c=relaxed/relaxed; d=iol.unh.edu; s=unh-iol; t=1763176393; x=1763781193; darn=dpdk.org; h=cc:to:from:subject:message-id:date:from:to:cc:subject:date :message-id:reply-to; bh=HC2YQKtQWipvdeVOi8EMLCsmX578fZbOyw/8e5uOqyc=; b=dDb8w8J31XU/BerFECKIhGX7kZAuk5mNMPIJctZIKNxmtqt4q2nZA83FKuitH+wg+n fidcDNriE9JHFIatbqQZR92w7kqWDsYDiiBK+0huCx4/0Dw/gN+gt26bq8PE3Du0J1ck P7bm9NegGDUsiBMCZmDo4PR0h7aKc9pXsOy08= X-Google-DKIM-Signature: v=1; a=rsa-sha256; c=relaxed/relaxed; d=1e100.net; s=20230601; t=1763176393; x=1763781193; h=cc:to:from:subject:message-id:date:x-gm-gg:x-gm-message-state:from :to:cc:subject:date:message-id:reply-to; bh=HC2YQKtQWipvdeVOi8EMLCsmX578fZbOyw/8e5uOqyc=; b=PyOK6eN8NCLH28XPrDsg/JMXMJ4khQFvvWl8YzZSZb9IxWV0KKoTZgf1rXqEHpLKL/ Y4UhJdN51smkVQOE5gEx4SF20/jmFqKEVQ+ozTVIWhotncbNAJ3ugJqSaQLKGWZIpR7Z Fq7DdZZ8TvDOHuMqoBCc0aAZN8pz/R1Wl/ljx0a7S+I04rtPN33rd5pmg2ZPCz7921mT WAuKoJLuk0qZD4vV4Uv+J0dmIsEkKAFGlEj8s1WLz1X8nriL01jw9EulYigdz3NSvgBX zUXOvJEcOxlJ/0yrxbyd2K5ePDdktjlGi2djiMHDGJ+RVh3wrBjR5osJDxomJGUzTa3A xSDA== X-Gm-Message-State: AOJu0Yx/aD/084R4YVRhVQ0ixKsZS2i9rWrJCdBB4YSGD/5DUVDF1AUT FQnMS5x2AngO9BJqWlvELOKrjQ8JCwKfJ+fTCbxw9V2t+k+UKAWYDfx/+j4cdA5gX+qTZUnEDRx 3hvEyJGEL4PaOX6o+r/fmfSy17kkXBLWA8C7d X-Gm-Gg: ASbGncuT6Y9FRjI1UPy4vQd3wiIYU6cWUIZLKDIHWMEsCoTat1FBMB/BEDtG0X+KFh8 3PkycC5v70ksz3eaavPj5y2J79Q19o9lHzfhXwFy3QoSEACZ17WsqLydnufoBlL5TMjvONlCoWQ MgUVi8Iqwa3N9jiR93cVGsW1flu7GCwEPkjmVaU1pAaZ9OYRgvXUZ/3R8baRRuLwobeyxZ3jATb wKf2rNXBBObOKc472s8HHYrJDBKFVl2qItPoE0YnoJapN77YfJhEq22Qs4jb76Wz5L03dFDUWju LO2hWEeZ28n8MhIgeBuz6cf7MEJxa1ATc7hQe2KDwGMAxfaOZ3quSjeFP5PWXjsm5mm/BI1vWMx xLAj0n4MqMynVlT6DguPGWIIz80W2gJk= X-Google-Smtp-Source: AGHT+IFF3AUkpTXhk6LJ1w7irjdcadQbuE03AJ7zKeFUgQ6Anbk82OglBJAyoJhERwykz+zSpb9rZ29Bww2V X-Received: by 2002:a05:6871:341f:b0:3d3:3f8c:6feb with SMTP id 586e51a60fabf-3e868e8e7d3mr2437310fac.8.1763176393108; Fri, 14 Nov 2025 19:13:13 -0800 (PST) Received: from postal.iol.unh.edu (postal.iol.unh.edu. [132.177.123.84]) by smtp-relay.gmail.com with ESMTPS id 46e09a7af769-7c73a292469sm634342a34.2.2025.11.14.19.13.13 (version=TLS1_2 cipher=ECDHE-ECDSA-AES128-GCM-SHA256 bits=128/128); Fri, 14 Nov 2025 19:13:13 -0800 (PST) X-Relaying-Domain: iol.unh.edu Date: Fri, 14 Nov 2025 19:13:13 -0800 (PST) Message-ID: <6917efc9.050a0220.144b66.f3a6SMTPIN_ADDED_MISSING@mx.google.com> Received: from [172.21.0.3] (unknown [172.18.0.240]) by postal.iol.unh.edu (Postfix) with ESMTP id 953426051830; Fri, 14 Nov 2025 22:13:12 -0500 (EST) Subject: |SUCCESS| [GIT MASTER] 9784db2c5af1eecd02fc21132b59b5b266039b87 From: dpdklab@iol.unh.edu To: Test Report Cc: dpdk-test-reports@iol.unh.edu, Xueming Li , Christian Ehrhardt , Kevin Traynor , Luca Boccassi Content-Type: text/plain X-BeenThere: test-report@dpdk.org X-Mailman-Version: 2.1.29 Precedence: list List-Id: automatic DPDK test reports List-Unsubscribe: , List-Archive: List-Post: List-Help: List-Subscribe: , Errors-To: test-report-bounces@dpdk.org _Testing PASS_ Branch: tags/v22.11 9784db2c5af1eecd02fc21132b59b5b266039b87 --> testing pass Upstream job id: Generic-Unit-Test-DPDK#392597 Test environment and result as below: +-----------------+------------------------------+--------------+---------------------------+----------------+ | Environment | cryptodev_sw_snow3g_autotest | lpm_autotest | cryptodev_sw_zuc_autotest | dpdk_unit_test | +=================+==============================+==============+===========================+================+ | Debian 12 (arm) | PASS | SKIPPED | PASS | SKIPPED | +-----------------+------------------------------+--------------+---------------------------+----------------+ | Ubuntu 20.04 | SKIPPED | PASS | SKIPPED | SKIPPED | +-----------------+------------------------------+--------------+---------------------------+----------------+ | Ubuntu 22.04 | SKIPPED | SKIPPED | SKIPPED | PASS | +-----------------+------------------------------+--------------+---------------------------+----------------+ Debian 12 (arm) Kernel: Depends on container host Compiler: gcc (Debian 12.2.0-14) 12.2.0 Ubuntu 20.04 Kernel: 5.4 Compiler: gcc gcc (Ubuntu 9.4.0-1ubuntu1~20.04.2) 9.4.0 Ubuntu 22.04 Kernel: 5.15 Compiler: gcc gcc (Ubuntu 11.4.0-1ubuntu1~22.04.2) 11.4.0 To view detailed results, visit: https://lab.dpdk.org/results/dashboard/tarballs/35592/ UNH-IOL DPDK Community Lab To manage your email subscriptions, visit: https://lab.dpdk.org/results/dashboard/preferences/subscriptions/