From mboxrd@z Thu Jan 1 00:00:00 1970 Return-Path: Received: from mails.dpdk.org (mails.dpdk.org [217.70.189.124]) by inbox.dpdk.org (Postfix) with ESMTP id E086848B10 for ; Sat, 15 Nov 2025 04:13:27 +0100 (CET) Received: from mails.dpdk.org (localhost [127.0.0.1]) by mails.dpdk.org (Postfix) with ESMTP id DBF7C400D6; Sat, 15 Nov 2025 04:13:27 +0100 (CET) Received: from mail-io1-f97.google.com (mail-io1-f97.google.com [209.85.166.97]) by mails.dpdk.org (Postfix) with ESMTP id 28A5C400D6 for ; Sat, 15 Nov 2025 04:13:22 +0100 (CET) Received: by mail-io1-f97.google.com with SMTP id ca18e2360f4ac-9486248f01bso92079739f.0 for ; Fri, 14 Nov 2025 19:13:22 -0800 (PST) DKIM-Signature: v=1; a=rsa-sha256; c=relaxed/relaxed; d=iol.unh.edu; s=unh-iol; t=1763176401; x=1763781201; darn=dpdk.org; h=cc:to:from:subject:message-id:date:from:to:cc:subject:date :message-id:reply-to; bh=rXPU6qBtcKkleVw6Qb4osqpL0nV0xhR6P+A0KojyIq8=; b=akpYl+LTuoACsH8MBXbl6FyrAzKFgMCeTq8kd1Qt4tC4jEaUrd8eG89iqTDaLzbsz9 2+haa91oo7G4uGd2O51xwixe+I2GFlH/kOeC7xLyDDVfBktqIrsqFpt8JIMOFVb6e0Y3 1gCNm9oj5JlokOQwXnCxVLu/3PZx0E/nD2dwU= X-Google-DKIM-Signature: v=1; a=rsa-sha256; c=relaxed/relaxed; d=1e100.net; s=20230601; t=1763176401; x=1763781201; h=cc:to:from:subject:message-id:date:x-gm-gg:x-gm-message-state:from :to:cc:subject:date:message-id:reply-to; bh=rXPU6qBtcKkleVw6Qb4osqpL0nV0xhR6P+A0KojyIq8=; b=UkfaBJdD5JZF4pB+3j5HOCae052Z23pE+H+sQUe9kzw9ucOh63swxJs7vj4Hlc8hSr TVR99ska8HOHSXSoblgnZnb9RswTkHqUHohlOXiiBGGw2n0VAKX3ZwBpJfGKSvkLb5jX iRz+ujuzOTgdLx16i/RjinavSF6TwQA3pqwtCaZ9avV+iMysUCnEd59G3rs8ZQWGK9XI SMbpIjgBOuovaNKOKt8m2NIHrwM9OzpOtqShLnUq7ix224K4a3b5HtfEbmw2zMRDjl2b N2TYBglrqqwiObFQJJM3GO1oMc02oqTnkFArLB4OcsySYZ2+h7nHocqn7eVEAU8usfTE XkFQ== X-Gm-Message-State: AOJu0Yw2DCRrsn927Q0jxKT7CP6JSPd1EQUYsHnihM/L9LOUpFhkFYuV eUh9ObIHBYIYpG9MYW6N9ZyqkXVMM7iy3IVYBitM4ruzlbX6EUaGUEYzMVMY0AGMLi+QLwmkmuh 8ZDkjjc66WiRR2kxLpuA9DqQ9MD7+h1aW6xnC0hCFekAyFbiISndL X-Gm-Gg: ASbGncunILsnGmz8f/otN9Ec0XjZghBmAgvijW5jOhEj8T3NvJemProk4lo6l5M8+OF VfbSTwJzGlwwav7Lubky7+TACI4C+Z81R30xle83N38uE7GxxzNmCMXo/BHuRL0GX3nDpOUD63d rOzrNejtYcwQEgfEpj4r6RcUf82Y6sXPxyePVHbv/OUuKBlhEr//ZM0l3YVEDu0doRG2X8zq/pz aTAVyZROAlQ5BApxySLWXYJ1osmwEwPdQ46SXiP2JWTNL8fJy7BbcGTAYZSNSqz6icaQY10ZLg6 LOaxB37KNeqSsJfIRzIZpk5MI5UDP31vzThtBQpRecEza1rOAM8DEYd4ayqluKXgQH0Rpu6xANs QAlhxhoHn X-Google-Smtp-Source: AGHT+IHKZI2+3hLvN/GiBCwSPZ/XP5294zaL3G2z3LbZLwTgPqMNX67muRxA06w7rpDW4ASjYmufXS2MUuqq X-Received: by 2002:a02:cf01:0:b0:5b7:d710:6613 with SMTP id 8926c6da1cb9f-5b7d71066b2mr789034173.22.1763176401428; Fri, 14 Nov 2025 19:13:21 -0800 (PST) Received: from postal.iol.unh.edu (postal.iol.unh.edu. [2606:4100:3880:1234::84]) by smtp-relay.gmail.com with ESMTPS id 8926c6da1cb9f-5b7bd33517dsm328638173.30.2025.11.14.19.13.21 (version=TLS1_2 cipher=ECDHE-ECDSA-AES128-GCM-SHA256 bits=128/128); Fri, 14 Nov 2025 19:13:21 -0800 (PST) X-Relaying-Domain: iol.unh.edu Date: Fri, 14 Nov 2025 19:13:21 -0800 (PST) Message-ID: <6917efd1.050a0220.3980b.ff5aSMTPIN_ADDED_MISSING@mx.google.com> Received: from [172.21.0.4] (unknown [172.18.0.240]) by postal.iol.unh.edu (Postfix) with ESMTP id 01B2B6051830; Fri, 14 Nov 2025 22:13:21 -0500 (EST) Subject: |SUCCESS| [GIT MASTER] 0bd935abcb823f581ce53986986aa54eaf6f8140 From: dpdklab@iol.unh.edu To: Test Report Cc: dpdk-test-reports@iol.unh.edu, Xueming Li , Christian Ehrhardt , Kevin Traynor , Luca Boccassi Content-Type: text/plain X-BeenThere: test-report@dpdk.org X-Mailman-Version: 2.1.29 Precedence: list List-Id: automatic DPDK test reports List-Unsubscribe: , List-Archive: List-Post: List-Help: List-Subscribe: , Errors-To: test-report-bounces@dpdk.org _Testing PASS_ Branch: tags/v24.11 0bd935abcb823f581ce53986986aa54eaf6f8140 --> testing pass Upstream job id: Generic-VM-Unit-Test-DPDK#32567 Test environment and result as below: +-------------------------------+----------------+ | Environment | dpdk_unit_test | +===============================+================+ | CentOS Stream 9 | PASS | +-------------------------------+----------------+ | Fedora Linux 40 | PASS | +-------------------------------+----------------+ | Fedora Linux 41 | PASS | +-------------------------------+----------------+ | Fedora Linux 42 | PASS | +-------------------------------+----------------+ | Debian GNU/Linux 12 | PASS | +-------------------------------+----------------+ | CentOS Stream 10 | PASS | +-------------------------------+----------------+ | Red Hat Enterprise Linux 8.10 | PASS | +-------------------------------+----------------+ | Red Hat Enterprise Linux 9.5 | PASS | +-------------------------------+----------------+ | Ubuntu 22.04 | PASS | +-------------------------------+----------------+ | Ubuntu 24.04 | PASS | +-------------------------------+----------------+ | Ubuntu 20.04 | PASS | +-------------------------------+----------------+ | Windows Server 2022 | PASS | +-------------------------------+----------------+ CentOS Stream 9 Kernel: 5.15 Compiler: gcc gcc (GCC) 11.5.0 20240719 (Red Hat 11.5.0-11) Fedora Linux 40 Kernel: 5.15 Compiler: gcc gcc (GCC) 14.2.1 20240912 (Red Hat 14.2.1-3) Fedora Linux 41 Kernel: 5.15 Compiler: gcc gcc (GCC) 14.3.1 20250523 (Red Hat 14.3.1-1) Fedora Linux 42 Kernel: 5.15 Compiler: gcc gcc (GCC) 15.2.1 20250808 (Red Hat 15.2.1-1) Debian GNU/Linux 12 Kernel: 5.15 Compiler: gcc gcc (Debian 12.2.0-14+deb12u1) 12.2.0 CentOS Stream 10 Kernel: 5.15 Compiler: gcc gcc (GCC) 14.2.1 20250110 (Red Hat 14.2.1-8) Red Hat Enterprise Linux 8.10 Kernel: 5.15 Compiler: gcc gcc (GCC) 8.5.0 20210514 (Red Hat 8.5.0-22) Red Hat Enterprise Linux 9.5 Kernel: 5.15 Compiler: gcc gcc (GCC) 11.5.0 20240719 (Red Hat 11.5.0-2) Ubuntu 22.04 Kernel: 5.15 Compiler: gcc gcc (Ubuntu 11.4.0-1ubuntu1~22.04) 11.4.0 Ubuntu 24.04 Kernel: 5.15 Compiler: gcc gcc (Ubuntu 13.3.0-6ubuntu2~24.04) 13.3.0 Ubuntu 20.04 Kernel: 5.15 Compiler: gcc gcc (Ubuntu 9.4.0-1ubuntu1~20.04.2) 9.4.0 Windows Server 2022 Kernel: 10.0.20348.2031 Compiler: clang 15.0.7, gcc 14.1.0 (MinGW), and MSVC VS 19.39.33521 To view detailed results, visit: https://lab.dpdk.org/results/dashboard/tarballs/35594/ UNH-IOL DPDK Community Lab To manage your email subscriptions, visit: https://lab.dpdk.org/results/dashboard/preferences/subscriptions/