From mboxrd@z Thu Jan 1 00:00:00 1970 Return-Path: Received: from mails.dpdk.org (mails.dpdk.org [217.70.189.124]) by inbox.dpdk.org (Postfix) with ESMTP id B5D1D48B10 for ; Sat, 15 Nov 2025 04:19:40 +0100 (CET) Received: from mails.dpdk.org (localhost [127.0.0.1]) by mails.dpdk.org (Postfix) with ESMTP id 9C12E400D6; Sat, 15 Nov 2025 04:19:40 +0100 (CET) Received: from mail-pf1-f226.google.com (mail-pf1-f226.google.com [209.85.210.226]) by mails.dpdk.org (Postfix) with ESMTP id A40D2400D6 for ; Sat, 15 Nov 2025 04:19:38 +0100 (CET) Received: by mail-pf1-f226.google.com with SMTP id d2e1a72fcca58-7b9215e55e6so1800601b3a.2 for ; Fri, 14 Nov 2025 19:19:38 -0800 (PST) DKIM-Signature: v=1; a=rsa-sha256; c=relaxed/relaxed; d=iol.unh.edu; s=unh-iol; t=1763176778; x=1763781578; darn=dpdk.org; h=cc:to:from:subject:message-id:date:from:to:cc:subject:date :message-id:reply-to; bh=UjIPmz+7UW3bWVFSJpbyBEC8v2iylLEXjysaWlmhM+I=; b=UDXYs4JWQiQp6xDXTspwP06hpR5J6nsujW/c4V5BqU0t/BUQP4WkzWAW1DeGwuwfFo V1/pmyTjYpxi+jPeO/yATTX7yMO+ZjaGUUReciE9aF5FGqJ1bICInFilDkrrFN9julM3 +fNsM8UlvpVRYGDhMZqcdSEdhekxyD4GZQuPo= X-Google-DKIM-Signature: v=1; a=rsa-sha256; c=relaxed/relaxed; d=1e100.net; s=20230601; t=1763176778; x=1763781578; h=cc:to:from:subject:message-id:date:x-gm-gg:x-gm-message-state:from :to:cc:subject:date:message-id:reply-to; bh=UjIPmz+7UW3bWVFSJpbyBEC8v2iylLEXjysaWlmhM+I=; b=GIsVDKwWJyqvWKYivqbWBdbJRjbKnfH04PdJDu+nUKNhz+Z5YtGE14qpOwJWLga3Kd JxktXmh9Hqbb6HbVmcdDaaTjAnoktAm2OOfVRVaWOnbrB8Z+wanWNV6glZd/v10fsNBb FK7tTPwqlzu3yB1Q8YVKyT3c77XuUUpTUsMoKyBEdDFzWVlqylo90sXovfgko4Xo1aDU JMNbOI35KshMsF18oSc4LCcuzK6tUSXJhCrPTOCy76X0J7P/pHQU3zxmEdJpEk5KCJwi UaFt0shpcweXIruCXi0FyxsEsbQyaHKZqEHHVzonH7p6JcI/pdyhs2zUWEpaAYa9K9T7 PGaQ== X-Gm-Message-State: AOJu0YxF2advVlSe5ctMmtN3PlECpEAm+SVsebc56TeLmb7LIe52/rue V6bL+5wJNK+huD3VZsVuvHvW41PXlUH658Byj/PnuTTOJvCOyDGnp/8aYQDUsiY+rSMtz0F/f5h D4OQI/cGmNDCFgf2D7pZ+XYL86y547KhGDwVV X-Gm-Gg: ASbGncsaf5aVnyZbPF26XtHYl+zq+iEoVuk9ws6dwS/9p21wRuxkYpTuuX0+nd7W9PY zi09G3FwoG6Jtby7hZpCZmsBOFOIcFALZp0pcxxjCvK8VLijmuw5qjOZ9fdZxECJo6DSg10m3rI 5JiDy738RDuo7HRYUca0PB0S6zMP+V06VPVyjRNdMujrijJDp89H1UvFHBJB3DVkXMeRhl8mHml 6c+L53qIkWGPjnYcMr/5MrMZbkXdcJTrbZK+RRiiDTuFxRN5wnvMWlh+TtEuUMM/62s8wQiMVjB UnS7kytD6Zd9nC7h6weeR0cokQX0qDyfCcHr8bvRRdVUq+lfnWKOcm78BkDQCNOSxZ2PBjiDsoq pME6KjNlm6nnSFWzGE78NPCQotiCccuo= X-Google-Smtp-Source: AGHT+IFVMZMUiCUqOgUZKoSar8D0GzbgDwkl015k5I1SF8V7dRQKZGWP5Fk6/RyplEAdHdD2WQgAMppBps9G X-Received: by 2002:a05:6a20:4329:b0:33e:779e:fa7f with SMTP id adf61e73a8af0-35b9f8851efmr7612222637.1.1763176777740; Fri, 14 Nov 2025 19:19:37 -0800 (PST) Received: from postal.iol.unh.edu (postal.iol.unh.edu. [132.177.123.84]) by smtp-relay.gmail.com with ESMTPS id 41be03b00d2f7-bc36faf96e3sm453947a12.8.2025.11.14.19.19.37 (version=TLS1_2 cipher=ECDHE-ECDSA-AES128-GCM-SHA256 bits=128/128); Fri, 14 Nov 2025 19:19:37 -0800 (PST) X-Relaying-Domain: iol.unh.edu Date: Fri, 14 Nov 2025 19:19:37 -0800 (PST) Message-ID: <6917f149.630a0220.e957d.6472SMTPIN_ADDED_MISSING@mx.google.com> Received: from [172.21.0.2] (unknown [172.18.0.240]) by postal.iol.unh.edu (Postfix) with ESMTP id EEA5B6051830; Fri, 14 Nov 2025 22:19:36 -0500 (EST) Subject: |SUCCESS| [GIT MASTER] 0bd935abcb823f581ce53986986aa54eaf6f8140 From: dpdklab@iol.unh.edu To: Test Report Cc: dpdk-test-reports@iol.unh.edu, Xueming Li , Christian Ehrhardt , Kevin Traynor , Luca Boccassi Content-Type: text/plain X-BeenThere: test-report@dpdk.org X-Mailman-Version: 2.1.29 Precedence: list List-Id: automatic DPDK test reports List-Unsubscribe: , List-Archive: List-Post: List-Help: List-Subscribe: , Errors-To: test-report-bounces@dpdk.org _Testing PASS_ Branch: tags/v24.11 0bd935abcb823f581ce53986986aa54eaf6f8140 --> testing pass Upstream job id: Generic-VM-Unit-Test-DPDK#32568 Test environment and result as below: +-------------------------------+----------------+ | Environment | dpdk_unit_test | +===============================+================+ | CentOS Stream 9 | PASS | +-------------------------------+----------------+ | Fedora Linux 40 | PASS | +-------------------------------+----------------+ | Fedora Linux 41 | PASS | +-------------------------------+----------------+ | Fedora Linux 42 | PASS | +-------------------------------+----------------+ | Debian GNU/Linux 12 | PASS | +-------------------------------+----------------+ | CentOS Stream 10 | PASS | +-------------------------------+----------------+ | Red Hat Enterprise Linux 8.10 | PASS | +-------------------------------+----------------+ | Red Hat Enterprise Linux 9.5 | PASS | +-------------------------------+----------------+ | Ubuntu 22.04 | PASS | +-------------------------------+----------------+ | Ubuntu 24.04 | PASS | +-------------------------------+----------------+ | Ubuntu 20.04 | PASS | +-------------------------------+----------------+ | Windows Server 2022 | PASS | +-------------------------------+----------------+ CentOS Stream 9 Kernel: 5.15 Compiler: gcc gcc (GCC) 11.5.0 20240719 (Red Hat 11.5.0-11) Fedora Linux 40 Kernel: 5.15 Compiler: gcc gcc (GCC) 14.2.1 20240912 (Red Hat 14.2.1-3) Fedora Linux 41 Kernel: 5.15 Compiler: gcc gcc (GCC) 14.3.1 20250523 (Red Hat 14.3.1-1) Fedora Linux 42 Kernel: 5.15 Compiler: gcc gcc (GCC) 15.2.1 20250808 (Red Hat 15.2.1-1) Debian GNU/Linux 12 Kernel: 5.15 Compiler: gcc gcc (Debian 12.2.0-14+deb12u1) 12.2.0 CentOS Stream 10 Kernel: 5.15 Compiler: gcc gcc (GCC) 14.2.1 20250110 (Red Hat 14.2.1-8) Red Hat Enterprise Linux 8.10 Kernel: 5.15 Compiler: gcc gcc (GCC) 8.5.0 20210514 (Red Hat 8.5.0-22) Red Hat Enterprise Linux 9.5 Kernel: 5.15 Compiler: gcc gcc (GCC) 11.5.0 20240719 (Red Hat 11.5.0-2) Ubuntu 22.04 Kernel: 5.15 Compiler: gcc gcc (Ubuntu 11.4.0-1ubuntu1~22.04) 11.4.0 Ubuntu 24.04 Kernel: 5.15 Compiler: gcc gcc (Ubuntu 13.3.0-6ubuntu2~24.04) 13.3.0 Ubuntu 20.04 Kernel: 5.15 Compiler: gcc gcc (Ubuntu 9.4.0-1ubuntu1~20.04.2) 9.4.0 Windows Server 2022 Kernel: 10.0.20348.2031 Compiler: clang 15.0.7, gcc 14.1.0 (MinGW), and MSVC VS 19.39.33521 To view detailed results, visit: https://lab.dpdk.org/results/dashboard/tarballs/35594/ UNH-IOL DPDK Community Lab To manage your email subscriptions, visit: https://lab.dpdk.org/results/dashboard/preferences/subscriptions/