From mboxrd@z Thu Jan 1 00:00:00 1970 Return-Path: Received: from mails.dpdk.org (mails.dpdk.org [217.70.189.124]) by inbox.dpdk.org (Postfix) with ESMTP id E03EE48B13 for ; Sat, 15 Nov 2025 04:42:34 +0100 (CET) Received: from mails.dpdk.org (localhost [127.0.0.1]) by mails.dpdk.org (Postfix) with ESMTP id C6F1A400D6; Sat, 15 Nov 2025 04:42:34 +0100 (CET) Received: from mail-oo1-f99.google.com (mail-oo1-f99.google.com [209.85.161.99]) by mails.dpdk.org (Postfix) with ESMTP id 074AA400D6 for ; Sat, 15 Nov 2025 04:42:33 +0100 (CET) Received: by mail-oo1-f99.google.com with SMTP id 006d021491bc7-657230e45e8so1053644eaf.1 for ; Fri, 14 Nov 2025 19:42:33 -0800 (PST) DKIM-Signature: v=1; a=rsa-sha256; c=relaxed/relaxed; d=iol.unh.edu; s=unh-iol; t=1763178153; x=1763782953; darn=dpdk.org; h=references:in-reply-to:cc:to:from:subject:message-id:date:from:to :cc:subject:date:message-id:reply-to; bh=JJsbkNga129mP02M38V9G2M33Cp+wFTJSDXHW5W0ItU=; b=FjPG+0tNnbyXhfMZS2CBKamqo3b8Aznb9qjSobzPYUbb8JP7/XgJWusNQkDGG30ACn pIytX7dZ5PFrdI7ZxIkxnLUNlnvPUgQMYmIa20PJqRviU1uaRAo/kMNTDom2tvc1UDjf +8f1KsfkZwLFtUxpIHlLp+m+E+5W4ssoSNZZ0= X-Google-DKIM-Signature: v=1; a=rsa-sha256; c=relaxed/relaxed; d=1e100.net; s=20230601; t=1763178153; x=1763782953; h=references:in-reply-to:cc:to:from:subject:message-id:date:x-gm-gg :x-gm-message-state:from:to:cc:subject:date:message-id:reply-to; bh=JJsbkNga129mP02M38V9G2M33Cp+wFTJSDXHW5W0ItU=; b=Bgr14P26dEWkD0Cw9UepusthbIPkbJHmqN/tJv5jx8xbe0mWynpkuknXQ6/z1qNrF9 DTCgm3aGBNbGGaTbdHA+KXcbydxbx7e1jJOBs2BhGPpwmqbVXglxfhhbU2Oc2z4eNebd ttinr9zuRcqySuIp3DcRedH6Ixrb3R5xL4sjzSd2+i+6HV6ysucg8D96kniHkxtIyHxu EBxMZShSBbRG+OTstH9oChK980bfYw5pJI2ciH0drf8tkeygQdauxUrXdHZ8PO/pPI3o vTUQ9TB/HDwJHb05p9OMMMNd0SoiiYgrGUm/0iEXWhXuWgPl/DxiTV2oNZWKAb+iVQrk OZSg== X-Gm-Message-State: AOJu0Yw0fi7MCdxidC3mV0N/pI9RYnYc1/+3286vxfAEbu3MQO+gfM/A 1ZlbxQ8t9eU8qPq/caI31IaDjqBPgdp01CocuPo23AXtBAAAE9+sGffH22DRidjiJ9ySU4T+cXV BFDcAshrDLLPyK6RPP8VWfrf7UpMCVMPeq5yOUiksMHB8jelQP4Xokfrcqt4P X-Gm-Gg: ASbGnct1qLCsw6pztieqZfLHLs5e4wOpgcTIi042no1wc1VJn26pgk1IFwB0K0lQrCj 0/itLnVJTQ0cxHLCr/pwxtjE7L3pFFWk0fMtgLRE21jBsDezMAH6+CVBD9nObOvIDY8ksEQC8E+ 2P4pIczIjGAO8GYPtsi7IJpSAXSA0WMviPvUuRX5mi0Ix9Io6NYqefRuD9cuvZMajOx/uyPqWxq E6gYMZ+wJ7SD7CfkAfND+/+f4I+6c9dS412gZbJNoSz8aW+tNMkgQTQGIpG22QpNkJGqiMcwdea TO2RS3K+xnMKvix3hv2FQgycbpmBZTR936/MOJR+Bo1OlMoCMDwEHpkS9oY8aJ2exOkflHgbNKt gRxxIcb1O X-Google-Smtp-Source: AGHT+IHvv5vxWjTxAnUu3gKSYEFc77YDC7zdLLMsPWXi4bRI/T68Iy/EY51Em/LaNHBBpiAaNKJfgK5u2hHt X-Received: by 2002:a05:6808:6695:20b0:450:b05f:4094 with SMTP id 5614622812f47-450b05f601amr75695b6e.8.1763178153065; Fri, 14 Nov 2025 19:42:33 -0800 (PST) Received: from postal.iol.unh.edu (postal.iol.unh.edu. [2606:4100:3880:1234::84]) by smtp-relay.gmail.com with ESMTPS id 586e51a60fabf-3e85201323fsm636471fac.6.2025.11.14.19.42.32 (version=TLS1_2 cipher=ECDHE-ECDSA-AES128-GCM-SHA256 bits=128/128); Fri, 14 Nov 2025 19:42:33 -0800 (PST) X-Relaying-Domain: iol.unh.edu Date: Fri, 14 Nov 2025 19:42:33 -0800 (PST) Message-ID: <6917f6a9.050a0220.271ded.ef13SMTPIN_ADDED_MISSING@mx.google.com> Received: from [172.21.0.3] (unknown [172.18.0.240]) by postal.iol.unh.edu (Postfix) with ESMTP id 92ABF6051830; Fri, 14 Nov 2025 22:42:32 -0500 (EST) Subject: |SUCCESS| pw158819 [PATCH] net/mlx5: improve error on completing tab From: dpdklab@iol.unh.edu To: Test Report Cc: dpdk-test-reports@iol.unh.edu In-Reply-To: <20251114192712.1637369-1-dsosnowski@nvidia.com> References: <20251114192712.1637369-1-dsosnowski@nvidia.com> Content-Type: text/plain X-BeenThere: test-report@dpdk.org X-Mailman-Version: 2.1.29 Precedence: list List-Id: automatic DPDK test reports List-Unsubscribe: , List-Archive: List-Post: List-Help: List-Subscribe: , Errors-To: test-report-bounces@dpdk.org Test-Label: iol-compile-amd64-testing Test-Status: SUCCESS http://dpdk.org/patch/158819 _Testing PASS_ Submitter: Dariusz Sosnowski Date: Friday, November 14 2025 19:27:12 DPDK git baseline: Repo:dpdk-next-net-mlx Branch: master CommitID:ae657d56b1f0ea979b3f611edf28d773efc2ddcf 158819 --> testing pass Upstream job id: Windows-Compile-DPDK-VS#7561 Test environment and result as below: +---------------------+--------------------+-------------------------+-------------------+ | Environment | dpdk_meson_compile | dpdk_llvm_clang_compile | dpdk_msvc_compile | +=====================+====================+=========================+===================+ | Ubuntu 20.04 | PASS | SKIPPED | SKIPPED | +---------------------+--------------------+-------------------------+-------------------+ | FreeBSD 14.2 | PASS | SKIPPED | SKIPPED | +---------------------+--------------------+-------------------------+-------------------+ | Windows Server 2022 | SKIPPED | PASS | PASS | +---------------------+--------------------+-------------------------+-------------------+ Ubuntu 20.04 Kernel: 4.19 Compiler: gcc gcc (Ubuntu 9.4.0-1ubuntu1~20.04.2) 9.4.0 FreeBSD 14.2 Kernel: 14.2-RELEASE Compiler: clang 18.1.6 Windows Server 2022 Kernel: 10.0.20348.2031 Compiler: clang 15.0.7, gcc 14.1.0 (MinGW), and MSVC VS 19.39.33521 To view detailed results, visit: https://lab.dpdk.org/results/dashboard/patchsets/34601/ UNH-IOL DPDK Community Lab To manage your email subscriptions, visit: https://lab.dpdk.org/results/dashboard/preferences/subscriptions/