From mboxrd@z Thu Jan 1 00:00:00 1970 Return-Path: Received: from mails.dpdk.org (mails.dpdk.org [217.70.189.124]) by inbox.dpdk.org (Postfix) with ESMTP id A79DA48B13 for ; Sat, 15 Nov 2025 04:48:20 +0100 (CET) Received: from mails.dpdk.org (localhost [127.0.0.1]) by mails.dpdk.org (Postfix) with ESMTP id 92EB2400D6; Sat, 15 Nov 2025 04:48:20 +0100 (CET) Received: from mail-vs1-f99.google.com (mail-vs1-f99.google.com [209.85.217.99]) by mails.dpdk.org (Postfix) with ESMTP id B6F55400D6 for ; Sat, 15 Nov 2025 04:48:19 +0100 (CET) Received: by mail-vs1-f99.google.com with SMTP id ada2fe7eead31-5dfc3c7de2dso1265050137.3 for ; Fri, 14 Nov 2025 19:48:19 -0800 (PST) DKIM-Signature: v=1; a=rsa-sha256; c=relaxed/relaxed; d=iol.unh.edu; s=unh-iol; t=1763178499; x=1763783299; darn=dpdk.org; h=references:in-reply-to:cc:to:from:subject:message-id:date:from:to :cc:subject:date:message-id:reply-to; bh=CpOPCYcJ+F6gcoiXdGRgdmPyj5pTQuHckPxDN+/2gUQ=; b=iXS5r7AzcmA7dPv97qQjqRaaUkOjFTUKuGeGNGfkUz9fj/jqqNR0IQCdsWt4pbz1ys NaHl7+Qsni0L7octsWsMuQNtARxqdCgUe/c9KAC4lrZf4CyD37OnM6HJo65hC4fQFLuH aB31tHz65Ne7Sa6VM38hNxoe7E2EAVWM5JhIM= X-Google-DKIM-Signature: v=1; a=rsa-sha256; c=relaxed/relaxed; d=1e100.net; s=20230601; t=1763178499; x=1763783299; h=references:in-reply-to:cc:to:from:subject:message-id:date:x-gm-gg :x-gm-message-state:from:to:cc:subject:date:message-id:reply-to; bh=CpOPCYcJ+F6gcoiXdGRgdmPyj5pTQuHckPxDN+/2gUQ=; b=bUakbW3NSxJhkK0A+bCR1jFL6VG9Kyi5lV03TyIqvQeg8vBrLr60PP1gIb1GKS3q39 xIaYkO8xigFa1UUut3/f8IAK3C8VTNxjC0K2EbK5pv0rFg8NMUz5fKzvfRp9DRmkljxM 1N/NzIDGcMymPAXUG5RCQPjT5vG8/kK4AAbbM3MTdIwxS/N0j1rOIZBJqs0xHemXTUNk LcEtF7nZBIOHf8gdukIX31WU4h0Q6ZhQq70Adloj6ZFWnMlQ0RsY1sD8xphzzYb9a4pa z4zA2oKJC3T4o+3Nq6C3sS1nz56Clatyc0nutRVlg26ioYJk0iaSoGeH4s3R/E6w1Qsh a2Nw== X-Gm-Message-State: AOJu0YwQRXza3GDY+tK0qYOr1DsM6dEeEZaqVcbGhUhPHpyWvVRAtB/W D9VxOStwIbOVdtcv4qs6GW3WavnwozOdqH7+S3M1sIorNC5kC7pWphDuG0H105z+4HQass9RZv6 Vbd0MLM1Xs4pvhL3CHFMdbnDziFBr6+S2AUlTh3ajcQStTbbVHfFElfIYbhb0 X-Gm-Gg: ASbGncuRYSikqtU5CCnKcO2kTr6agSIQHedLjMp6GcdU8nJLkCTbQ2EB40IjR0IPV0j qw61dlikSF/IP0xLN1dSG53gBHSSA331T0sRzfdgsNQZZ2GZykMuU+XtwpRbjkPP5LhpMztc6w9 J5ivOl2rynMH5vdmYKmHGy8w6Vvl36EtNG/2q+JJb5QswZW9ytB4M7l22KfYzMU7JiYXMCQ8TzX FlIBt0x0ech8J8tk/UlF9k7d/xKvnzIBIpoYQcG5oSRdLKc2LvTjQK9TnOjVDAkv17qJFmqP2h+ 23BqhtG9BCEhRcLJCPkU2GbFc13Yj2RDiDdkHzVrQfvMT1mr32j/7cg8Db7NmuP8Awhxrp0ZTvQ D9Kwio/XL X-Google-Smtp-Source: AGHT+IGrVn80MLp23NIdtL1BYw7I9vllJgiCDgXAnpIneeS6WiOdF30I2efCnJJcLrMPwsBm8Oqbne00tN9l X-Received: by 2002:a05:6102:d91:b0:5df:b2cd:12c9 with SMTP id ada2fe7eead31-5dfc5b9e772mr2340410137.40.1763178499093; Fri, 14 Nov 2025 19:48:19 -0800 (PST) Received: from postal.iol.unh.edu (postal.iol.unh.edu. [2606:4100:3880:1234::84]) by smtp-relay.gmail.com with ESMTPS id a1e0cc1a2514c-9376117f77esm76970241.7.2025.11.14.19.48.19 (version=TLS1_2 cipher=ECDHE-ECDSA-AES128-GCM-SHA256 bits=128/128); Fri, 14 Nov 2025 19:48:19 -0800 (PST) X-Relaying-Domain: iol.unh.edu Date: Fri, 14 Nov 2025 19:48:19 -0800 (PST) Message-ID: <6917f803.050a0220.1cadc0.3f19SMTPIN_ADDED_MISSING@mx.google.com> Received: from [172.21.0.2] (unknown [172.18.0.240]) by postal.iol.unh.edu (Postfix) with ESMTP id B18736051830; Fri, 14 Nov 2025 22:48:18 -0500 (EST) Subject: |SUCCESS| pw158711-158712 [PATCH] [2/2] pdump: fix race in pdump dis From: dpdklab@iol.unh.edu To: Test Report Cc: dpdk-test-reports@iol.unh.edu In-Reply-To: <20251112200510.332651-2-stephen@networkplumber.org> References: <20251112200510.332651-2-stephen@networkplumber.org> Content-Type: text/plain X-BeenThere: test-report@dpdk.org X-Mailman-Version: 2.1.29 Precedence: list List-Id: automatic DPDK test reports List-Unsubscribe: , List-Archive: List-Post: List-Help: List-Subscribe: , Errors-To: test-report-bounces@dpdk.org Test-Label: iol-compile-amd64-testing Test-Status: SUCCESS http://dpdk.org/patch/158712 _Testing PASS_ Submitter: Stephen Hemminger Date: Wednesday, November 12 2025 20:05:10 DPDK git baseline: Repo:dpdk Branch: master CommitID:be0112878b4fc3a1b918370ed2fe615c52039d77 158711-158712 --> testing pass Upstream job id: Windows-Compile-DPDK-Native#32339 Test environment and result as below: +-------------------------------+--------------------+------------------+-------------------+-------------------------+ | Environment | dpdk_meson_compile | dpdk_compile_ovs | dpdk_msvc_compile | dpdk_llvm_clang_compile | +===============================+====================+==================+===================+=========================+ | CentOS Stream 9 | PASS | SKIPPED | SKIPPED | SKIPPED | +-------------------------------+--------------------+------------------+-------------------+-------------------------+ | CentOS Stream 10 | PASS | SKIPPED | SKIPPED | SKIPPED | +-------------------------------+--------------------+------------------+-------------------+-------------------------+ | Ubuntu 20.04 | PASS | SKIPPED | SKIPPED | SKIPPED | +-------------------------------+--------------------+------------------+-------------------+-------------------------+ | Debian GNU/Linux 12 | PASS | SKIPPED | SKIPPED | SKIPPED | +-------------------------------+--------------------+------------------+-------------------+-------------------------+ | FreeBSD 14.2 | PASS | SKIPPED | SKIPPED | SKIPPED | +-------------------------------+--------------------+------------------+-------------------+-------------------------+ | Fedora Linux 42 | PASS | PASS | SKIPPED | SKIPPED | +-------------------------------+--------------------+------------------+-------------------+-------------------------+ | openSUSE Leap 15.6 | PASS | SKIPPED | SKIPPED | SKIPPED | +-------------------------------+--------------------+------------------+-------------------+-------------------------+ | Red Hat Enterprise Linux 8.10 | PASS | SKIPPED | SKIPPED | SKIPPED | +-------------------------------+--------------------+------------------+-------------------+-------------------------+ | Red Hat Enterprise Linux 9.5 | PASS | SKIPPED | SKIPPED | SKIPPED | +-------------------------------+--------------------+------------------+-------------------+-------------------------+ | Ubuntu 22.04 | PASS | SKIPPED | SKIPPED | SKIPPED | +-------------------------------+--------------------+------------------+-------------------+-------------------------+ | Ubuntu 24.04 | PASS | PASS | SKIPPED | SKIPPED | +-------------------------------+--------------------+------------------+-------------------+-------------------------+ | Alpine Linux 3.22.0 | PASS | SKIPPED | SKIPPED | SKIPPED | +-------------------------------+--------------------+------------------+-------------------+-------------------------+ | Windows Server 2022 | SKIPPED | SKIPPED | PASS | PASS | +-------------------------------+--------------------+------------------+-------------------+-------------------------+ CentOS Stream 9 Kernel: 5.15 Compiler: gcc gcc (GCC) 11.5.0 20240719 (Red Hat 11.5.0-11) CentOS Stream 10 Kernel: 5.15 Compiler: gcc gcc (GCC) 14.2.1 20250110 (Red Hat 14.2.1-8) Ubuntu 20.04 Kernel: 4.19 Compiler: gcc gcc (Ubuntu 9.4.0-1ubuntu1~20.04.2) 9.4.0 Debian GNU/Linux 12 Kernel: 5.15 Compiler: gcc gcc (Debian 12.2.0-14+deb12u1) 12.2.0 FreeBSD 14.2 Kernel: 14.2-RELEASE Compiler: clang 18.1.6 Fedora Linux 42 Kernel: 5.15 Compiler: clang gcc (GCC) 15.2.1 20250808 (Red Hat 15.2.1-1) openSUSE Leap 15.6 Kernel: 5.15 Compiler: gcc gcc (SUSE Linux) 7.5.0 Red Hat Enterprise Linux 8.10 Kernel: 5.15 Compiler: gcc gcc (GCC) 8.5.0 20210514 (Red Hat 8.5.0-22) Red Hat Enterprise Linux 9.5 Kernel: 5.15 Compiler: gcc gcc (GCC) 11.5.0 20240719 (Red Hat 11.5.0-2) Ubuntu 22.04 Kernel: 5.15 Compiler: gcc gcc (Ubuntu 11.4.0-1ubuntu1~22.04) 11.4.0 Ubuntu 24.04 Kernel: 5.15 Compiler: gcc gcc (Ubuntu 13.3.0-6ubuntu2~24.04) 13.3.0 Alpine Linux 3.22.0 Kernel: 5.15 Compiler: gcc gcc (Alpine 14.2.0) 14.2.0 Windows Server 2022 Kernel: 10.0.20348.2031 Compiler: clang 15.0.7, gcc 14.1.0 (MinGW), and MSVC VS 19.39.33521 To view detailed results, visit: https://lab.dpdk.org/results/dashboard/patchsets/34560/ UNH-IOL DPDK Community Lab To manage your email subscriptions, visit: https://lab.dpdk.org/results/dashboard/preferences/subscriptions/