From mboxrd@z Thu Jan 1 00:00:00 1970 Return-Path: Received: from mails.dpdk.org (mails.dpdk.org [217.70.189.124]) by inbox.dpdk.org (Postfix) with ESMTP id 283D748B13 for ; Sat, 15 Nov 2025 05:03:03 +0100 (CET) Received: from mails.dpdk.org (localhost [127.0.0.1]) by mails.dpdk.org (Postfix) with ESMTP id 0E3AF400D6; Sat, 15 Nov 2025 05:03:03 +0100 (CET) Received: from mail-pl1-f225.google.com (mail-pl1-f225.google.com [209.85.214.225]) by mails.dpdk.org (Postfix) with ESMTP id 3A2FC400D6 for ; Sat, 15 Nov 2025 05:03:01 +0100 (CET) Received: by mail-pl1-f225.google.com with SMTP id d9443c01a7336-297ef378069so26317115ad.3 for ; Fri, 14 Nov 2025 20:03:01 -0800 (PST) DKIM-Signature: v=1; a=rsa-sha256; c=relaxed/relaxed; d=iol.unh.edu; s=unh-iol; t=1763179380; x=1763784180; darn=dpdk.org; h=cc:to:from:subject:message-id:date:from:to:cc:subject:date :message-id:reply-to; bh=Fuo7CZawJCkm5z2EG5UkdE4qRwpACjPmoXO9WZ37a2s=; b=Cw6yqdr4AL71TcfkTy7f9r5TeB3D6qIOBTsm2vBvEC09lrbzfwQ9RqRlxQ/oRPED7I RFp6rzxmnRxzZtEnGQ+J2QpqTQHYlznCteZOCxVdNYNDlvjJCkLUib815ZFhwbgSQ4WA t2a2zS/NtmgkLukwv1SisP/vCxffawRMC1TxI= X-Google-DKIM-Signature: v=1; a=rsa-sha256; c=relaxed/relaxed; d=1e100.net; s=20230601; t=1763179380; x=1763784180; h=cc:to:from:subject:message-id:date:x-gm-gg:x-gm-message-state:from :to:cc:subject:date:message-id:reply-to; bh=Fuo7CZawJCkm5z2EG5UkdE4qRwpACjPmoXO9WZ37a2s=; b=Q22c9l4Tzsm5YqVgpksEL8B+oaY6luYFRVMA5U8qnw5VwfGHqr3mYnZQRmnfniK5CJ 8A7xh1whHiqC5bRTxdFoooaQwno4ZKw0VjmrKyiI39ZQi/vmCcP6rStCvBcHDdoYt5Vo PdTGxr5kHDwVhcjKWLBZlxAUXokSalB0G4W8OSWaBYqGygmSaKEsNoPlKQay1/BN4v4y uisTX5eUPlnToawuGKr3XvbyE5xZOb2XX526AgJQvBJNJZQK4sU0BeXXaahyGWdDHb7a TePk8SmjmhO+KRpxdt7n3FvUzthHoRSnKrQG6yTIBRLzm0HjLPiCcvlwyrO/qfQFb65R 9NpQ== X-Gm-Message-State: AOJu0YycgrQ8EYGieLN08Hkl2sV6FZ98OUz4sFxDtyObLORzZcmzD1OU ozgFlHEyRltuj5o4VO22LoTvicBELNxN1bLANmHAeS12ExdfLSkhY2QaJ3XnOy5/nfkHoDDmQ7w IX+nnmqEQ1flYzMQR5ksPATklCpgJNDEMzViKuVe+VvbWyYrF+kvO X-Gm-Gg: ASbGncvzW9/489EQT64qlJq3CptOHdbZomOKG17729rvA0vlUsyJIVAjCYqxo2P1KYs h7RtGrHKC2jtRYPRr9txQU0s7lp3DkqqE+80MIW66jf5KhLH5fVp37IEMN9s0AkqEZmc9Yih1hg FUIMnFSPEJce4Q+iu+WnirhSPjzqx3LlYc0MGfIL9DsLCws4yHU4FwZmWTCEp62hmgWFxeSDCAt LNRpnj0ngaJpN/8pR9k1roNTJZzsHw03UuhniwXZyRXigEOvmxzqxRolkEKjulp7/z18TcmmILY aYRWdffl9epiG87vwB7WjMBbln9mz0cWKnwC900DsGORG0JTy3ppew7GZ7z8a8TsglapzXcCKXR L/W/K45Gl X-Google-Smtp-Source: AGHT+IFD7uE/wLYRZUN/kME1lMmclYKVXgrGdTIdBEQ9VRacpYnNNJpXIapS+WtRlJCMg1RCjEIE9mQEPFW5 X-Received: by 2002:a17:902:f687:b0:295:59ef:df96 with SMTP id d9443c01a7336-2986a6ceb2dmr64143315ad.13.1763179380201; Fri, 14 Nov 2025 20:03:00 -0800 (PST) Received: from postal.iol.unh.edu (postal.iol.unh.edu. [2606:4100:3880:1234::84]) by smtp-relay.gmail.com with ESMTPS id d9443c01a7336-2985c234650sm7498595ad.3.2025.11.14.20.03.00 (version=TLS1_2 cipher=ECDHE-ECDSA-AES128-GCM-SHA256 bits=128/128); Fri, 14 Nov 2025 20:03:00 -0800 (PST) X-Relaying-Domain: iol.unh.edu Date: Fri, 14 Nov 2025 20:03:00 -0800 (PST) Message-ID: <6917fb74.170a0220.3293e6.53a0SMTPIN_ADDED_MISSING@mx.google.com> Received: from [172.21.0.5] (unknown [172.18.0.240]) by postal.iol.unh.edu (Postfix) with ESMTP id 6A44B6051830; Fri, 14 Nov 2025 23:02:59 -0500 (EST) Subject: |SUCCESS| [GIT MASTER] 0bd935abcb823f581ce53986986aa54eaf6f8140 From: dpdklab@iol.unh.edu To: Test Report Cc: dpdk-test-reports@iol.unh.edu, Xueming Li , Christian Ehrhardt , Kevin Traynor , Luca Boccassi Content-Type: text/plain X-BeenThere: test-report@dpdk.org X-Mailman-Version: 2.1.29 Precedence: list List-Id: automatic DPDK test reports List-Unsubscribe: , List-Archive: List-Post: List-Help: List-Subscribe: , Errors-To: test-report-bounces@dpdk.org _Testing PASS_ Branch: tags/v24.11 0bd935abcb823f581ce53986986aa54eaf6f8140 --> testing pass Upstream job id: Generic-DPDK-Compile-Meson#444462 Test environment and result as below: +------------------------------+--------------------+ | Environment | dpdk_meson_compile | +==============================+====================+ | Red Hat Enterprise Linux 9.5 | PASS | +------------------------------+--------------------+ | Ubuntu 20.04 | PASS | +------------------------------+--------------------+ | Debian GNU/Linux 12 | PASS | +------------------------------+--------------------+ | Fedora Linux 42 | PASS | +------------------------------+--------------------+ | Ubuntu 22.04 | PASS | +------------------------------+--------------------+ | Ubuntu 24.04 | PASS | +------------------------------+--------------------+ | CentOS Stream 9 | PASS | +------------------------------+--------------------+ | CentOS Stream 10 | PASS | +------------------------------+--------------------+ Red Hat Enterprise Linux 9.5 Kernel: 5.4 Compiler: gcc gcc (GCC) 11.5.0 20240719 (Red Hat 11.5.0-2) Ubuntu 20.04 Kernel: 5.15 Compiler: aarch64-linux-gnu-gcc gcc (Ubuntu 9.4.0-1ubuntu1~20.04.2) 9.4.0 Debian GNU/Linux 12 Kernel: 5.4 Compiler: gcc gcc (Debian 12.2.0-14+deb12u1) 12.2.0 Fedora Linux 42 Kernel: 5.4 Compiler: gcc gcc (GCC) 15.2.1 20250808 (Red Hat 15.2.1-1) Ubuntu 22.04 Kernel: 5.4 Compiler: gcc gcc (Ubuntu 11.4.0-1ubuntu1~22.04) 11.4.0 Ubuntu 24.04 Kernel: 5.4 Compiler: gcc gcc (Ubuntu 13.3.0-6ubuntu2~24.04) 13.3.0 CentOS Stream 9 Kernel: 5.4 Compiler: gcc gcc (GCC) 11.5.0 20240719 (Red Hat 11.5.0-11) CentOS Stream 10 Kernel: 5.4 Compiler: gcc gcc (GCC) 14.2.1 20250110 (Red Hat 14.2.1-8) To view detailed results, visit: https://lab.dpdk.org/results/dashboard/tarballs/35594/ UNH-IOL DPDK Community Lab To manage your email subscriptions, visit: https://lab.dpdk.org/results/dashboard/preferences/subscriptions/