From mboxrd@z Thu Jan 1 00:00:00 1970 Return-Path: Received: from mails.dpdk.org (mails.dpdk.org [217.70.189.124]) by inbox.dpdk.org (Postfix) with ESMTP id 283F848B13 for ; Sat, 15 Nov 2025 05:03:15 +0100 (CET) Received: from mails.dpdk.org (localhost [127.0.0.1]) by mails.dpdk.org (Postfix) with ESMTP id 1FE7C400D6; Sat, 15 Nov 2025 05:03:15 +0100 (CET) Received: from mail-oa1-f97.google.com (mail-oa1-f97.google.com [209.85.160.97]) by mails.dpdk.org (Postfix) with ESMTP id B909A400D6 for ; Sat, 15 Nov 2025 05:03:13 +0100 (CET) Received: by mail-oa1-f97.google.com with SMTP id 586e51a60fabf-3e284c5fe0aso643715fac.1 for ; Fri, 14 Nov 2025 20:03:13 -0800 (PST) DKIM-Signature: v=1; a=rsa-sha256; c=relaxed/relaxed; d=iol.unh.edu; s=unh-iol; t=1763179393; x=1763784193; darn=dpdk.org; h=cc:to:from:subject:message-id:date:from:to:cc:subject:date :message-id:reply-to; bh=CyGyxqiZRcztLTq4CIOxGezt5gSWAboDdip6injoXV4=; b=eazaziOqxQ2Qi7Na2JetfjPCZjobGceDqWmGb5vOQ1e9J9F5x3fSIxVEMqhidyDYGW 8Y+EXmCYjhCtUNperN1yxd3Ik638B9HdNOhRDLZkDKVWDBT50gNh21p59mLStDqHL1Mo KYLPcYdqhGkC59r0oCA1hfAp63MglVuctgfio= X-Google-DKIM-Signature: v=1; a=rsa-sha256; c=relaxed/relaxed; d=1e100.net; s=20230601; t=1763179393; x=1763784193; h=cc:to:from:subject:message-id:date:x-gm-gg:x-gm-message-state:from :to:cc:subject:date:message-id:reply-to; bh=CyGyxqiZRcztLTq4CIOxGezt5gSWAboDdip6injoXV4=; b=DM+0QjgnZ1qqM/mXa/ztlajsayo28FeOfYGfDBR2rfNOnqTKTbpnrJsN86S+gURkzt ZfPtF1/OOqwBcwKyWikyVrQG+fxK/S0nji1pB8l4OcHqSQJSiAA1TYE9cJFvMAdo8XGG YxxIBgzoIKGjb9YqUVpEqOL+GXxq6Aoe9/z0saqcc/lkfJKtt0p7hp09khsuD2lTGjyW p8qTs8Bf1puIVeGls4JgbZoQ5fewrD8Esk8jhg4sYUmrkO4FaCZU0j2d7WNFuugqj5St SP8Jbz2lRC7xktQreDQneDKm1xUfb4gNZHSqq6F59zi0nfuRRnXIY5DHgldylt0A6WlB Eryg== X-Gm-Message-State: AOJu0YxUXAZ8GWobnUfEYZZoOe2E4eDxWPY9T1zfLEU9gTJSt9hEbFIW 7guV54Efe8cnFDSRFzDSJ3rc5CjpbsoBleKQUqSu0jzol34mRunxJv7Vbqw8Q6jRWCRWo1ZZy14 ygAWEOTqOaPTmP9suQ6IWCtdu1ZNg0Mcdxpvn X-Gm-Gg: ASbGnctiUq1I7M3gFCiGTFYV880LGj9TZeZkC96ajJz7abHEw6/4xtTh9EfFlaQYhww W9E3pgW8UGtNSUqDgrSe28xZ4OqBH+4Um492R9TzowdVz+F4IyhKVdXewgdKubPLViSDWIxrp37 VLCkO7XegOpu7hsAKq2tPoIo+Bt66hPv+F1/kYOkeyyOpjbQOH0ThEgHJ8aZeDkTmk1wybahR2Y TG1hwoitM23FDsLMwnrBJEqWlEml4eqScKJR/qg55Gx2wemgTn6gaf1C5sOJOSTLAvdiMwWngDg yvctGTu3obBxIhSNlDnhY0zNP3FTyMMkH8D45kB1WgGiwVde86xhIaK5qIaEEc5XjmKl7gT/wkK cBM9oFLNk2Wh56nEEdHfyOeEhMLwmBd0= X-Google-Smtp-Source: AGHT+IFNDiWp6KueS+VPV0+SvOlPi1q5Jr2BIifou1RR+hmeH+99i8Ncd49fPi+PHs0AEsoRhMvi0vGReIqV X-Received: by 2002:a05:6870:331f:b0:3a6:bcc8:8043 with SMTP id 586e51a60fabf-3e86918a3d8mr2994342fac.47.1763179392895; Fri, 14 Nov 2025 20:03:12 -0800 (PST) Received: from postal.iol.unh.edu (postal.iol.unh.edu. [132.177.123.84]) by smtp-relay.gmail.com with ESMTPS id 586e51a60fabf-3e85200865bsm633151fac.8.2025.11.14.20.03.12 (version=TLS1_2 cipher=ECDHE-ECDSA-AES128-GCM-SHA256 bits=128/128); Fri, 14 Nov 2025 20:03:12 -0800 (PST) X-Relaying-Domain: iol.unh.edu Date: Fri, 14 Nov 2025 20:03:12 -0800 (PST) Message-ID: <6917fb80.050a0220.30e67.f650SMTPIN_ADDED_MISSING@mx.google.com> Received: from [172.21.0.5] (unknown [172.18.0.240]) by postal.iol.unh.edu (Postfix) with ESMTP id 1B3A06051830; Fri, 14 Nov 2025 23:03:12 -0500 (EST) Subject: |SUCCESS| [GIT MASTER] 0bd935abcb823f581ce53986986aa54eaf6f8140 From: dpdklab@iol.unh.edu To: Test Report Cc: dpdk-test-reports@iol.unh.edu, Xueming Li , Christian Ehrhardt , Kevin Traynor , Luca Boccassi Content-Type: text/plain X-BeenThere: test-report@dpdk.org X-Mailman-Version: 2.1.29 Precedence: list List-Id: automatic DPDK test reports List-Unsubscribe: , List-Archive: List-Post: List-Help: List-Subscribe: , Errors-To: test-report-bounces@dpdk.org _Testing PASS_ Branch: tags/v24.11 0bd935abcb823f581ce53986986aa54eaf6f8140 --> testing pass Upstream job id: Generic-DPDK-Compile-Meson#444461 Test environment and result as below: +------------------------------+--------------------+ | Environment | dpdk_meson_compile | +==============================+====================+ | Red Hat Enterprise Linux 9.5 | PASS | +------------------------------+--------------------+ | Ubuntu 20.04 | PASS | +------------------------------+--------------------+ | Debian GNU/Linux 12 | PASS | +------------------------------+--------------------+ | Fedora Linux 42 | PASS | +------------------------------+--------------------+ | Ubuntu 22.04 | PASS | +------------------------------+--------------------+ | Ubuntu 24.04 | PASS | +------------------------------+--------------------+ | CentOS Stream 9 | PASS | +------------------------------+--------------------+ | CentOS Stream 10 | PASS | +------------------------------+--------------------+ Red Hat Enterprise Linux 9.5 Kernel: 5.4 Compiler: gcc gcc (GCC) 11.5.0 20240719 (Red Hat 11.5.0-2) Ubuntu 20.04 Kernel: 5.15 Compiler: aarch64-linux-gnu-gcc gcc (Ubuntu 9.4.0-1ubuntu1~20.04.2) 9.4.0 Debian GNU/Linux 12 Kernel: 5.4 Compiler: gcc gcc (Debian 12.2.0-14+deb12u1) 12.2.0 Fedora Linux 42 Kernel: 5.4 Compiler: gcc gcc (GCC) 15.2.1 20250808 (Red Hat 15.2.1-1) Ubuntu 22.04 Kernel: 5.4 Compiler: gcc gcc (Ubuntu 11.4.0-1ubuntu1~22.04) 11.4.0 Ubuntu 24.04 Kernel: 5.4 Compiler: gcc gcc (Ubuntu 13.3.0-6ubuntu2~24.04) 13.3.0 CentOS Stream 9 Kernel: 5.4 Compiler: gcc gcc (GCC) 11.5.0 20240719 (Red Hat 11.5.0-11) CentOS Stream 10 Kernel: 5.4 Compiler: gcc gcc (GCC) 14.2.1 20250110 (Red Hat 14.2.1-8) To view detailed results, visit: https://lab.dpdk.org/results/dashboard/tarballs/35594/ UNH-IOL DPDK Community Lab To manage your email subscriptions, visit: https://lab.dpdk.org/results/dashboard/preferences/subscriptions/