From mboxrd@z Thu Jan 1 00:00:00 1970 Return-Path: Received: from mails.dpdk.org (mails.dpdk.org [217.70.189.124]) by inbox.dpdk.org (Postfix) with ESMTP id 0EE3448B13 for ; Sat, 15 Nov 2025 05:22:02 +0100 (CET) Received: from mails.dpdk.org (localhost [127.0.0.1]) by mails.dpdk.org (Postfix) with ESMTP id E8D76400D6; Sat, 15 Nov 2025 05:22:01 +0100 (CET) Received: from mail-pl1-f225.google.com (mail-pl1-f225.google.com [209.85.214.225]) by mails.dpdk.org (Postfix) with ESMTP id 9FDEC400D6 for ; Sat, 15 Nov 2025 05:22:00 +0100 (CET) Received: by mail-pl1-f225.google.com with SMTP id d9443c01a7336-2984dfae0acso32972875ad.0 for ; Fri, 14 Nov 2025 20:22:00 -0800 (PST) DKIM-Signature: v=1; a=rsa-sha256; c=relaxed/relaxed; d=iol.unh.edu; s=unh-iol; t=1763180520; x=1763785320; darn=dpdk.org; h=references:in-reply-to:cc:to:from:subject:message-id:date:from:to :cc:subject:date:message-id:reply-to; bh=a4g3xzz1BtiKIyyaVNV4q/zLQO5lTxVu7KRDf0uIy+w=; b=Z/JsLi8tVYFTWZjn/rpFHoGjfcAL2PDeAg33EXGJcp/qwdNS7k7lw03paRzKJ5LLkm GT/NbtV9MhL+8llpDo+s0T/4Q3KfyLSuEQXO9SoSqShqDsJgYgMd1glBDtteaUX8aYvB w7vk4dm+OmhMbJIapTAvyIx1JiKZ5AXtFKjfc= X-Google-DKIM-Signature: v=1; a=rsa-sha256; c=relaxed/relaxed; d=1e100.net; s=20230601; t=1763180520; x=1763785320; h=references:in-reply-to:cc:to:from:subject:message-id:date:x-gm-gg :x-gm-message-state:from:to:cc:subject:date:message-id:reply-to; bh=a4g3xzz1BtiKIyyaVNV4q/zLQO5lTxVu7KRDf0uIy+w=; b=COBHs5ijtpEvgldk46pmgejBkInA471GKVIj9HO1XWKoOiv3RbpRCXEWg9+0GCz0bD 3WRM0d6UDnw5FcTNqJfgJP8WbJWuqYt/wAqjrYqBo0PY2+RzKvtXrJ2DefLaGIJ6QVa1 qq8ExIFG9V16D9XrQgH55WMF0cXbIRAh9elyJMJ6RRhk3bvE7mog4Tg5+0UDKX7FrWaR EFLwvMaRQogwiwRum2sa33IT4LXh+DTAh6vwWVkbFoQk2E31Jsy1AOH1Qmt3BqLrXc7V ENmCW5tVaKynePWnhU2IUBiYI1ylucuT2+wbAJWe9K1uRQOhL16mD/EGnkrtpbJfl9/o mfHw== X-Gm-Message-State: AOJu0YwcqVtwN6hl84xhJLTynb0NyhUspsaONX9tq3xOWB/yyc5flUyg /6h4YLaXcEhMgKFlBi2io+NTdvnZLOJer6iDl75L3yD/x4EygI/5Qr8xqaidB9EqN1Ul16VA5/R DjAIfwbrBuVQjK8JTr1YlG2DJ1iQw4nyAlOPSfr/A3EbDn4LhlJSLke8Y0z7+ X-Gm-Gg: ASbGnctfJF0k3jlhPtc+doOymxsU/eIAFCvmxLjNPnFJLrTCkPCcHkPG+1kdg9nYMFY TcqEb7GCZ/PaV+gU0KkJzbfP3CKLgWYPb00gGvguGz0XfRRIBbYZXyPa7NJZn1CdHcddKrGCqmK XoqYlQtcobhMHN4uKwLoGvVtCcZNR6NxcKNMnxqGgpgY48mjg5lRxNOiTO/7Iz7+tXRltduT6Vf 1GsGMMXHFMOL+jdga/udIcuFuGYNx5ZKQZnzjV2U0bX1X64pJY5+iwm367wf9Lfy95qnGGIGxom twZnf5X8hhI5w0OyRFgtwbLRaVkoDsuen5kRedKqlCrFu+8jCX5CEzupeDil5cW0Lrhrmso99SC XtoGCX9t/ X-Google-Smtp-Source: AGHT+IECt/w2fJzl7XXUbEyLdWf1Ak6lmbzvO/35QID2tBlm7ESOUb4Ro/c3kU7Ol4Tkcmz1D7xgjk6Ukh70 X-Received: by 2002:a17:903:41c7:b0:298:344:1229 with SMTP id d9443c01a7336-2986a76b5cfmr63353325ad.55.1763180519712; Fri, 14 Nov 2025 20:21:59 -0800 (PST) Received: from postal.iol.unh.edu (postal.iol.unh.edu. [2606:4100:3880:1234::84]) by smtp-relay.gmail.com with ESMTPS id d9443c01a7336-2985c2a8b2fsm7077585ad.30.2025.11.14.20.21.59 (version=TLS1_2 cipher=ECDHE-ECDSA-AES128-GCM-SHA256 bits=128/128); Fri, 14 Nov 2025 20:21:59 -0800 (PST) X-Relaying-Domain: iol.unh.edu Date: Fri, 14 Nov 2025 20:21:59 -0800 (PST) Message-ID: <6917ffe7.170a0220.38d01a.2e50SMTPIN_ADDED_MISSING@mx.google.com> Received: from [172.21.0.4] (unknown [172.18.0.240]) by postal.iol.unh.edu (Postfix) with ESMTP id 2B6BF6051830; Fri, 14 Nov 2025 23:21:59 -0500 (EST) Subject: |SUCCESS| pw158820 [PATCH] [v2] devtools: ignore new warnings on rep From: dpdklab@iol.unh.edu To: Test Report Cc: dpdk-test-reports@iol.unh.edu In-Reply-To: <20251114200640.1639056-1-dsosnowski@nvidia.com> References: <20251114200640.1639056-1-dsosnowski@nvidia.com> Content-Type: text/plain X-BeenThere: test-report@dpdk.org X-Mailman-Version: 2.1.29 Precedence: list List-Id: automatic DPDK test reports List-Unsubscribe: , List-Archive: List-Post: List-Help: List-Subscribe: , Errors-To: test-report-bounces@dpdk.org Test-Label: iol-compile-amd64-testing Test-Status: SUCCESS http://dpdk.org/patch/158820 _Testing PASS_ Submitter: Dariusz Sosnowski Date: Friday, November 14 2025 20:06:40 DPDK git baseline: Repo:dpdk Branch: master CommitID:be0112878b4fc3a1b918370ed2fe615c52039d77 158820 --> testing pass Upstream job id: Windows-Compile-DPDK-VS#7562 Test environment and result as below: +---------------------+--------------------+-------------------+ | Environment | dpdk_meson_compile | dpdk_msvc_compile | +=====================+====================+===================+ | FreeBSD 14.2 | PASS | SKIPPED | +---------------------+--------------------+-------------------+ | Ubuntu 20.04 | PASS | SKIPPED | +---------------------+--------------------+-------------------+ | Windows Server 2022 | SKIPPED | PASS | +---------------------+--------------------+-------------------+ FreeBSD 14.2 Kernel: 14.2-RELEASE Compiler: clang 18.1.6 Ubuntu 20.04 Kernel: 4.19 Compiler: gcc gcc (Ubuntu 9.4.0-1ubuntu1~20.04.2) 9.4.0 Windows Server 2022 Kernel: 10.0.20348.2031 Compiler: clang 15.0.7, gcc 14.1.0 (MinGW), and MSVC VS 19.39.33521 To view detailed results, visit: https://lab.dpdk.org/results/dashboard/patchsets/34602/ UNH-IOL DPDK Community Lab To manage your email subscriptions, visit: https://lab.dpdk.org/results/dashboard/preferences/subscriptions/