From mboxrd@z Thu Jan 1 00:00:00 1970 Return-Path: Received: from mails.dpdk.org (mails.dpdk.org [217.70.189.124]) by inbox.dpdk.org (Postfix) with ESMTP id 2B83C48B13 for ; Sat, 15 Nov 2025 05:23:23 +0100 (CET) Received: from mails.dpdk.org (localhost [127.0.0.1]) by mails.dpdk.org (Postfix) with ESMTP id 20AEF400D6; Sat, 15 Nov 2025 05:23:23 +0100 (CET) Received: from mail-pj1-f98.google.com (mail-pj1-f98.google.com [209.85.216.98]) by mails.dpdk.org (Postfix) with ESMTP id 336B0400D6 for ; Sat, 15 Nov 2025 05:23:21 +0100 (CET) Received: by mail-pj1-f98.google.com with SMTP id 98e67ed59e1d1-340c39ee02dso2403738a91.1 for ; Fri, 14 Nov 2025 20:23:21 -0800 (PST) DKIM-Signature: v=1; a=rsa-sha256; c=relaxed/relaxed; d=iol.unh.edu; s=unh-iol; t=1763180600; x=1763785400; darn=dpdk.org; h=references:in-reply-to:cc:to:from:subject:message-id:date:from:to :cc:subject:date:message-id:reply-to; bh=UVUKIWNaZlCxt3tlLLwlcfuV7tPJ8ub8SBncanjaKA4=; b=Pbr3kIv/iDO83TSZIrfixxOrmUfw+OD/CTSmhmPc+BTwW1N8JRG5KKnGzxQ9x0GWlV rvhBsnF6yM4KP5YbmFIK8f51WeWvClhGNd11KpR1rAmPmn7eiuTviGzS89/yp5kQlvP0 VAv4zyQUbDZbQOXUl1u7emdgATG08KgPI3JOY= X-Google-DKIM-Signature: v=1; a=rsa-sha256; c=relaxed/relaxed; d=1e100.net; s=20230601; t=1763180600; x=1763785400; h=references:in-reply-to:cc:to:from:subject:message-id:date:x-gm-gg :x-gm-message-state:from:to:cc:subject:date:message-id:reply-to; bh=UVUKIWNaZlCxt3tlLLwlcfuV7tPJ8ub8SBncanjaKA4=; b=TjWnvgkcs3jdhN9lfXegWSXUyccOLpjSITD61rkjwWdqhosSj1nnS+sl8iKH6rnMag RUSp31DyD/lUAQPMBLhvQLnO6JlrZtkq689BvOWnLRXsPUqKnDAslYpBU+qAcuZ6Kcrj 4nZoPBrjUc0NtYIqFcbMELe2C//cDQmw5wirY2jpaQHyW7W2p8wpQgodqf/KXB8OWdGw IakKo8J03Z7uVicX71upw5Ll7MJMacHDgjYXqLwGPG+sbJMZcy7vdQNnPV7AcxavD3i/ k2s54KQe0VIAwIJPxK1BH7j43YKsHA0+R7m6hrarxQ/Ma/MMYS2cnThRuUrkC1Dh+A3P 0QXA== X-Gm-Message-State: AOJu0YzZ2SBLE5Vrs2qTxV/KvjqkuykfKPZfwxOmHvgz4sIzZK26m9x9 BvGbFMf871D9OtQ0jsBfe2S58Zt6Pte23GVAgEGDXVItCaqdIYdktHlvQwCp33RjiwakmgzdgqR IQVteF1iT852sTu0luIDExkVg+lNGeGFFx7OzAOiayXPwtyc68fTXzkspzhwH X-Gm-Gg: ASbGncuUcX0l2Zoz2vEH2BYD/lEpCVPjYc3kmZiqN5lo0gSDli+cS65IjEBuTjawK5d riIDbEltD5/lsgG5ki6v9jm5NG++zOgowjvne1XeUc22/kQiWMz198pTUBlGljat7IlB+TDYGHm bBS8tGEb2Qf+t8RXgsK+6GdCciZCdMZsB5HfvxqOa4PkrzSGzPRZ/ApWtgx2mQTRCYxXkLRT5DC dRtZG+hq6ulsDAvic/0Cb9bX/Gif0N3udcX/rN0dpbbBeSIML0e9zQhBvr93SsiAzR8ofaRdl3n sdXZe9b/+0hbp41yZv41jsdH8lLp7WVaGVSHwj1p5ECLNiCtVyJGHq6HEzHkrHUfiTif7CkpA18 kOKkfsvuM X-Google-Smtp-Source: AGHT+IHupF+bhSLes0cq1PAZpmDOlluzDYVBfPjpcrTtBeNKIP9Ki2AhBmQz6Pf4IKqsZQoQDkXiCRpkl+Y7 X-Received: by 2002:a17:903:3b8e:b0:295:32ea:4ce5 with SMTP id d9443c01a7336-2986a6bd29emr62498515ad.6.1763180600262; Fri, 14 Nov 2025 20:23:20 -0800 (PST) Received: from postal.iol.unh.edu (postal.iol.unh.edu. [2606:4100:3880:1234::84]) by smtp-relay.gmail.com with ESMTPS id d9443c01a7336-29861b38139sm6237115ad.44.2025.11.14.20.23.20 (version=TLS1_2 cipher=ECDHE-ECDSA-AES128-GCM-SHA256 bits=128/128); Fri, 14 Nov 2025 20:23:20 -0800 (PST) X-Relaying-Domain: iol.unh.edu Date: Fri, 14 Nov 2025 20:23:20 -0800 (PST) Message-ID: <69180038.170a0220.253d1d.eb52SMTPIN_ADDED_MISSING@mx.google.com> Received: from [172.21.0.6] (unknown [172.18.0.240]) by postal.iol.unh.edu (Postfix) with ESMTP id AB76F6051830; Fri, 14 Nov 2025 23:23:19 -0500 (EST) Subject: |SUCCESS| pw158711-158712 [PATCH] [2/2] pdump: fix race in pdump dis From: dpdklab@iol.unh.edu To: Test Report Cc: dpdk-test-reports@iol.unh.edu In-Reply-To: <20251112200510.332651-2-stephen@networkplumber.org> References: <20251112200510.332651-2-stephen@networkplumber.org> Content-Type: text/plain X-BeenThere: test-report@dpdk.org X-Mailman-Version: 2.1.29 Precedence: list List-Id: automatic DPDK test reports List-Unsubscribe: , List-Archive: List-Post: List-Help: List-Subscribe: , Errors-To: test-report-bounces@dpdk.org Test-Label: iol-compile-amd64-testing Test-Status: SUCCESS http://dpdk.org/patch/158712 _Testing PASS_ Submitter: Stephen Hemminger Date: Wednesday, November 12 2025 20:05:10 DPDK git baseline: Repo:dpdk Branch: master CommitID:be0112878b4fc3a1b918370ed2fe615c52039d77 158711-158712 --> testing pass Upstream job id: Windows-Compile-DPDK-Native#32340 Test environment and result as below: +-------------------------------+--------------------+------------------+-------------------+-------------------------+----------------------+ | Environment | dpdk_meson_compile | dpdk_compile_ovs | dpdk_msvc_compile | dpdk_llvm_clang_compile | dpdk_mingw64_compile | +===============================+====================+==================+===================+=========================+======================+ | CentOS Stream 9 | PASS | SKIPPED | SKIPPED | SKIPPED | SKIPPED | +-------------------------------+--------------------+------------------+-------------------+-------------------------+----------------------+ | CentOS Stream 10 | PASS | SKIPPED | SKIPPED | SKIPPED | SKIPPED | +-------------------------------+--------------------+------------------+-------------------+-------------------------+----------------------+ | Ubuntu 20.04 | PASS | SKIPPED | SKIPPED | SKIPPED | SKIPPED | +-------------------------------+--------------------+------------------+-------------------+-------------------------+----------------------+ | Debian GNU/Linux 12 | PASS | SKIPPED | SKIPPED | SKIPPED | SKIPPED | +-------------------------------+--------------------+------------------+-------------------+-------------------------+----------------------+ | FreeBSD 14.2 | PASS | SKIPPED | SKIPPED | SKIPPED | SKIPPED | +-------------------------------+--------------------+------------------+-------------------+-------------------------+----------------------+ | Fedora Linux 42 | PASS | PASS | SKIPPED | SKIPPED | SKIPPED | +-------------------------------+--------------------+------------------+-------------------+-------------------------+----------------------+ | openSUSE Leap 15.6 | PASS | SKIPPED | SKIPPED | SKIPPED | SKIPPED | +-------------------------------+--------------------+------------------+-------------------+-------------------------+----------------------+ | Red Hat Enterprise Linux 8.10 | PASS | SKIPPED | SKIPPED | SKIPPED | SKIPPED | +-------------------------------+--------------------+------------------+-------------------+-------------------------+----------------------+ | Red Hat Enterprise Linux 9.5 | PASS | SKIPPED | SKIPPED | SKIPPED | SKIPPED | +-------------------------------+--------------------+------------------+-------------------+-------------------------+----------------------+ | Ubuntu 22.04 | PASS | SKIPPED | SKIPPED | SKIPPED | SKIPPED | +-------------------------------+--------------------+------------------+-------------------+-------------------------+----------------------+ | Ubuntu 24.04 | PASS | PASS | SKIPPED | SKIPPED | SKIPPED | +-------------------------------+--------------------+------------------+-------------------+-------------------------+----------------------+ | Alpine Linux 3.22.0 | PASS | SKIPPED | SKIPPED | SKIPPED | SKIPPED | +-------------------------------+--------------------+------------------+-------------------+-------------------------+----------------------+ | Windows Server 2022 | SKIPPED | SKIPPED | PASS | PASS | PASS | +-------------------------------+--------------------+------------------+-------------------+-------------------------+----------------------+ CentOS Stream 9 Kernel: 5.15 Compiler: gcc gcc (GCC) 11.5.0 20240719 (Red Hat 11.5.0-11) CentOS Stream 10 Kernel: 5.15 Compiler: gcc gcc (GCC) 14.2.1 20250110 (Red Hat 14.2.1-8) Ubuntu 20.04 Kernel: 4.19 Compiler: gcc gcc (Ubuntu 9.4.0-1ubuntu1~20.04.2) 9.4.0 Debian GNU/Linux 12 Kernel: 5.15 Compiler: gcc gcc (Debian 12.2.0-14+deb12u1) 12.2.0 FreeBSD 14.2 Kernel: 14.2-RELEASE Compiler: clang 18.1.6 Fedora Linux 42 Kernel: 5.15 Compiler: clang gcc (GCC) 15.2.1 20250808 (Red Hat 15.2.1-1) openSUSE Leap 15.6 Kernel: 5.15 Compiler: gcc gcc (SUSE Linux) 7.5.0 Red Hat Enterprise Linux 8.10 Kernel: 5.15 Compiler: gcc gcc (GCC) 8.5.0 20210514 (Red Hat 8.5.0-22) Red Hat Enterprise Linux 9.5 Kernel: 5.15 Compiler: gcc gcc (GCC) 11.5.0 20240719 (Red Hat 11.5.0-2) Ubuntu 22.04 Kernel: 5.15 Compiler: gcc gcc (Ubuntu 11.4.0-1ubuntu1~22.04) 11.4.0 Ubuntu 24.04 Kernel: 5.15 Compiler: gcc gcc (Ubuntu 13.3.0-6ubuntu2~24.04) 13.3.0 Alpine Linux 3.22.0 Kernel: 5.15 Compiler: gcc gcc (Alpine 14.2.0) 14.2.0 Windows Server 2022 Kernel: 10.0.20348.2031 Compiler: clang 15.0.7, gcc 14.1.0 (MinGW), and MSVC VS 19.39.33521 To view detailed results, visit: https://lab.dpdk.org/results/dashboard/patchsets/34560/ UNH-IOL DPDK Community Lab To manage your email subscriptions, visit: https://lab.dpdk.org/results/dashboard/preferences/subscriptions/