From mboxrd@z Thu Jan 1 00:00:00 1970 Return-Path: Received: from mails.dpdk.org (mails.dpdk.org [217.70.189.124]) by inbox.dpdk.org (Postfix) with ESMTP id 77DB748B13 for ; Sat, 15 Nov 2025 05:34:17 +0100 (CET) Received: from mails.dpdk.org (localhost [127.0.0.1]) by mails.dpdk.org (Postfix) with ESMTP id 50245400D6; Sat, 15 Nov 2025 05:34:17 +0100 (CET) Received: from mail-pl1-f227.google.com (mail-pl1-f227.google.com [209.85.214.227]) by mails.dpdk.org (Postfix) with ESMTP id 601A8400D6 for ; Sat, 15 Nov 2025 05:34:15 +0100 (CET) Received: by mail-pl1-f227.google.com with SMTP id d9443c01a7336-2984dfae0acso33055245ad.0 for ; Fri, 14 Nov 2025 20:34:15 -0800 (PST) DKIM-Signature: v=1; a=rsa-sha256; c=relaxed/relaxed; d=iol.unh.edu; s=unh-iol; t=1763181254; x=1763786054; darn=dpdk.org; h=references:in-reply-to:cc:to:from:subject:message-id:date:from:to :cc:subject:date:message-id:reply-to; bh=MNGEOaFeRSLpYeSpDZN4ff5E1CFXyfqRGqRQtW7Kwl4=; b=RISY4cYgYir3LvV3VgDmLnqK2vHz+gAwAxIeqHmA7w+fgKhOuHj9YZRNs6tHBTHNaE gzz/fmJyS9LUFSEODW5CNBB5b51L873E9FVelXw5+V8f4k2Vn23p3gtxbTFjZgKpdLOL fgEc0P5eFm0FLCQByk7Hu1FBmf0TlYeZ7LhaU= X-Google-DKIM-Signature: v=1; a=rsa-sha256; c=relaxed/relaxed; d=1e100.net; s=20230601; t=1763181254; x=1763786054; h=references:in-reply-to:cc:to:from:subject:message-id:date:x-gm-gg :x-gm-message-state:from:to:cc:subject:date:message-id:reply-to; bh=MNGEOaFeRSLpYeSpDZN4ff5E1CFXyfqRGqRQtW7Kwl4=; b=FxEDiitw1oE418bXh9Tcg+fYjRu0K/dq6WOAaw1B2kQ+J7WHQ0ugieGRBXfFE1ohCH VFGtFuWx0q76RirjP+ddFWG38jdaQuXDzUhKua0EM2/DWvEgflkUZZRxwYQFeIrqvrqe Vg+xTkYY/zcRR1Sizac2mFi/SxoAi6H0Sq9SOa4qE86bD5Xlen/ieVxhOhC5G38wRoXs vgUD7IOxkZyUsH8Plu2r0/dTl/hK24Uyk7uLA4/Om6T320iSoq3vN/+0hW6pUI0hWUAD 7iPLTFRqKdevKEGli/PLEmv5CulGINfd5R8zOs7dHClrS6VcXbYBLtf6qDl206CrPp2S Ehag== X-Gm-Message-State: AOJu0YwlaHpKNERqZXv1z3cqA6Zar3qyExtegAm/jp03fbffY7nhlwm/ ULtSjrkWIU6aTZuLRvGPqIqwn+bkL/ZOBTeXgIFdWBput0c1Gtts47pukKAOTp3ezrWxxr0iQgX 2d2fwfDzfXYPSBWgnshnDoosrm961XfbXQBBcfPqNT9O68UpLg/x92biPyVfk X-Gm-Gg: ASbGncuKAts1dogPg9QuzMnebzuMd58ehuRDqXaEH+jD5Vb2oDu2WmFN5QcpoLbQk8s FYWQ0vSFNi4Xenl28cmhN2CP7YJ5HwOaW8TJ9eTiLawXUDNZ8rV66ZDUtzy6F1k39vEcfxVvgmj CP4KOS4FiEYvdK4UCMoReQREDLarThEuq2IdcSdnppWc4GFaOsQOx+lTvTmcReLn+MicLdhSTre kqEUgXNFTu1Y6K1zNhyzi7Wo0Thuz6ip5SXu26qBsGAUnq9F9uNvp//v/yh7CHqd91sfbgQwhDM IyOyxU5owa8U3sVVw8hBQ2ynkamd2pVrBEKW3V+XwYM41SkEc0S+HzBuhOZ4zaUqKAl/VAbufPV v2cdoqAoH X-Google-Smtp-Source: AGHT+IEUblsy490Y5LoFPMmq2ixQwxCbKvC9p5loWBXUi9dgf9jaCO61gas8OyS4h4lpUZ7rzlZDalP3NePc X-Received: by 2002:a17:902:f684:b0:295:96bc:8699 with SMTP id d9443c01a7336-2986a6d22b9mr65647965ad.20.1763181254426; Fri, 14 Nov 2025 20:34:14 -0800 (PST) Received: from postal.iol.unh.edu (postal.iol.unh.edu. [2606:4100:3880:1234::84]) by smtp-relay.gmail.com with ESMTPS id d9443c01a7336-2985c2a8b47sm7746835ad.40.2025.11.14.20.34.14 (version=TLS1_2 cipher=ECDHE-ECDSA-AES128-GCM-SHA256 bits=128/128); Fri, 14 Nov 2025 20:34:14 -0800 (PST) X-Relaying-Domain: iol.unh.edu Date: Fri, 14 Nov 2025 20:34:14 -0800 (PST) Message-ID: <691802c6.170a0220.1c235c.676eSMTPIN_ADDED_MISSING@mx.google.com> Received: from [172.21.0.3] (unknown [172.18.0.240]) by postal.iol.unh.edu (Postfix) with ESMTP id D13B16051830; Fri, 14 Nov 2025 23:34:13 -0500 (EST) Subject: |SUCCESS| pw158783 [PATCH] [v2] ethdev: add GENEVE encapsulation and From: dpdklab@iol.unh.edu To: Test Report Cc: dpdk-test-reports@iol.unh.edu, Stephen Hemminger In-Reply-To: <20251114061917.20948-1-sunyang.wu@jaguarmicro.com> References: <20251114061917.20948-1-sunyang.wu@jaguarmicro.com> Content-Type: text/plain X-BeenThere: test-report@dpdk.org X-Mailman-Version: 2.1.29 Precedence: list List-Id: automatic DPDK test reports List-Unsubscribe: , List-Archive: List-Post: List-Help: List-Subscribe: , Errors-To: test-report-bounces@dpdk.org Test-Label: iol-unit-amd64-testing Test-Status: SUCCESS http://dpdk.org/patch/158783 _Testing PASS_ Submitter: Sunyang Wu Date: Friday, November 14 2025 06:19:17 DPDK git baseline: Repo:dpdk-next-net Branch: master CommitID:fca6f2910345c25a5050a0b586e0d324ca616cbb 158783 --> testing pass Upstream job id: Generic-VM-Unit-Test-DPDK#32571 Test environment and result as below: +-------------------------------+----------------+ | Environment | dpdk_unit_test | +===============================+================+ | CentOS Stream 10 | PASS | +-------------------------------+----------------+ | CentOS Stream 9 | PASS | +-------------------------------+----------------+ | Fedora Linux 40 | PASS | +-------------------------------+----------------+ | Debian GNU/Linux 12 | PASS | +-------------------------------+----------------+ | Red Hat Enterprise Linux 9.5 | PASS | +-------------------------------+----------------+ | Fedora Linux 42 | PASS | +-------------------------------+----------------+ | Fedora Linux 41 | PASS | +-------------------------------+----------------+ | Red Hat Enterprise Linux 8.10 | PASS | +-------------------------------+----------------+ | Ubuntu 24.04 | PASS | +-------------------------------+----------------+ | Ubuntu 20.04 | PASS | +-------------------------------+----------------+ | Ubuntu 22.04 | PASS | +-------------------------------+----------------+ | Windows Server 2022 | PASS | +-------------------------------+----------------+ CentOS Stream 10 Kernel: 5.15 Compiler: gcc gcc (GCC) 14.2.1 20250110 (Red Hat 14.2.1-8) CentOS Stream 9 Kernel: 5.15 Compiler: gcc gcc (GCC) 11.5.0 20240719 (Red Hat 11.5.0-11) Fedora Linux 40 Kernel: 5.15 Compiler: clang gcc (GCC) 14.2.1 20240912 (Red Hat 14.2.1-3) Debian GNU/Linux 12 Kernel: 5.15 Compiler: gcc gcc (Debian 12.2.0-14+deb12u1) 12.2.0 Red Hat Enterprise Linux 9.5 Kernel: 5.15 Compiler: gcc gcc (GCC) 11.5.0 20240719 (Red Hat 11.5.0-2) Fedora Linux 42 Kernel: 5.15 Compiler: gcc gcc (GCC) 15.2.1 20250808 (Red Hat 15.2.1-1) Fedora Linux 41 Kernel: 5.15 Compiler: clang gcc (GCC) 14.3.1 20250523 (Red Hat 14.3.1-1) Red Hat Enterprise Linux 8.10 Kernel: 5.15 Compiler: gcc gcc (GCC) 8.5.0 20210514 (Red Hat 8.5.0-22) Ubuntu 24.04 Kernel: 5.15 Compiler: gcc gcc (Ubuntu 13.3.0-6ubuntu2~24.04) 13.3.0 Ubuntu 20.04 Kernel: 5.15 Compiler: gcc gcc (Ubuntu 9.4.0-1ubuntu1~20.04.2) 9.4.0 Ubuntu 22.04 Kernel: 5.15 Compiler: gcc gcc (Ubuntu 11.4.0-1ubuntu1~22.04) 11.4.0 Windows Server 2022 Kernel: 10.0.20348.2031 Compiler: clang 15.0.7, gcc 14.1.0 (MinGW), and MSVC VS 19.39.33521 To view detailed results, visit: https://lab.dpdk.org/results/dashboard/patchsets/34587/ UNH-IOL DPDK Community Lab To manage your email subscriptions, visit: https://lab.dpdk.org/results/dashboard/preferences/subscriptions/