From mboxrd@z Thu Jan 1 00:00:00 1970 Return-Path: Received: from mails.dpdk.org (mails.dpdk.org [217.70.189.124]) by inbox.dpdk.org (Postfix) with ESMTP id E064048B13 for ; Sat, 15 Nov 2025 05:39:14 +0100 (CET) Received: from mails.dpdk.org (localhost [127.0.0.1]) by mails.dpdk.org (Postfix) with ESMTP id BEFD0400D6; Sat, 15 Nov 2025 05:39:14 +0100 (CET) Received: from mail-qk1-f226.google.com (mail-qk1-f226.google.com [209.85.222.226]) by mails.dpdk.org (Postfix) with ESMTP id 81C2B400D6 for ; Sat, 15 Nov 2025 05:39:13 +0100 (CET) Received: by mail-qk1-f226.google.com with SMTP id af79cd13be357-8b25e273a8dso281514085a.3 for ; Fri, 14 Nov 2025 20:39:13 -0800 (PST) DKIM-Signature: v=1; a=rsa-sha256; c=relaxed/relaxed; d=iol.unh.edu; s=unh-iol; t=1763181553; x=1763786353; darn=dpdk.org; h=cc:to:from:subject:message-id:date:from:to:cc:subject:date :message-id:reply-to; bh=ApPUjPWE7TWhxaRpO1YMhOwDOo8SiHI1CQ2zZGhbRlk=; b=SdKU4SjjsV9eUw3iRY3wRZ/Y6WWhj9zbxq8D/R7HzYIDuzvvllaU4mAoPa5gVUc1qB v9tAR7pJkcD86MMqVQeAihS5DbZI+7fJ60fy3lF0fFVFptlj3ixLpPXu+5MVCFRwyN1e Ng4q3bX9RC5l99KoI/U8CyrHC06jMEIZz75xg= X-Google-DKIM-Signature: v=1; a=rsa-sha256; c=relaxed/relaxed; d=1e100.net; s=20230601; t=1763181553; x=1763786353; h=cc:to:from:subject:message-id:date:x-gm-gg:x-gm-message-state:from :to:cc:subject:date:message-id:reply-to; bh=ApPUjPWE7TWhxaRpO1YMhOwDOo8SiHI1CQ2zZGhbRlk=; b=JxcRxHr19Ms8FIIDTXfDr3epQ31QxUPvHH92o+a074E5EZOjjP7oR1G8dz/qkSX9FC VUpeZVDnNPhZoiLZfPDdyth49xL86ww3WW2pNIgcMY+RW3pXGTj2d5a8iTcAQl790D/7 porxLe6NytOJiq+c2176yJYPQ9nW8/AO+RolJh152IeJO6/1zrRP2pBOcVAnbjigxyC+ cU0VL2JU0tJwUCMbTxcqY4mbQneRvMqtOFr2z0b0Iykd8qKBt4pH4ZAV0vaw2RZsL9MV PoZ9XfBcBwV336qz/b8EaDUK0MSaSG0A2CQidq/kR0cwOCmjuMxjaUh3bEA8y9EweaTo pasQ== X-Gm-Message-State: AOJu0YyI9je3Orx0p71wQi3SvSudT+jaJuoCwktUQecUsUWgSKH9CGSx LTTvZQTAS3AQWLIYGABxbTmWkxByGNIdX5IzSYUK8PWGHj+XgstNU+MvzLmr4lB8rsGqji8jJRe 6ZUr8ZrOlA7a3zK5BD7A4M1kPvj88d+4kBl/z X-Gm-Gg: ASbGncsFxKfJwbDgeEKE+qBQ29wsZbKxD4QTo5fVpXMe8s/YJPSaBJxR0kfjHDhIsot 0FvK9Z27Kmn83JDN6SUWHzfH+QtotAPPrv8EovuLgIbg/OurrvUAsHQG8ea4hed7A0nVBfUeU1o PD0dEkpkN0VKh1XMQwZ4kPqzNlolVrnw1Bo8Uq55nWcXYJsGMlXz75WANWvUkyKGQGMRe9Lwyjh 1KRJBi2iAGVD/6LBO0cV88OZrHfH02TxsyCd0hnPAv+2ch2MqXPesTjJdc1Cdy8pm97B7HYcyTQ ZWiqEz0QTubqch1ejsWK6YC+lS3+60G9iqvZXdF39GNQamU6fpQ8yp/yJjPPj/JCQdl6buMuNjR YR1JJSGL3ocmVxSmryndVYHxdsPc+VRA= X-Google-Smtp-Source: AGHT+IHAjzNtf4oaUhl1fvbIgPv7T+UWfmvCqcS+4+OfZTU43u12axr7cHp8SnnaWXwoHwEfi7dLBvlRgCc8 X-Received: by 2002:a05:6214:21e2:b0:880:4896:5d81 with SMTP id 6a1803df08f44-88292587094mr74923126d6.3.1763181552721; Fri, 14 Nov 2025 20:39:12 -0800 (PST) Received: from postal.iol.unh.edu (postal.iol.unh.edu. [132.177.123.84]) by smtp-relay.gmail.com with ESMTPS id 6a1803df08f44-882862b341asm7928946d6.5.2025.11.14.20.39.12 (version=TLS1_2 cipher=ECDHE-ECDSA-AES128-GCM-SHA256 bits=128/128); Fri, 14 Nov 2025 20:39:12 -0800 (PST) X-Relaying-Domain: iol.unh.edu Date: Fri, 14 Nov 2025 20:39:12 -0800 (PST) Message-ID: <691803f0.050a0220.3756e4.7e37SMTPIN_ADDED_MISSING@mx.google.com> Received: from [172.21.0.2] (unknown [172.18.0.240]) by postal.iol.unh.edu (Postfix) with ESMTP id 6E61D6051830; Fri, 14 Nov 2025 23:39:12 -0500 (EST) Subject: |SUCCESS| [GIT MASTER] 9784db2c5af1eecd02fc21132b59b5b266039b87 From: dpdklab@iol.unh.edu To: Test Report Cc: dpdk-test-reports@iol.unh.edu, Xueming Li , Christian Ehrhardt , Kevin Traynor , Luca Boccassi Content-Type: text/plain X-BeenThere: test-report@dpdk.org X-Mailman-Version: 2.1.29 Precedence: list List-Id: automatic DPDK test reports List-Unsubscribe: , List-Archive: List-Post: List-Help: List-Subscribe: , Errors-To: test-report-bounces@dpdk.org _Testing PASS_ Branch: tags/v22.11 9784db2c5af1eecd02fc21132b59b5b266039b87 --> testing pass Upstream job id: Windows-Compile-DPDK-Native#32341 Test environment and result as below: +-------------------------------+--------------------+-------------------------+ | Environment | dpdk_meson_compile | dpdk_llvm_clang_compile | +===============================+====================+=========================+ | FreeBSD 14.2 | PASS | SKIPPED | +-------------------------------+--------------------+-------------------------+ | Ubuntu 20.04 | PASS | SKIPPED | +-------------------------------+--------------------+-------------------------+ | CentOS Stream 9 | PASS | SKIPPED | +-------------------------------+--------------------+-------------------------+ | CentOS Stream 10 | PASS | SKIPPED | +-------------------------------+--------------------+-------------------------+ | Debian GNU/Linux 12 | PASS | SKIPPED | +-------------------------------+--------------------+-------------------------+ | Fedora Linux 42 | PASS | SKIPPED | +-------------------------------+--------------------+-------------------------+ | openSUSE Leap 15.6 | PASS | SKIPPED | +-------------------------------+--------------------+-------------------------+ | Red Hat Enterprise Linux 9.5 | PASS | SKIPPED | +-------------------------------+--------------------+-------------------------+ | Ubuntu 22.04 | PASS | SKIPPED | +-------------------------------+--------------------+-------------------------+ | Red Hat Enterprise Linux 8.10 | PASS | SKIPPED | +-------------------------------+--------------------+-------------------------+ | Ubuntu 24.04 | PASS | SKIPPED | +-------------------------------+--------------------+-------------------------+ | Windows Server 2022 | SKIPPED | PASS | +-------------------------------+--------------------+-------------------------+ FreeBSD 14.2 Kernel: 14.2-RELEASE Compiler: clang 18.1.6 Ubuntu 20.04 Kernel: 4.19 Compiler: gcc gcc (Ubuntu 9.4.0-1ubuntu1~20.04.2) 9.4.0 CentOS Stream 9 Kernel: 5.15 Compiler: gcc gcc (GCC) 11.5.0 20240719 (Red Hat 11.5.0-11) CentOS Stream 10 Kernel: 5.15 Compiler: gcc gcc (GCC) 14.2.1 20250110 (Red Hat 14.2.1-8) Debian GNU/Linux 12 Kernel: 5.15 Compiler: gcc gcc (Debian 12.2.0-14+deb12u1) 12.2.0 Fedora Linux 42 Kernel: 5.15 Compiler: gcc gcc (GCC) 15.2.1 20250808 (Red Hat 15.2.1-1) openSUSE Leap 15.6 Kernel: 5.15 Compiler: gcc gcc (SUSE Linux) 7.5.0 Red Hat Enterprise Linux 9.5 Kernel: 5.15 Compiler: gcc gcc (GCC) 11.5.0 20240719 (Red Hat 11.5.0-2) Ubuntu 22.04 Kernel: 5.15 Compiler: gcc gcc (Ubuntu 11.4.0-1ubuntu1~22.04) 11.4.0 Red Hat Enterprise Linux 8.10 Kernel: 5.15 Compiler: gcc gcc (GCC) 8.5.0 20210514 (Red Hat 8.5.0-22) Ubuntu 24.04 Kernel: 5.15 Compiler: gcc gcc (Ubuntu 13.3.0-6ubuntu2~24.04) 13.3.0 Windows Server 2022 Kernel: 10.0.20348.2031 Compiler: clang 15.0.7, gcc 14.1.0 (MinGW), and MSVC VS 19.39.33521 To view detailed results, visit: https://lab.dpdk.org/results/dashboard/tarballs/35563/ UNH-IOL DPDK Community Lab To manage your email subscriptions, visit: https://lab.dpdk.org/results/dashboard/preferences/subscriptions/