From mboxrd@z Thu Jan 1 00:00:00 1970 Return-Path: Received: from mails.dpdk.org (mails.dpdk.org [217.70.189.124]) by inbox.dpdk.org (Postfix) with ESMTP id 3979748B13 for ; Sat, 15 Nov 2025 05:41:20 +0100 (CET) Received: from mails.dpdk.org (localhost [127.0.0.1]) by mails.dpdk.org (Postfix) with ESMTP id 18492400D6; Sat, 15 Nov 2025 05:41:20 +0100 (CET) Received: from mail-yw1-f228.google.com (mail-yw1-f228.google.com [209.85.128.228]) by mails.dpdk.org (Postfix) with ESMTP id 5622C400D6 for ; Sat, 15 Nov 2025 05:41:18 +0100 (CET) Received: by mail-yw1-f228.google.com with SMTP id 00721157ae682-7866bca6765so25677897b3.1 for ; Fri, 14 Nov 2025 20:41:18 -0800 (PST) DKIM-Signature: v=1; a=rsa-sha256; c=relaxed/relaxed; d=iol.unh.edu; s=unh-iol; t=1763181677; x=1763786477; darn=dpdk.org; h=cc:to:from:subject:message-id:date:from:to:cc:subject:date :message-id:reply-to; bh=yAr3HtthkqWLxlurO0EnC90r04QrVsskbppcDP5h74g=; b=OOWNWr+Th2y/NTqNpjd2vsirfos2EHAwpKuMPxVeUfJvS3ni4WzCwGuA654f+anLth WfQ7Meq9msOImjIFXPRXIrK1cvxoOfl0/5ExrIbXVIh8Taugqx00qaaLvJTsqLtc1RYO 4xSqqROrUG8Eqt/DzFEEaxXOIQlVWeGRrcG7g= X-Google-DKIM-Signature: v=1; a=rsa-sha256; c=relaxed/relaxed; d=1e100.net; s=20230601; t=1763181677; x=1763786477; h=cc:to:from:subject:message-id:date:x-gm-gg:x-gm-message-state:from :to:cc:subject:date:message-id:reply-to; bh=yAr3HtthkqWLxlurO0EnC90r04QrVsskbppcDP5h74g=; b=C7jCzeWOS/Zt4ox5LSMYphK2tMnjFlKMXjOqOXorNRQQ+YqMh+Wgow18xPx9YC5g8v pz0yK1N488K0OZZRBXsofT8c2fxOeKseugaTKvUiJ3XRBfESKXm2vRqQT19tpEDOwoHN gsAPdUNfHV+Wmck5ZuM9oqKSCOMLVB/ElHtYESPo2yhc4xpL5O0Rg/87jtR0kJXFvr5g s0qPQKThlVZtbVJ+pKMeETPE4yjht5dsUDceowhsSyZePtCAfvzUbNBLJ8JwCBBHDKi8 PWH73yv6glc4dqGQ++WXnASQ0uhnpl/5PrnGQ+LMavI9jqMtr4Xk4W2KdRGMzEY+DE/j XL4g== X-Gm-Message-State: AOJu0YwALWjWc4wyEMhwI0pbEvHOVtXD3s5VaZHMJYBWtkwlqRJ/AP8F VrA113HAAKYXfrb5m2l0hEgLwm7uLinSmfOh/H2JD685c/O2Oher8xwBSkrZOudDWrgBpOzda6E jNCSBoqE5JK1aWM2UTeiIJMsgd9EAZvoVoEj9 X-Gm-Gg: ASbGnctDuQ5aQB1OTV7JIdrvU8COo4XX9LoGGXyV/oaUOtK8cxz0PTQx09fzIiC1sWr mkgyvPt5mu4UkEPAuZz4VWxpNidx7g6PA9ub1jjLH2+TMhoPXKEc3sfSgnhF3RS/hV1Ur1W/Wqz +vobdobc36NYKDsbMrXyiDN6H+qnSiXM1NVrkqkJHNepTdqcs6xBDFOj0BfNxZCoIC5k0vebDN8 Qs3pLBLunX+a51p9UNWen8lB0esVRI3AIsWS7/q1BzugPvmyyCt/L31XRtyMcv5UpEhgSzyMp+X aYw2DCQG1/STb+UBiRdTB9jvy3o5ZoLFQHGqJwie7szuoWiCOyW72IDj9pwl1v5ALveAC3uFlva cVwO+fFI3sqZk28vAuuf5VhY3/3qZUwc= X-Google-Smtp-Source: AGHT+IGt96zUeBpsUjw/kBw4L09C3wy/tactlVqap5QPK+LBTWcpfh9phNINXcsAFv6nZKjk37s4R3lUmJSd X-Received: by 2002:a05:690c:46c7:b0:786:5812:4042 with SMTP id 00721157ae682-78929efeb1amr50901027b3.62.1763181677533; Fri, 14 Nov 2025 20:41:17 -0800 (PST) Received: from postal.iol.unh.edu (postal.iol.unh.edu. [132.177.123.84]) by smtp-relay.gmail.com with ESMTPS id 00721157ae682-78821fc5fa0sm3852747b3.27.2025.11.14.20.41.17 (version=TLS1_2 cipher=ECDHE-ECDSA-AES128-GCM-SHA256 bits=128/128); Fri, 14 Nov 2025 20:41:17 -0800 (PST) X-Relaying-Domain: iol.unh.edu Date: Fri, 14 Nov 2025 20:41:17 -0800 (PST) Message-ID: <6918046d.050a0220.33c8.30faSMTPIN_ADDED_MISSING@mx.google.com> Received: from [172.21.0.3] (unknown [172.18.0.240]) by postal.iol.unh.edu (Postfix) with ESMTP id 2E7E26051830; Fri, 14 Nov 2025 23:41:17 -0500 (EST) Subject: |SUCCESS| [GIT MASTER] 9784db2c5af1eecd02fc21132b59b5b266039b87 From: dpdklab@iol.unh.edu To: Test Report Cc: dpdk-test-reports@iol.unh.edu, Xueming Li , Christian Ehrhardt , Kevin Traynor , Luca Boccassi Content-Type: text/plain X-BeenThere: test-report@dpdk.org X-Mailman-Version: 2.1.29 Precedence: list List-Id: automatic DPDK test reports List-Unsubscribe: , List-Archive: List-Post: List-Help: List-Subscribe: , Errors-To: test-report-bounces@dpdk.org _Testing PASS_ Branch: tags/v22.11 9784db2c5af1eecd02fc21132b59b5b266039b87 --> testing pass Upstream job id: Windows-Compile-DPDK-Native#32342 Test environment and result as below: +-------------------------------+--------------------+-------------------------+----------------------+ | Environment | dpdk_meson_compile | dpdk_llvm_clang_compile | dpdk_mingw64_compile | +===============================+====================+=========================+======================+ | FreeBSD 14.2 | PASS | SKIPPED | SKIPPED | +-------------------------------+--------------------+-------------------------+----------------------+ | Ubuntu 20.04 | PASS | SKIPPED | SKIPPED | +-------------------------------+--------------------+-------------------------+----------------------+ | CentOS Stream 9 | PASS | SKIPPED | SKIPPED | +-------------------------------+--------------------+-------------------------+----------------------+ | CentOS Stream 10 | PASS | SKIPPED | SKIPPED | +-------------------------------+--------------------+-------------------------+----------------------+ | Debian GNU/Linux 12 | PASS | SKIPPED | SKIPPED | +-------------------------------+--------------------+-------------------------+----------------------+ | Fedora Linux 42 | PASS | SKIPPED | SKIPPED | +-------------------------------+--------------------+-------------------------+----------------------+ | openSUSE Leap 15.6 | PASS | SKIPPED | SKIPPED | +-------------------------------+--------------------+-------------------------+----------------------+ | Red Hat Enterprise Linux 9.5 | PASS | SKIPPED | SKIPPED | +-------------------------------+--------------------+-------------------------+----------------------+ | Ubuntu 22.04 | PASS | SKIPPED | SKIPPED | +-------------------------------+--------------------+-------------------------+----------------------+ | Red Hat Enterprise Linux 8.10 | PASS | SKIPPED | SKIPPED | +-------------------------------+--------------------+-------------------------+----------------------+ | Ubuntu 24.04 | PASS | SKIPPED | SKIPPED | +-------------------------------+--------------------+-------------------------+----------------------+ | Windows Server 2022 | SKIPPED | PASS | PASS | +-------------------------------+--------------------+-------------------------+----------------------+ FreeBSD 14.2 Kernel: 14.2-RELEASE Compiler: clang 18.1.6 Ubuntu 20.04 Kernel: 4.19 Compiler: gcc gcc (Ubuntu 9.4.0-1ubuntu1~20.04.2) 9.4.0 CentOS Stream 9 Kernel: 5.15 Compiler: gcc gcc (GCC) 11.5.0 20240719 (Red Hat 11.5.0-11) CentOS Stream 10 Kernel: 5.15 Compiler: gcc gcc (GCC) 14.2.1 20250110 (Red Hat 14.2.1-8) Debian GNU/Linux 12 Kernel: 5.15 Compiler: gcc gcc (Debian 12.2.0-14+deb12u1) 12.2.0 Fedora Linux 42 Kernel: 5.15 Compiler: gcc gcc (GCC) 15.2.1 20250808 (Red Hat 15.2.1-1) openSUSE Leap 15.6 Kernel: 5.15 Compiler: gcc gcc (SUSE Linux) 7.5.0 Red Hat Enterprise Linux 9.5 Kernel: 5.15 Compiler: gcc gcc (GCC) 11.5.0 20240719 (Red Hat 11.5.0-2) Ubuntu 22.04 Kernel: 5.15 Compiler: gcc gcc (Ubuntu 11.4.0-1ubuntu1~22.04) 11.4.0 Red Hat Enterprise Linux 8.10 Kernel: 5.15 Compiler: gcc gcc (GCC) 8.5.0 20210514 (Red Hat 8.5.0-22) Ubuntu 24.04 Kernel: 5.15 Compiler: gcc gcc (Ubuntu 13.3.0-6ubuntu2~24.04) 13.3.0 Windows Server 2022 Kernel: 10.0.20348.2031 Compiler: clang 15.0.7, gcc 14.1.0 (MinGW), and MSVC VS 19.39.33521 To view detailed results, visit: https://lab.dpdk.org/results/dashboard/tarballs/35563/ UNH-IOL DPDK Community Lab To manage your email subscriptions, visit: https://lab.dpdk.org/results/dashboard/preferences/subscriptions/