From mboxrd@z Thu Jan 1 00:00:00 1970 Return-Path: Received: from mails.dpdk.org (mails.dpdk.org [217.70.189.124]) by inbox.dpdk.org (Postfix) with ESMTP id 5169848B13 for ; Sat, 15 Nov 2025 05:50:45 +0100 (CET) Received: from mails.dpdk.org (localhost [127.0.0.1]) by mails.dpdk.org (Postfix) with ESMTP id 305B0400D6; Sat, 15 Nov 2025 05:50:45 +0100 (CET) Received: from mail-pf1-f225.google.com (mail-pf1-f225.google.com [209.85.210.225]) by mails.dpdk.org (Postfix) with ESMTP id 4CF54400D6 for ; Sat, 15 Nov 2025 05:50:44 +0100 (CET) Received: by mail-pf1-f225.google.com with SMTP id d2e1a72fcca58-7b852bb31d9so3074152b3a.0 for ; Fri, 14 Nov 2025 20:50:44 -0800 (PST) DKIM-Signature: v=1; a=rsa-sha256; c=relaxed/relaxed; d=iol.unh.edu; s=unh-iol; t=1763182243; x=1763787043; darn=dpdk.org; h=cc:to:from:subject:message-id:date:from:to:cc:subject:date :message-id:reply-to; bh=DavfwuHySTXM+zkVpy4tZTiUpoYjwh/e+8WF9Rg/MKQ=; b=fwAHVrc2LPJ7VN3vrXed+6kfJfdqUvjsnfVnLoDqgygVMMCBM3ELospQcmJBftoPnh +IHjZOVWkvtOeto8DcMOvFynz+xXgOK0ijTlvgl/bpTj1S8fXYXA+We+eBVtyYkgkm8f t559GYaNkxoA0BwTyENUARrgi/UCJz0CI0btE= X-Google-DKIM-Signature: v=1; a=rsa-sha256; c=relaxed/relaxed; d=1e100.net; s=20230601; t=1763182243; x=1763787043; h=cc:to:from:subject:message-id:date:x-gm-gg:x-gm-message-state:from :to:cc:subject:date:message-id:reply-to; bh=DavfwuHySTXM+zkVpy4tZTiUpoYjwh/e+8WF9Rg/MKQ=; b=Gfrljo5FRUCJEtnYoT/5nHhBxONCUP7f+uFkiPnJEVY9Y3tjIETG44+9eXu2M2ddLP ri1sSjedtER5k77g/AYItkj/XMO4/ZIaMg650KvehcOOiuYtCFIeWsNxJc/fQAY4ah87 jZ9+UYLhGQrchvNTJubEFQBKUlirrs03AP6Ce1mBJo6QFIm5d7zI1rpfOiI35nwWl8aE O/S/BoHFzlcNqOmEv0StlJ9DGkiwU4GmKiAAELQEZMU0nbVoIi+K5yQ7sYwcBqK73Lq2 hYp4ttDgqq2KG/pJDxQhFMa9rbuJ6q6P5QUlYnBOCzSyzwDSveVbTY/uB2LWxHJuamX0 sXLg== X-Gm-Message-State: AOJu0YyyNi2xev2QAo1EcU3TC4PvK9bk+uPS81WmODPW5CeLs/qNJrOg +fSbdEY6bm8H2JsslgyCODQt9E1zo9IFa4xfcSm0a+Fl58By+Gl0LMDEZI4CeYzHIXuGligGhRM nwJt+QW+VymPxUnULkTDWHl3r7g+WKtOrnNUR X-Gm-Gg: ASbGncsUPdVo02zNieH9AZoczBj4VMmZK+AS9koDyT6/FGIK0oza7KGLYNfodiTvGiK 8ow3SZxKD6obXw3uDT1zOEL5nP6PNQFvM+5tzOzekxYCYn5lOCsJk1qa6ZXzOJCQ6bTVI3ls7Ga TAAClKhDnm8r8ELWeuGvd4LkbK7RQo8tlkj1zlOdReAsS7Nmnh0UZM+IClCjs0myub3vdLR7LNQ 2GetQqfU1YX5gz/M/QGB8PqGhaq0RUZEtvB0iY5KzJ2mkWRqKqDPzxvjnTtSwLbp3jtXkB42aO6 UNwK4mcnpTrZpPlxeXpW+Cw/FF9fwG1ZzthXINIxWZigZ3fOIiPq9vGvXoloWQzm4CllCiO55wC 5EQV1q7T9LF1PuOKM64E8XcOECQpqMVQ= X-Google-Smtp-Source: AGHT+IGzHUMWtEdwIQqweTykjJZaETTXIqwQa7P2QbPmISbgmmCC7djPH86LFBRNrBgc4DaH9vjERFlL3HUY X-Received: by 2002:a05:6a20:12ca:b0:34e:8442:73e0 with SMTP id adf61e73a8af0-35ba278d1c8mr7217821637.54.1763182243282; Fri, 14 Nov 2025 20:50:43 -0800 (PST) Received: from postal.iol.unh.edu (postal.iol.unh.edu. [132.177.123.84]) by smtp-relay.gmail.com with ESMTPS id d2e1a72fcca58-7b9287040f6sm660740b3a.10.2025.11.14.20.50.43 (version=TLS1_2 cipher=ECDHE-ECDSA-AES128-GCM-SHA256 bits=128/128); Fri, 14 Nov 2025 20:50:43 -0800 (PST) X-Relaying-Domain: iol.unh.edu Date: Fri, 14 Nov 2025 20:50:43 -0800 (PST) Message-ID: <691806a3.050a0220.25384e.11bbSMTPIN_ADDED_MISSING@mx.google.com> Received: from [172.21.0.4] (unknown [172.18.0.240]) by postal.iol.unh.edu (Postfix) with ESMTP id 77B8E6051830; Fri, 14 Nov 2025 23:50:42 -0500 (EST) Subject: |SUCCESS| [GIT MASTER] 0bd935abcb823f581ce53986986aa54eaf6f8140 From: dpdklab@iol.unh.edu To: Test Report Cc: dpdk-test-reports@iol.unh.edu, Xueming Li , Christian Ehrhardt , Kevin Traynor , Luca Boccassi Content-Type: text/plain X-BeenThere: test-report@dpdk.org X-Mailman-Version: 2.1.29 Precedence: list List-Id: automatic DPDK test reports List-Unsubscribe: , List-Archive: List-Post: List-Help: List-Subscribe: , Errors-To: test-report-bounces@dpdk.org _Testing PASS_ Branch: tags/v24.11 0bd935abcb823f581ce53986986aa54eaf6f8140 --> testing pass Upstream job id: Windows-Compile-DPDK-Native#32345 Test environment and result as below: +-------------------------------+--------------------+------------------+-------------------+-------------------------+ | Environment | dpdk_meson_compile | dpdk_compile_ovs | dpdk_msvc_compile | dpdk_llvm_clang_compile | +===============================+====================+==================+===================+=========================+ | FreeBSD 14.2 | PASS | SKIPPED | SKIPPED | SKIPPED | +-------------------------------+--------------------+------------------+-------------------+-------------------------+ | Ubuntu 20.04 | PASS | SKIPPED | SKIPPED | SKIPPED | +-------------------------------+--------------------+------------------+-------------------+-------------------------+ | CentOS Stream 9 | PASS | SKIPPED | SKIPPED | SKIPPED | +-------------------------------+--------------------+------------------+-------------------+-------------------------+ | CentOS Stream 10 | PASS | SKIPPED | SKIPPED | SKIPPED | +-------------------------------+--------------------+------------------+-------------------+-------------------------+ | Debian GNU/Linux 12 | PASS | SKIPPED | SKIPPED | SKIPPED | +-------------------------------+--------------------+------------------+-------------------+-------------------------+ | Fedora Linux 42 | PASS | PASS | SKIPPED | SKIPPED | +-------------------------------+--------------------+------------------+-------------------+-------------------------+ | openSUSE Leap 15.6 | PASS | SKIPPED | SKIPPED | SKIPPED | +-------------------------------+--------------------+------------------+-------------------+-------------------------+ | Red Hat Enterprise Linux 8.10 | PASS | SKIPPED | SKIPPED | SKIPPED | +-------------------------------+--------------------+------------------+-------------------+-------------------------+ | Red Hat Enterprise Linux 9.5 | PASS | SKIPPED | SKIPPED | SKIPPED | +-------------------------------+--------------------+------------------+-------------------+-------------------------+ | Ubuntu 22.04 | PASS | SKIPPED | SKIPPED | SKIPPED | +-------------------------------+--------------------+------------------+-------------------+-------------------------+ | Ubuntu 24.04 | PASS | PASS | SKIPPED | SKIPPED | +-------------------------------+--------------------+------------------+-------------------+-------------------------+ | Alpine Linux 3.22.0 | PASS | SKIPPED | SKIPPED | SKIPPED | +-------------------------------+--------------------+------------------+-------------------+-------------------------+ | Windows Server 2022 | SKIPPED | SKIPPED | PASS | PASS | +-------------------------------+--------------------+------------------+-------------------+-------------------------+ FreeBSD 14.2 Kernel: 14.2-RELEASE Compiler: clang 18.1.6 Ubuntu 20.04 Kernel: 4.19 Compiler: gcc gcc (Ubuntu 9.4.0-1ubuntu1~20.04.2) 9.4.0 CentOS Stream 9 Kernel: 5.15 Compiler: gcc gcc (GCC) 11.5.0 20240719 (Red Hat 11.5.0-11) CentOS Stream 10 Kernel: 5.15 Compiler: gcc gcc (GCC) 14.2.1 20250110 (Red Hat 14.2.1-8) Debian GNU/Linux 12 Kernel: 5.15 Compiler: gcc gcc (Debian 12.2.0-14+deb12u1) 12.2.0 Fedora Linux 42 Kernel: 5.15 Compiler: clang gcc (GCC) 15.2.1 20250808 (Red Hat 15.2.1-1) openSUSE Leap 15.6 Kernel: 5.15 Compiler: gcc gcc (SUSE Linux) 7.5.0 Red Hat Enterprise Linux 8.10 Kernel: 5.15 Compiler: gcc gcc (GCC) 8.5.0 20210514 (Red Hat 8.5.0-22) Red Hat Enterprise Linux 9.5 Kernel: 5.15 Compiler: gcc gcc (GCC) 11.5.0 20240719 (Red Hat 11.5.0-2) Ubuntu 22.04 Kernel: 5.15 Compiler: gcc gcc (Ubuntu 11.4.0-1ubuntu1~22.04) 11.4.0 Ubuntu 24.04 Kernel: 5.15 Compiler: gcc gcc (Ubuntu 13.3.0-6ubuntu2~24.04) 13.3.0 Alpine Linux 3.22.0 Kernel: 5.15 Compiler: gcc gcc (Alpine 14.2.0) 14.2.0 Windows Server 2022 Kernel: 10.0.20348.2031 Compiler: clang 15.0.7, gcc 14.1.0 (MinGW), and MSVC VS 19.39.33521 To view detailed results, visit: https://lab.dpdk.org/results/dashboard/tarballs/35565/ UNH-IOL DPDK Community Lab To manage your email subscriptions, visit: https://lab.dpdk.org/results/dashboard/preferences/subscriptions/