From mboxrd@z Thu Jan 1 00:00:00 1970 Return-Path: Received: from mails.dpdk.org (mails.dpdk.org [217.70.189.124]) by inbox.dpdk.org (Postfix) with ESMTP id 7E6DB48B13 for ; Sat, 15 Nov 2025 05:52:58 +0100 (CET) Received: from mails.dpdk.org (localhost [127.0.0.1]) by mails.dpdk.org (Postfix) with ESMTP id 64A6F400D6; Sat, 15 Nov 2025 05:52:58 +0100 (CET) Received: from mail-pl1-f228.google.com (mail-pl1-f228.google.com [209.85.214.228]) by mails.dpdk.org (Postfix) with ESMTP id 4E8B9400D6 for ; Sat, 15 Nov 2025 05:52:57 +0100 (CET) Received: by mail-pl1-f228.google.com with SMTP id d9443c01a7336-298287a26c3so32510735ad.0 for ; Fri, 14 Nov 2025 20:52:57 -0800 (PST) DKIM-Signature: v=1; a=rsa-sha256; c=relaxed/relaxed; d=iol.unh.edu; s=unh-iol; t=1763182376; x=1763787176; darn=dpdk.org; h=cc:to:from:subject:message-id:date:from:to:cc:subject:date :message-id:reply-to; bh=8SUtgBTVJXwNJbLVLGJqfWSfYAeJkND/sqQZzMS5c4c=; b=ZCbEodTN9RCRxQvIAf6y/PeyLf1VXQSd1fQIGcwG11L5RlTARG3nI5AyD8ZKTheNcK PPJJaJbbmJtYDLpmmHjZ0MR9cTDGm6SH3bX8CFa8sOjwFOWM3lLq7WEeizcApj3Nzs0E 9vV9F/e5eSJAdDSmZv3vqSYtBiuGF3uuACoLA= X-Google-DKIM-Signature: v=1; a=rsa-sha256; c=relaxed/relaxed; d=1e100.net; s=20230601; t=1763182376; x=1763787176; h=cc:to:from:subject:message-id:date:x-gm-gg:x-gm-message-state:from :to:cc:subject:date:message-id:reply-to; bh=8SUtgBTVJXwNJbLVLGJqfWSfYAeJkND/sqQZzMS5c4c=; b=pYK3suar89RoqsDNenwpkeyxhEC4Nrjpfz8f6eSoGq3jU7OPWKuw1s8TFWTe7z6IXu HWsg7tzEjQmDl0kxgbpFkFy281rhi9m7VWODmQvEGyvl6TB/fv2wa/RQZeuPBqRniHH9 DLBed/lTafrUpk4jkOkAX8NSu/BJlRlpEMt/WMVTDNmgv7OsEeC5eMwjMdHOYwEebL// AjijDsZ29yEAT2q5YZXfYpReqdVIrvHaVS7I1B7k8wcnVBxPH3uj/53tH44gGMsQgzcb 1FFvlEm0mAqYTJXdR3TeiTlirEq8sEO4XpWLdeHTOqI4Glbmxqu44/KzWIjfr9+uWMAE 3KLg== X-Gm-Message-State: AOJu0Yx7inPFmMVwj7kx0N6IzNcXe1Ucn/aSKHOB3BKgHcjhfwfI9oTe sFMTlXEsuPwV2lqrXS54uWx2WPoH8SMX873kbRbasP6pi+FsRgYQhWnq1HKAKg22aLFdtunhqnz RyB1ChK1OZ9LBALCLRueIZqFhj3+x2biHBw/H X-Gm-Gg: ASbGncs70WzpqEXwSaLhO8xcghBvnc8oiiYE3oPfKum11FPmP3ji6QJDELtyZk7rokW s9wmZ1mvdax0o0yyjA8wSDu6Z8TNI/c0kQp2WU+qwIteNwQpKhAWOpbyz0prBrqsWp1c7PCfoxV ELQAdrhRrzOtSWWpZNLswmQUvtqFGAHREc2lqq+UgzRJgt3f8vKx5aPriZlV63EGdNg8gu2VaAS JQHbnta1e2az0obn6orF8VAX8KIlSvzuuk2jJ2e1lAhUXxlLpaVTNieGf7PFIapRdBPN89Hbu/n 4ko6aGiQ5J5M759CWPSuogooVPa7Ay+Umf0PzxL+v9jqMVsEcs2fUh7qmehyidX7UAmww6tkd/h nWkGjqLMpP5FSGNx6qNe5oiTcYPovXmY= X-Google-Smtp-Source: AGHT+IH8r6JQxDMKA5Q3ZlxcFD/wJosewpq5E3xByXxyf2D9/wNmeycrZWmIWhvD7Bah8KnInuooE4dfdzZp X-Received: by 2002:a17:903:3b8e:b0:295:19e:487b with SMTP id d9443c01a7336-2986a6bd1f7mr70886675ad.5.1763182376329; Fri, 14 Nov 2025 20:52:56 -0800 (PST) Received: from postal.iol.unh.edu (postal.iol.unh.edu. [132.177.123.84]) by smtp-relay.gmail.com with ESMTPS id 98e67ed59e1d1-343e06fcf4asm1155888a91.2.2025.11.14.20.52.56 (version=TLS1_2 cipher=ECDHE-ECDSA-AES128-GCM-SHA256 bits=128/128); Fri, 14 Nov 2025 20:52:56 -0800 (PST) X-Relaying-Domain: iol.unh.edu Date: Fri, 14 Nov 2025 20:52:56 -0800 (PST) Message-ID: <69180728.170a0220.38e4f0.a237SMTPIN_ADDED_MISSING@mx.google.com> Received: from [172.21.0.4] (unknown [172.18.0.240]) by postal.iol.unh.edu (Postfix) with ESMTP id 7741C6051830; Fri, 14 Nov 2025 23:52:55 -0500 (EST) Subject: |SUCCESS| [GIT MASTER] 0bd935abcb823f581ce53986986aa54eaf6f8140 From: dpdklab@iol.unh.edu To: Test Report Cc: dpdk-test-reports@iol.unh.edu, Xueming Li , Christian Ehrhardt , Kevin Traynor , Luca Boccassi Content-Type: text/plain X-BeenThere: test-report@dpdk.org X-Mailman-Version: 2.1.29 Precedence: list List-Id: automatic DPDK test reports List-Unsubscribe: , List-Archive: List-Post: List-Help: List-Subscribe: , Errors-To: test-report-bounces@dpdk.org _Testing PASS_ Branch: tags/v24.11 0bd935abcb823f581ce53986986aa54eaf6f8140 --> testing pass Upstream job id: Windows-Compile-DPDK-Native#32346 Test environment and result as below: +-------------------------------+--------------------+------------------+-------------------+-------------------------+----------------------+ | Environment | dpdk_meson_compile | dpdk_compile_ovs | dpdk_msvc_compile | dpdk_llvm_clang_compile | dpdk_mingw64_compile | +===============================+====================+==================+===================+=========================+======================+ | FreeBSD 14.2 | PASS | SKIPPED | SKIPPED | SKIPPED | SKIPPED | +-------------------------------+--------------------+------------------+-------------------+-------------------------+----------------------+ | Ubuntu 20.04 | PASS | SKIPPED | SKIPPED | SKIPPED | SKIPPED | +-------------------------------+--------------------+------------------+-------------------+-------------------------+----------------------+ | CentOS Stream 9 | PASS | SKIPPED | SKIPPED | SKIPPED | SKIPPED | +-------------------------------+--------------------+------------------+-------------------+-------------------------+----------------------+ | CentOS Stream 10 | PASS | SKIPPED | SKIPPED | SKIPPED | SKIPPED | +-------------------------------+--------------------+------------------+-------------------+-------------------------+----------------------+ | Debian GNU/Linux 12 | PASS | SKIPPED | SKIPPED | SKIPPED | SKIPPED | +-------------------------------+--------------------+------------------+-------------------+-------------------------+----------------------+ | Fedora Linux 42 | PASS | PASS | SKIPPED | SKIPPED | SKIPPED | +-------------------------------+--------------------+------------------+-------------------+-------------------------+----------------------+ | openSUSE Leap 15.6 | PASS | SKIPPED | SKIPPED | SKIPPED | SKIPPED | +-------------------------------+--------------------+------------------+-------------------+-------------------------+----------------------+ | Red Hat Enterprise Linux 8.10 | PASS | SKIPPED | SKIPPED | SKIPPED | SKIPPED | +-------------------------------+--------------------+------------------+-------------------+-------------------------+----------------------+ | Red Hat Enterprise Linux 9.5 | PASS | SKIPPED | SKIPPED | SKIPPED | SKIPPED | +-------------------------------+--------------------+------------------+-------------------+-------------------------+----------------------+ | Ubuntu 22.04 | PASS | SKIPPED | SKIPPED | SKIPPED | SKIPPED | +-------------------------------+--------------------+------------------+-------------------+-------------------------+----------------------+ | Ubuntu 24.04 | PASS | PASS | SKIPPED | SKIPPED | SKIPPED | +-------------------------------+--------------------+------------------+-------------------+-------------------------+----------------------+ | Alpine Linux 3.22.0 | PASS | SKIPPED | SKIPPED | SKIPPED | SKIPPED | +-------------------------------+--------------------+------------------+-------------------+-------------------------+----------------------+ | Windows Server 2022 | SKIPPED | SKIPPED | PASS | PASS | PASS | +-------------------------------+--------------------+------------------+-------------------+-------------------------+----------------------+ FreeBSD 14.2 Kernel: 14.2-RELEASE Compiler: clang 18.1.6 Ubuntu 20.04 Kernel: 4.19 Compiler: gcc gcc (Ubuntu 9.4.0-1ubuntu1~20.04.2) 9.4.0 CentOS Stream 9 Kernel: 5.15 Compiler: gcc gcc (GCC) 11.5.0 20240719 (Red Hat 11.5.0-11) CentOS Stream 10 Kernel: 5.15 Compiler: gcc gcc (GCC) 14.2.1 20250110 (Red Hat 14.2.1-8) Debian GNU/Linux 12 Kernel: 5.15 Compiler: gcc gcc (Debian 12.2.0-14+deb12u1) 12.2.0 Fedora Linux 42 Kernel: 5.15 Compiler: clang gcc (GCC) 15.2.1 20250808 (Red Hat 15.2.1-1) openSUSE Leap 15.6 Kernel: 5.15 Compiler: gcc gcc (SUSE Linux) 7.5.0 Red Hat Enterprise Linux 8.10 Kernel: 5.15 Compiler: gcc gcc (GCC) 8.5.0 20210514 (Red Hat 8.5.0-22) Red Hat Enterprise Linux 9.5 Kernel: 5.15 Compiler: gcc gcc (GCC) 11.5.0 20240719 (Red Hat 11.5.0-2) Ubuntu 22.04 Kernel: 5.15 Compiler: gcc gcc (Ubuntu 11.4.0-1ubuntu1~22.04) 11.4.0 Ubuntu 24.04 Kernel: 5.15 Compiler: gcc gcc (Ubuntu 13.3.0-6ubuntu2~24.04) 13.3.0 Alpine Linux 3.22.0 Kernel: 5.15 Compiler: gcc gcc (Alpine 14.2.0) 14.2.0 Windows Server 2022 Kernel: 10.0.20348.2031 Compiler: clang 15.0.7, gcc 14.1.0 (MinGW), and MSVC VS 19.39.33521 To view detailed results, visit: https://lab.dpdk.org/results/dashboard/tarballs/35565/ UNH-IOL DPDK Community Lab To manage your email subscriptions, visit: https://lab.dpdk.org/results/dashboard/preferences/subscriptions/