From mboxrd@z Thu Jan 1 00:00:00 1970 Return-Path: Received: from mails.dpdk.org (mails.dpdk.org [217.70.189.124]) by inbox.dpdk.org (Postfix) with ESMTP id BFAF848B13 for ; Sat, 15 Nov 2025 05:56:13 +0100 (CET) Received: from mails.dpdk.org (localhost [127.0.0.1]) by mails.dpdk.org (Postfix) with ESMTP id B60FB400D6; Sat, 15 Nov 2025 05:56:13 +0100 (CET) Received: from mail-oa1-f98.google.com (mail-oa1-f98.google.com [209.85.160.98]) by mails.dpdk.org (Postfix) with ESMTP id E1EDA400D6 for ; Sat, 15 Nov 2025 05:56:12 +0100 (CET) Received: by mail-oa1-f98.google.com with SMTP id 586e51a60fabf-3e80c483a13so1541656fac.2 for ; Fri, 14 Nov 2025 20:56:12 -0800 (PST) DKIM-Signature: v=1; a=rsa-sha256; c=relaxed/relaxed; d=iol.unh.edu; s=unh-iol; t=1763182572; x=1763787372; darn=dpdk.org; h=references:in-reply-to:cc:to:from:subject:message-id:date:from:to :cc:subject:date:message-id:reply-to; bh=oZI+q16cxEumhHFRMmkF2fPUzHf2bHjumHoVNQloaxI=; b=H1xoffB1bxAr8R2KuuUJLjJKEf8eT4muvr4smVX2Gt7ch2ymUyJYOdG+l45N+gOHlD GrQWwHqSAm4SI5cxFDoQjs3IJCdfTms9FgYcvzsQDVpjb3/dN9qvlpDHZGhb9GxF1Nxg E31+852KbSz97ahcQzumCswJCD+dfWkYsIRMQ= X-Google-DKIM-Signature: v=1; a=rsa-sha256; c=relaxed/relaxed; d=1e100.net; s=20230601; t=1763182572; x=1763787372; h=references:in-reply-to:cc:to:from:subject:message-id:date:x-gm-gg :x-gm-message-state:from:to:cc:subject:date:message-id:reply-to; bh=oZI+q16cxEumhHFRMmkF2fPUzHf2bHjumHoVNQloaxI=; b=CGcuFulgNBtFFHHR1oaEPdZjE/zIlP6asRs7TOxH+6cqDG79FQvGWck7oKRecfkzo3 hyQqTNsEgnODqHml1Gs+htgpdSLl7Zed7BoQad8DSR9VyuFDj4ebOcPo+yK2M4vQsQhq aYP7maHS6TJSpn7zQ7dz3EfJ5HThVBCIXJu7UVGQXKxx8HWSQ/VJzdR9sFHXyxh4MGqK fYe/ekICAMRP58kmfcbXAdKOhI97OfdxrHbbkbwoPICsYTgeh0kx8SnmHn3ZM95OVbtA Z8ELDZ+YkPmxgSwPXi95rp/FQMaWLjzIJ5a8TVOQs7n9sVhRDRDnhmd+GCoEY+msmLhu QdMQ== X-Gm-Message-State: AOJu0YwVhTjr44T6/jxDprI8Bmh56AH3D1X4m5Ad1XM6GJ2I9mUCaSkO qX2EDsxnY80nK2dL3R5LFGqnkr7KuFbLbZhsIxQNf7Qr4mLzAIFP7oE+T7PafXLtLLX6DDotUo4 wiaLAjW1cWVsZK6aoVvWJqofJA7soX/fJe7n0dq3VE1B1fY8GwXykvKcLKCeG X-Gm-Gg: ASbGncsF6uvhx9DG3rmGPCOrEqHu0F1xzVMdi/R5xfL09lUaXVhVxYGFsVbtw7IBA2Y JJ5i25GcAx/3cGE3qu7Dku09cBdPyJrkpa3KV4xbNBySJN9L5TyOIgS5atJr6BfKsjcLWoDQVM0 bphPePucJlG9Hanf84ksEj6rJ95Z5q/RwkBsct1xWkUr//GBh+SS3jtefAXMt1zmzYpkG8CN159 nHGR3ulCxIzwlcRyUDr31zR1PXTRx2KXZnKmRjfcDHjmqFLEmwhuu6r/2eCnJkvJmkFO2S7b2m2 TT5icOw6ED2cIaXs5HHcSD5PGGbH18ZpRLQ5kRfSMfnUVNk4DSDFprhoxyZfOeYaIDBN8bPQ6MB F3KLA4jDV X-Google-Smtp-Source: AGHT+IGFOfdD0pgPbNKvRsN5tkyaEnUddc/bGssYikfpFvqJTUmbCYyqC/dFL2M/GuSXCY4crl8Unc/BI4Nu X-Received: by 2002:a05:6870:8dcb:b0:3c9:8eb0:e595 with SMTP id 586e51a60fabf-3e8691924e4mr2527340fac.50.1763182572032; Fri, 14 Nov 2025 20:56:12 -0800 (PST) Received: from postal.iol.unh.edu (postal.iol.unh.edu. [2606:4100:3880:1234::84]) by smtp-relay.gmail.com with ESMTPS id 586e51a60fabf-3e8522706d9sm627701fac.14.2025.11.14.20.56.11 (version=TLS1_2 cipher=ECDHE-ECDSA-AES128-GCM-SHA256 bits=128/128); Fri, 14 Nov 2025 20:56:12 -0800 (PST) X-Relaying-Domain: iol.unh.edu Date: Fri, 14 Nov 2025 20:56:12 -0800 (PST) Message-ID: <691807ec.050a0220.25fd18.edd0SMTPIN_ADDED_MISSING@mx.google.com> Received: from [172.21.0.3] (unknown [172.18.0.240]) by postal.iol.unh.edu (Postfix) with ESMTP id 9125D6051830; Fri, 14 Nov 2025 23:56:11 -0500 (EST) Subject: |SUCCESS| pw158783 [PATCH] [v2] ethdev: add GENEVE encapsulation and From: dpdklab@iol.unh.edu To: Test Report Cc: dpdk-test-reports@iol.unh.edu, Stephen Hemminger In-Reply-To: <20251114061917.20948-1-sunyang.wu@jaguarmicro.com> References: <20251114061917.20948-1-sunyang.wu@jaguarmicro.com> Content-Type: text/plain X-BeenThere: test-report@dpdk.org X-Mailman-Version: 2.1.29 Precedence: list List-Id: automatic DPDK test reports List-Unsubscribe: , List-Archive: List-Post: List-Help: List-Subscribe: , Errors-To: test-report-bounces@dpdk.org Test-Label: iol-unit-amd64-testing Test-Status: SUCCESS http://dpdk.org/patch/158783 _Testing PASS_ Submitter: Sunyang Wu Date: Friday, November 14 2025 06:19:17 DPDK git baseline: Repo:dpdk-next-net Branch: master CommitID:fca6f2910345c25a5050a0b586e0d324ca616cbb 158783 --> testing pass Upstream job id: Generic-VM-Unit-Test-DPDK#32572 Test environment and result as below: +-------------------------------+----------------+ | Environment | dpdk_unit_test | +===============================+================+ | CentOS Stream 10 | PASS | +-------------------------------+----------------+ | CentOS Stream 9 | PASS | +-------------------------------+----------------+ | Fedora Linux 40 | PASS | +-------------------------------+----------------+ | Debian GNU/Linux 12 | PASS | +-------------------------------+----------------+ | Red Hat Enterprise Linux 9.5 | PASS | +-------------------------------+----------------+ | Fedora Linux 42 | PASS | +-------------------------------+----------------+ | Fedora Linux 41 | PASS | +-------------------------------+----------------+ | Red Hat Enterprise Linux 8.10 | PASS | +-------------------------------+----------------+ | Ubuntu 24.04 | PASS | +-------------------------------+----------------+ | Ubuntu 20.04 | PASS | +-------------------------------+----------------+ | Ubuntu 22.04 | PASS | +-------------------------------+----------------+ | Windows Server 2022 | PASS | +-------------------------------+----------------+ CentOS Stream 10 Kernel: 5.15 Compiler: gcc gcc (GCC) 14.2.1 20250110 (Red Hat 14.2.1-8) CentOS Stream 9 Kernel: 5.15 Compiler: gcc gcc (GCC) 11.5.0 20240719 (Red Hat 11.5.0-11) Fedora Linux 40 Kernel: 5.15 Compiler: clang gcc (GCC) 14.2.1 20240912 (Red Hat 14.2.1-3) Debian GNU/Linux 12 Kernel: 5.15 Compiler: gcc gcc (Debian 12.2.0-14+deb12u1) 12.2.0 Red Hat Enterprise Linux 9.5 Kernel: 5.15 Compiler: gcc gcc (GCC) 11.5.0 20240719 (Red Hat 11.5.0-2) Fedora Linux 42 Kernel: 5.15 Compiler: gcc gcc (GCC) 15.2.1 20250808 (Red Hat 15.2.1-1) Fedora Linux 41 Kernel: 5.15 Compiler: clang gcc (GCC) 14.3.1 20250523 (Red Hat 14.3.1-1) Red Hat Enterprise Linux 8.10 Kernel: 5.15 Compiler: gcc gcc (GCC) 8.5.0 20210514 (Red Hat 8.5.0-22) Ubuntu 24.04 Kernel: 5.15 Compiler: gcc gcc (Ubuntu 13.3.0-6ubuntu2~24.04) 13.3.0 Ubuntu 20.04 Kernel: 5.15 Compiler: gcc gcc (Ubuntu 9.4.0-1ubuntu1~20.04.2) 9.4.0 Ubuntu 22.04 Kernel: 5.15 Compiler: gcc gcc (Ubuntu 11.4.0-1ubuntu1~22.04) 11.4.0 Windows Server 2022 Kernel: 10.0.20348.2031 Compiler: clang 15.0.7, gcc 14.1.0 (MinGW), and MSVC VS 19.39.33521 To view detailed results, visit: https://lab.dpdk.org/results/dashboard/patchsets/34587/ UNH-IOL DPDK Community Lab To manage your email subscriptions, visit: https://lab.dpdk.org/results/dashboard/preferences/subscriptions/