From mboxrd@z Thu Jan 1 00:00:00 1970 Return-Path: Received: from mails.dpdk.org (mails.dpdk.org [217.70.189.124]) by inbox.dpdk.org (Postfix) with ESMTP id 1BCE148B13 for ; Sat, 15 Nov 2025 05:58:51 +0100 (CET) Received: from mails.dpdk.org (localhost [127.0.0.1]) by mails.dpdk.org (Postfix) with ESMTP id 107AB400D6; Sat, 15 Nov 2025 05:58:51 +0100 (CET) Received: from mail-qt1-f227.google.com (mail-qt1-f227.google.com [209.85.160.227]) by mails.dpdk.org (Postfix) with ESMTP id BE523400D6 for ; Sat, 15 Nov 2025 05:58:49 +0100 (CET) Received: by mail-qt1-f227.google.com with SMTP id d75a77b69052e-4ed75832448so33685181cf.2 for ; Fri, 14 Nov 2025 20:58:49 -0800 (PST) DKIM-Signature: v=1; a=rsa-sha256; c=relaxed/relaxed; d=iol.unh.edu; s=unh-iol; t=1763182729; x=1763787529; darn=dpdk.org; h=references:in-reply-to:cc:to:from:subject:message-id:date:from:to :cc:subject:date:message-id:reply-to; bh=RR7y9h3OwhSNRQRY6mf3JbtkUmAyEo76e9tI2T6Uzwc=; b=Xg4YrjEbFdrVT8P4arc7i/uz4PTSRaio8XVrLTtTOn8gFzQE1YTuxOK+zZpLryN36U JKBXd/7nm7hi7dezN4xNFGt50w21oN+xTDSONoXLC4fsJjH82jsL6gLOMHHTQCgmmurh TyUtkdgIKfuDuNJkSJ2xAsJxUjwhvRwleyuVg= X-Google-DKIM-Signature: v=1; a=rsa-sha256; c=relaxed/relaxed; d=1e100.net; s=20230601; t=1763182729; x=1763787529; h=references:in-reply-to:cc:to:from:subject:message-id:date:x-gm-gg :x-gm-message-state:from:to:cc:subject:date:message-id:reply-to; bh=RR7y9h3OwhSNRQRY6mf3JbtkUmAyEo76e9tI2T6Uzwc=; b=PC5EPEachL9RusheRogipCWgMJCoZwkm9QoQZAax9zg4dnvs4n0uMsGTZC3I9jlimT Uvb4dMhZqVygOfzpAZxeGFM/VZ6DyuRzdU3KzzGVoHRRnkTaQlrl8fapwlx5GACcYXi0 FPwugHTGKJ1HKntg6X/8/FzNcaCMJq2G2ydxnkD99JQSvQ81mey1J69RJrYRc2PfquOY PZg8t3ocslwBB1AB1beDxlY3PUq9GmMWx3qZEQPDLCwr0CktHa2ogNYQZaOrnfNjVy9N BoBxyoNVezGllka/7tGqIxw0ACAP2qmrBQIdr34QjGwyRffE52wP4y0/vR1UVuqs7LLq Trkg== X-Gm-Message-State: AOJu0YxE0LAwfd+/g0jp6ubz6PioSFfnkUYXyqGxU8PekuQHPvAaLzC6 dVD92UuP2Fmuq+LE8B/IJKCkbQ+bZRKUnVb6Yf5GDRVM+7gg3RL1nppX8kClSP5ZtDdBGE+vsSA 1IFxRsCMUFLA6xjEqDDxZTMHuBSxf3yWe+WhQTWPmr01cIsdmpxUPj6BCN8Oz X-Gm-Gg: ASbGnctAqQldNVVYBAKSMVF4ezK70WfdJVKJASnx1c2L6TUQD0F9zmD7vfXVVQTf4Bl rAFHE+7DEvQRVkNkhYb4JWm8/BQ9Qo5qhf+xnsp29piGCb5+K5+nk0RCzl0sZLZNuxZ9JoBTT8x YJcAL6qU4WR4XPP64ccPHwvxDCjhcdGSKqsqlX1HzZEmzSjzblmT5AgkJdY8+b5fSAsF73n08jT l/k8rxCEyRquK1uYvvnZDvkAkCTBTWQ4/ZDvcouQvjHpMCZFC8VMf7cwqn1OhAuHAHdasOebsux HLFEU8c76sNaaVs3m6X3ByAF7cGZPK/DllBnuu5Um9KB0ZRf5ALlZmLQsn0SGMpvOfta5hZkFVR Ytcq3UFr2 X-Google-Smtp-Source: AGHT+IHv2gFIpjOkRr1dV4+47rRLCpiM9UKk7XPnnoI0+fr4OZycknII9IjwzhOMeCQvOq6/fUnaX6vZgR6c X-Received: by 2002:ac8:5790:0:b0:4e8:ac66:ee44 with SMTP id d75a77b69052e-4edf210d4a7mr82057001cf.39.1763182729142; Fri, 14 Nov 2025 20:58:49 -0800 (PST) Received: from postal.iol.unh.edu (postal.iol.unh.edu. [2606:4100:3880:1234::84]) by smtp-relay.gmail.com with ESMTPS id 6a1803df08f44-88286572221sm8146346d6.28.2025.11.14.20.58.49 (version=TLS1_2 cipher=ECDHE-ECDSA-AES128-GCM-SHA256 bits=128/128); Fri, 14 Nov 2025 20:58:49 -0800 (PST) X-Relaying-Domain: iol.unh.edu Date: Fri, 14 Nov 2025 20:58:49 -0800 (PST) Message-ID: <69180889.050a0220.1c73a7.7c2dSMTPIN_ADDED_MISSING@mx.google.com> Received: from [172.21.0.2] (unknown [172.18.0.240]) by postal.iol.unh.edu (Postfix) with ESMTP id D607A6051830; Fri, 14 Nov 2025 23:58:48 -0500 (EST) Subject: |SUCCESS| pw158713-158715 [PATCH] [v7,3/3] dts: add performance test From: dpdklab@iol.unh.edu To: Test Report Cc: dpdk-test-reports@iol.unh.edu In-Reply-To: <20251113012732.1059669-4-probb@iol.unh.edu> References: <20251113012732.1059669-4-probb@iol.unh.edu> Content-Type: text/plain X-BeenThere: test-report@dpdk.org X-Mailman-Version: 2.1.29 Precedence: list List-Id: automatic DPDK test reports List-Unsubscribe: , List-Archive: List-Post: List-Help: List-Subscribe: , Errors-To: test-report-bounces@dpdk.org Test-Label: iol-compile-amd64-testing Test-Status: SUCCESS http://dpdk.org/patch/158715 _Testing PASS_ Submitter: Patrick Robb Date: Thursday, November 13 2025 01:27:32 DPDK git baseline: Repo:dpdk-next-dts Branch: master CommitID:8dcc93a520b22330e0ad59d360a4594b854f9ddd 158713-158715 --> testing pass Upstream job id: Windows-Compile-DPDK-Native#32347 Test environment and result as below: +-------------------------------+--------------------+------------------+-------------------+-------------------------+ | Environment | dpdk_meson_compile | dpdk_compile_ovs | dpdk_msvc_compile | dpdk_llvm_clang_compile | +===============================+====================+==================+===================+=========================+ | Ubuntu 20.04 | PASS | SKIPPED | SKIPPED | SKIPPED | +-------------------------------+--------------------+------------------+-------------------+-------------------------+ | FreeBSD 14.2 | PASS | SKIPPED | SKIPPED | SKIPPED | +-------------------------------+--------------------+------------------+-------------------+-------------------------+ | CentOS Stream 9 | PASS | SKIPPED | SKIPPED | SKIPPED | +-------------------------------+--------------------+------------------+-------------------+-------------------------+ | CentOS Stream 10 | PASS | SKIPPED | SKIPPED | SKIPPED | +-------------------------------+--------------------+------------------+-------------------+-------------------------+ | Debian GNU/Linux 12 | PASS | SKIPPED | SKIPPED | SKIPPED | +-------------------------------+--------------------+------------------+-------------------+-------------------------+ | Fedora Linux 42 | PASS | PASS | SKIPPED | SKIPPED | +-------------------------------+--------------------+------------------+-------------------+-------------------------+ | openSUSE Leap 15.6 | PASS | SKIPPED | SKIPPED | SKIPPED | +-------------------------------+--------------------+------------------+-------------------+-------------------------+ | Red Hat Enterprise Linux 8.10 | PASS | SKIPPED | SKIPPED | SKIPPED | +-------------------------------+--------------------+------------------+-------------------+-------------------------+ | Red Hat Enterprise Linux 9.5 | PASS | SKIPPED | SKIPPED | SKIPPED | +-------------------------------+--------------------+------------------+-------------------+-------------------------+ | Ubuntu 22.04 | PASS | SKIPPED | SKIPPED | SKIPPED | +-------------------------------+--------------------+------------------+-------------------+-------------------------+ | Ubuntu 24.04 | PASS | PASS | SKIPPED | SKIPPED | +-------------------------------+--------------------+------------------+-------------------+-------------------------+ | Alpine Linux 3.22.0 | PASS | SKIPPED | SKIPPED | SKIPPED | +-------------------------------+--------------------+------------------+-------------------+-------------------------+ | Windows Server 2022 | SKIPPED | SKIPPED | PASS | PASS | +-------------------------------+--------------------+------------------+-------------------+-------------------------+ Ubuntu 20.04 Kernel: 4.19 Compiler: gcc gcc (Ubuntu 9.4.0-1ubuntu1~20.04.2) 9.4.0 FreeBSD 14.2 Kernel: 14.2-RELEASE Compiler: clang 18.1.6 CentOS Stream 9 Kernel: 5.15 Compiler: gcc gcc (GCC) 11.5.0 20240719 (Red Hat 11.5.0-11) CentOS Stream 10 Kernel: 5.15 Compiler: gcc gcc (GCC) 14.2.1 20250110 (Red Hat 14.2.1-8) Debian GNU/Linux 12 Kernel: 5.15 Compiler: gcc gcc (Debian 12.2.0-14+deb12u1) 12.2.0 Fedora Linux 42 Kernel: 5.15 Compiler: clang gcc (GCC) 15.2.1 20250808 (Red Hat 15.2.1-1) openSUSE Leap 15.6 Kernel: 5.15 Compiler: gcc gcc (SUSE Linux) 7.5.0 Red Hat Enterprise Linux 8.10 Kernel: 5.15 Compiler: gcc gcc (GCC) 8.5.0 20210514 (Red Hat 8.5.0-22) Red Hat Enterprise Linux 9.5 Kernel: 5.15 Compiler: gcc gcc (GCC) 11.5.0 20240719 (Red Hat 11.5.0-2) Ubuntu 22.04 Kernel: 5.15 Compiler: gcc gcc (Ubuntu 11.4.0-1ubuntu1~22.04) 11.4.0 Ubuntu 24.04 Kernel: 5.15 Compiler: gcc gcc (Ubuntu 13.3.0-6ubuntu2~24.04) 13.3.0 Alpine Linux 3.22.0 Kernel: 5.15 Compiler: gcc gcc (Alpine 14.2.0) 14.2.0 Windows Server 2022 Kernel: 10.0.20348.2031 Compiler: clang 15.0.7, gcc 14.1.0 (MinGW), and MSVC VS 19.39.33521 To view detailed results, visit: https://lab.dpdk.org/results/dashboard/patchsets/34561/ UNH-IOL DPDK Community Lab To manage your email subscriptions, visit: https://lab.dpdk.org/results/dashboard/preferences/subscriptions/