From mboxrd@z Thu Jan 1 00:00:00 1970 Return-Path: Received: from mails.dpdk.org (mails.dpdk.org [217.70.189.124]) by inbox.dpdk.org (Postfix) with ESMTP id 2994648B13 for ; Sat, 15 Nov 2025 05:59:07 +0100 (CET) Received: from mails.dpdk.org (localhost [127.0.0.1]) by mails.dpdk.org (Postfix) with ESMTP id 25B9C400D6; Sat, 15 Nov 2025 05:59:07 +0100 (CET) Received: from mail-pl1-f228.google.com (mail-pl1-f228.google.com [209.85.214.228]) by mails.dpdk.org (Postfix) with ESMTP id 32132400D6 for ; Sat, 15 Nov 2025 05:59:06 +0100 (CET) Received: by mail-pl1-f228.google.com with SMTP id d9443c01a7336-297e239baecso34279555ad.1 for ; Fri, 14 Nov 2025 20:59:06 -0800 (PST) DKIM-Signature: v=1; a=rsa-sha256; c=relaxed/relaxed; d=iol.unh.edu; s=unh-iol; t=1763182745; x=1763787545; darn=dpdk.org; h=references:in-reply-to:cc:to:from:subject:message-id:date:from:to :cc:subject:date:message-id:reply-to; bh=mxyxZR6Q1udetfxQXpmCKhdh035uJ8Wz+YOYMuHa8sI=; b=hc61V8m29A21zBtTDN8D3H/fH8aOsZTepn3ocigCpRbppKb8FvBGeJ+qJhfAHxlQlC JN2km4sNOjvfPVcxAvCUwsmZXE9LS01X7EXUkVy5WLag4QCFSTq3BCmadPnsagvjJyZe OksFEMCSGLfq+DTWWs/xPyY0ja/y4TPeL3LcM= X-Google-DKIM-Signature: v=1; a=rsa-sha256; c=relaxed/relaxed; d=1e100.net; s=20230601; t=1763182745; x=1763787545; h=references:in-reply-to:cc:to:from:subject:message-id:date:x-gm-gg :x-gm-message-state:from:to:cc:subject:date:message-id:reply-to; bh=mxyxZR6Q1udetfxQXpmCKhdh035uJ8Wz+YOYMuHa8sI=; b=DSFDiy6Z2y2X5DnILmAiu3WyNkRo2xRpcwWHS9JdpTLiMLfzI+T3C/BITZFHP5oY4l tl7dASxtgCeXtYOMQ/K96EeIaHERx0ciqR9srnFHTvRxmkcwt3R+73oViCW0sBEC/cG0 HZftROysVQnJrxqluKCbeCCl5AePIHZk7BO2OzZmSZMmWVXcSJbhW/92lmmb/eok0SKb iN9LEFjKwYVzr2vnwoDLiwm/P+zoiDOrRSqIkuIKY0ZtEigyGu7PxCDkTwMbBazyqFjR tEuELuFM+/N0MhQMT5AKRbNP4XjTjh/PxUZRMenGhz+SvinjaBRGR+a1i7JX/gbAUwxV MppA== X-Gm-Message-State: AOJu0YzHd2lbqaACcEaKfHyPKrdVZK76R5gmGehoUfG03oBVJEpqPWQ5 hxrXmKgb2bIPxa7bwnBH5LU090XNQ48HAoOdVt1+yMluKe4euWcvvfJEyoqv6XR1NDemOGA5RoY u84wLETBgtcHkpMMuRDbBwEKfwD/MQEFoLrv5+l86Pndo X-Gm-Gg: ASbGncsKq7MRS86aHDnd2OJvWWt46mrGXygDZwld3ZT1OFkZR2bfWbStivPPek+5/Vz 4nk+O4SkL+ObAmNlwjnLriB2SULAkS9ep8MNx2o9qvHH8FS0rLnsG0RLtJU7uFNFM48AdUYzleo qgOUDUuYtNn9TwfwYuRiItrOhZWiPmw/SwtQBeEbsSkVZjseDwZ8R2P3Fafxz507Kjn8MJyG7C0 6JNurnckVvKsP4CtJPyqxiNsJvTkXBQE7lKWsKILPit5uHrpXLDY9bpYCgtXlp4QbH6IETzfGMK 4mDFDsPQLn8gVVqLdR1raO7UMl7pASxulPwS56W7b+UGegSKT4bWUWSjAoZaOVoXjOHKbqNeqCe PN/Rw2v5fjSNA6Ozny8UFlgn6Qg2fymw= X-Google-Smtp-Source: AGHT+IFRK6RdrxAvOVEgsFvlP++1kRbOBTvAaKuxjxDQmANdkCkuUv1rXodq2qNT/RmPEEho705FxTNijzM1 X-Received: by 2002:a17:903:178e:b0:294:fc13:7e8c with SMTP id d9443c01a7336-29867f0e585mr66950315ad.13.1763182745394; Fri, 14 Nov 2025 20:59:05 -0800 (PST) Received: from postal.iol.unh.edu (postal.iol.unh.edu. [132.177.123.84]) by smtp-relay.gmail.com with ESMTPS id d9443c01a7336-2985c2554e1sm7126895ad.28.2025.11.14.20.59.05 (version=TLS1_2 cipher=ECDHE-ECDSA-AES128-GCM-SHA256 bits=128/128); Fri, 14 Nov 2025 20:59:05 -0800 (PST) X-Relaying-Domain: iol.unh.edu Date: Fri, 14 Nov 2025 20:59:05 -0800 (PST) Message-ID: <69180899.170a0220.129343.2e24SMTPIN_ADDED_MISSING@mx.google.com> Received: from [172.21.0.3] (unknown [172.18.0.240]) by postal.iol.unh.edu (Postfix) with ESMTP id 8F9576051830; Fri, 14 Nov 2025 23:59:04 -0500 (EST) Subject: |SUCCESS| pw158813 [PATCH] [v2] net/mlx5: fix warning from uninitial From: dpdklab@iol.unh.edu To: Test Report Cc: dpdk-test-reports@iol.unh.edu In-Reply-To: <20251114174912.1103626-1-stephen@networkplumber.org> References: <20251114174912.1103626-1-stephen@networkplumber.org> Content-Type: text/plain X-BeenThere: test-report@dpdk.org X-Mailman-Version: 2.1.29 Precedence: list List-Id: automatic DPDK test reports List-Unsubscribe: , List-Archive: List-Post: List-Help: List-Subscribe: , Errors-To: test-report-bounces@dpdk.org Test-Label: iol-compile-amd64-testing Test-Status: SUCCESS http://dpdk.org/patch/158813 _Testing PASS_ Submitter: Stephen Hemminger Date: Friday, November 14 2025 17:49:12 DPDK git baseline: Repo:dpdk-next-net-mlx Branch: master CommitID:ae657d56b1f0ea979b3f611edf28d773efc2ddcf 158813 --> testing pass Upstream job id: Generic-DPDK-Compile-Meson#444628 Test environment and result as below: +---------------------+--------------------+-------------------+ | Environment | dpdk_meson_compile | dpdk_msvc_compile | +=====================+====================+===================+ | Ubuntu 20.04 | PASS | SKIPPED | +---------------------+--------------------+-------------------+ | FreeBSD 14.2 | PASS | SKIPPED | +---------------------+--------------------+-------------------+ | CentOS Stream 9 | PASS | SKIPPED | +---------------------+--------------------+-------------------+ | Windows Server 2022 | SKIPPED | PASS | +---------------------+--------------------+-------------------+ Ubuntu 20.04 Kernel: 4.19 Compiler: gcc gcc (Ubuntu 9.4.0-1ubuntu1~20.04.2) 9.4.0 FreeBSD 14.2 Kernel: 14.2-RELEASE Compiler: clang 18.1.6 CentOS Stream 9 Kernel: 5.15 Compiler: gcc gcc (GCC) 11.5.0 20240719 (Red Hat 11.5.0-11) Windows Server 2022 Kernel: 10.0.20348.2031 Compiler: clang 15.0.7, gcc 14.1.0 (MinGW), and MSVC VS 19.39.33521 To view detailed results, visit: https://lab.dpdk.org/results/dashboard/patchsets/34595/ UNH-IOL DPDK Community Lab To manage your email subscriptions, visit: https://lab.dpdk.org/results/dashboard/preferences/subscriptions/