From mboxrd@z Thu Jan 1 00:00:00 1970 Return-Path: Received: from mails.dpdk.org (mails.dpdk.org [217.70.189.124]) by inbox.dpdk.org (Postfix) with ESMTP id 063B448B14 for ; Sat, 15 Nov 2025 06:17:02 +0100 (CET) Received: from mails.dpdk.org (localhost [127.0.0.1]) by mails.dpdk.org (Postfix) with ESMTP id 00C05400D6; Sat, 15 Nov 2025 06:17:02 +0100 (CET) Received: from mail-qk1-f226.google.com (mail-qk1-f226.google.com [209.85.222.226]) by mails.dpdk.org (Postfix) with ESMTP id 1E078400D6 for ; Sat, 15 Nov 2025 06:17:00 +0100 (CET) Received: by mail-qk1-f226.google.com with SMTP id af79cd13be357-8909f01bd00so244335785a.0 for ; Fri, 14 Nov 2025 21:17:00 -0800 (PST) DKIM-Signature: v=1; a=rsa-sha256; c=relaxed/relaxed; d=iol.unh.edu; s=unh-iol; t=1763183819; x=1763788619; darn=dpdk.org; h=references:in-reply-to:cc:to:from:subject:message-id:date:from:to :cc:subject:date:message-id:reply-to; bh=NIzAwRR+EgA4w6dUDCqm4pFm/BKCpTFogHSKWewLLkc=; b=durOq5Hf/E98E5gtiopo/XzbUd1UXp1LhvyX/G7GyK0e4C7IVgDWbouAdbXywJdYrC i715Ep3FwqT3ZMxaU47mcMvikBe91OKDYVhSSCsthS2Iov90tRgeF4mqP5+bswZx2Jtp w5zAeVVKv9BcmGcfneQCeMRxuoGr9CB4Db/BY= X-Google-DKIM-Signature: v=1; a=rsa-sha256; c=relaxed/relaxed; d=1e100.net; s=20230601; t=1763183819; x=1763788619; h=references:in-reply-to:cc:to:from:subject:message-id:date:x-gm-gg :x-gm-message-state:from:to:cc:subject:date:message-id:reply-to; bh=NIzAwRR+EgA4w6dUDCqm4pFm/BKCpTFogHSKWewLLkc=; b=PsonrhHRbvWVVif6qRYtSpF1ZPU0okhbkTHGloeb3n0o2pqB4P5YoEE/KNO0L+14Wv cuaKO9EQI/78qhiH45eovt+oXG9SkSYDCcrbG7IZuOV0gJfnbrh1KKdGPYTDpx10g7jF 1GnrrfVhujYUAbsOUKcVrm6PpKFHKTBAIlCnCTZl3klmm87fuRxwugP8AwR4RvcwUpZR RMmvACDLwSDIqNnxLLeRSvyTwfWxk0ljgOr3m0XibOXouiI8eRmJzVPw0I2J9nJ2p4O+ Z+vzoxFm6B0fR1t+DULbBbByvlKQmDPCD0olvef4RRY1u9A+f+ahfhCssgUJWEBA+dxk 12BQ== X-Gm-Message-State: AOJu0YziH5cyYTAtUom3EmWWc57wrEYLKeQYMSI3yhHXDPx38YLWcY/H RwPa1hGssxP47lPgaVavNUmOikg8FrWNxx+dmDPs6kaFOqqQerS2spBfnFuhuH3hM1rYPbef79D /tL5LhzKCRLEkrpMrV8tykPs8/+tExxNle8LFMli8yfTH X-Gm-Gg: ASbGnctBEAcb5T1m8vGjdkFcXe6GutkTteXVD7R60sNNUaj9wJnWwHpYSXIK8Sg7bJH iynHAt3ThhnicZlZT2lh2gURjwZw19rMDKUSnHfBJavT08Zj2gN63/IcTbf5hx28nKNJ5fCwxJu cX++oo5b6BOrFmEqS9IVqtiVsAvL7Zj8XOkwk60/sZ6GeJJ4T4yNnRJ+QFHjp+zz013olZJWtZK VF1nC6fqCyl256K1ynQNv6wLUUnTYfxXV/rHdIXPw8j+j+jSWZF+DuA9LRdpiLgW7KD8lCTiMsS ElO7AvJv0U5czrAXTm2MS7vLIz6Mfj6SeSGm77Jj6UhGLh7ldwl/7ayGnoAp+t+bmShu1YB48cT H+gWffaqsXo9k0+9jbXTabSIRz7jds78= X-Google-Smtp-Source: AGHT+IEDGp2koABtWIXoWl3Gs9RoGC6Bg22OTuBH3hr2rVgSNXzK88QaPlfzkSywawXX8nR6zsqHsBSORCh1 X-Received: by 2002:a05:620a:31a5:b0:85c:3bcf:e825 with SMTP id af79cd13be357-8b2c31b465amr732601985a.53.1763183819402; Fri, 14 Nov 2025 21:16:59 -0800 (PST) Received: from postal.iol.unh.edu (postal.iol.unh.edu. [132.177.123.84]) by smtp-relay.gmail.com with ESMTPS id 6a1803df08f44-882865b63absm7836406d6.32.2025.11.14.21.16.59 (version=TLS1_2 cipher=ECDHE-ECDSA-AES128-GCM-SHA256 bits=128/128); Fri, 14 Nov 2025 21:16:59 -0800 (PST) X-Relaying-Domain: iol.unh.edu Date: Fri, 14 Nov 2025 21:16:59 -0800 (PST) Message-ID: <69180ccb.050a0220.1d05ea.6567SMTPIN_ADDED_MISSING@mx.google.com> Received: from [172.21.0.4] (unknown [172.18.0.240]) by postal.iol.unh.edu (Postfix) with ESMTP id 258096051830; Sat, 15 Nov 2025 00:16:59 -0500 (EST) Subject: |SUCCESS| pw158782 [PATCH] examples/ipsec-secgw: add support for SM4 From: dpdklab@iol.unh.edu To: Test Report Cc: dpdk-test-reports@iol.unh.edu In-Reply-To: <20251114014616.43476-1-sunyang.wu@jaguarmicro.com> References: <20251114014616.43476-1-sunyang.wu@jaguarmicro.com> Content-Type: text/plain X-BeenThere: test-report@dpdk.org X-Mailman-Version: 2.1.29 Precedence: list List-Id: automatic DPDK test reports List-Unsubscribe: , List-Archive: List-Post: List-Help: List-Subscribe: , Errors-To: test-report-bounces@dpdk.org Test-Label: iol-unit-amd64-testing Test-Status: SUCCESS http://dpdk.org/patch/158782 _Testing PASS_ Submitter: Sunyang Wu Date: Friday, November 14 2025 01:46:16 DPDK git baseline: Repo:dpdk Branch: master CommitID:be0112878b4fc3a1b918370ed2fe615c52039d77 158782 --> testing pass Upstream job id: Generic-VM-Unit-Test-DPDK#32573 Test environment and result as below: +-------------------------------+----------------+ | Environment | dpdk_unit_test | +===============================+================+ | CentOS Stream 10 | PASS | +-------------------------------+----------------+ | Debian GNU/Linux 12 | PASS | +-------------------------------+----------------+ | CentOS Stream 9 | PASS | +-------------------------------+----------------+ | Fedora Linux 40 | PASS | +-------------------------------+----------------+ | Ubuntu 22.04 | PASS | +-------------------------------+----------------+ | Fedora Linux 41 | PASS | +-------------------------------+----------------+ | Red Hat Enterprise Linux 8.10 | PASS | +-------------------------------+----------------+ | Fedora Linux 42 | PASS | +-------------------------------+----------------+ | Ubuntu 20.04 | PASS | +-------------------------------+----------------+ | Red Hat Enterprise Linux 9.5 | PASS | +-------------------------------+----------------+ | Ubuntu 24.04 | PASS | +-------------------------------+----------------+ | Windows Server 2022 | PASS | +-------------------------------+----------------+ CentOS Stream 10 Kernel: 5.15 Compiler: gcc gcc (GCC) 14.2.1 20250110 (Red Hat 14.2.1-8) Debian GNU/Linux 12 Kernel: 5.15 Compiler: gcc gcc (Debian 12.2.0-14+deb12u1) 12.2.0 CentOS Stream 9 Kernel: 5.15 Compiler: gcc gcc (GCC) 11.5.0 20240719 (Red Hat 11.5.0-11) Fedora Linux 40 Kernel: 5.15 Compiler: gcc gcc (GCC) 14.2.1 20240912 (Red Hat 14.2.1-3) Ubuntu 22.04 Kernel: 5.15 Compiler: gcc gcc (Ubuntu 11.4.0-1ubuntu1~22.04) 11.4.0 Fedora Linux 41 Kernel: 5.15 Compiler: gcc gcc (GCC) 14.3.1 20250523 (Red Hat 14.3.1-1) Red Hat Enterprise Linux 8.10 Kernel: 5.15 Compiler: gcc gcc (GCC) 8.5.0 20210514 (Red Hat 8.5.0-22) Fedora Linux 42 Kernel: 5.15 Compiler: clang gcc (GCC) 15.2.1 20250808 (Red Hat 15.2.1-1) Ubuntu 20.04 Kernel: 5.15 Compiler: gcc gcc (Ubuntu 9.4.0-1ubuntu1~20.04.2) 9.4.0 Red Hat Enterprise Linux 9.5 Kernel: 5.15 Compiler: gcc gcc (GCC) 11.5.0 20240719 (Red Hat 11.5.0-2) Ubuntu 24.04 Kernel: 5.15 Compiler: gcc gcc (Ubuntu 13.3.0-6ubuntu2~24.04) 13.3.0 Windows Server 2022 Kernel: 10.0.20348.2031 Compiler: clang 15.0.7, gcc 14.1.0 (MinGW), and MSVC VS 19.39.33521 To view detailed results, visit: https://lab.dpdk.org/results/dashboard/patchsets/34588/ UNH-IOL DPDK Community Lab To manage your email subscriptions, visit: https://lab.dpdk.org/results/dashboard/preferences/subscriptions/