From mboxrd@z Thu Jan 1 00:00:00 1970 Return-Path: Received: from mails.dpdk.org (mails.dpdk.org [217.70.189.124]) by inbox.dpdk.org (Postfix) with ESMTP id E3D0748B14 for ; Sat, 15 Nov 2025 06:24:39 +0100 (CET) Received: from mails.dpdk.org (localhost [127.0.0.1]) by mails.dpdk.org (Postfix) with ESMTP id C4505400D6; Sat, 15 Nov 2025 06:24:39 +0100 (CET) Received: from mail-pg1-f228.google.com (mail-pg1-f228.google.com [209.85.215.228]) by mails.dpdk.org (Postfix) with ESMTP id 153D8400D6 for ; Sat, 15 Nov 2025 06:24:39 +0100 (CET) Received: by mail-pg1-f228.google.com with SMTP id 41be03b00d2f7-b556284db11so1769085a12.0 for ; Fri, 14 Nov 2025 21:24:38 -0800 (PST) DKIM-Signature: v=1; a=rsa-sha256; c=relaxed/relaxed; d=iol.unh.edu; s=unh-iol; t=1763184278; x=1763789078; darn=dpdk.org; h=references:in-reply-to:cc:to:from:subject:message-id:date:from:to :cc:subject:date:message-id:reply-to; bh=WoZ65HlbhmpyzgkOreLxawT3ww65ESlJYPQ6N82sqLc=; b=QFxykE+UORD6YCOz/WRktXT1P+BDxG4fHUQLqB5Aev1RL1gn+ExIRDCVfFqjwFNHJG tU4UzbE7g/JJMns7kMVGYJYqajfNt6wqLOuKUc4EBzcnJXzopFKctzIoiiCpsWSj+dJS h280PGN3xDBpGDHzPjfaoOpK35EBEFAxnyy60= X-Google-DKIM-Signature: v=1; a=rsa-sha256; c=relaxed/relaxed; d=1e100.net; s=20230601; t=1763184278; x=1763789078; h=references:in-reply-to:cc:to:from:subject:message-id:date:x-gm-gg :x-gm-message-state:from:to:cc:subject:date:message-id:reply-to; bh=WoZ65HlbhmpyzgkOreLxawT3ww65ESlJYPQ6N82sqLc=; b=mV4HkDEtWtanu78Es47yHq5yTHlRlN/b/K2k0ba6UhC1n9W0wluuxdUsRDnyYnkoZ1 2Mk10cfHA1qDlT9RiNRihYeLVq/cuh3R+Y8N83D7l/ePxSNZ9ckOWPdWOlWYelMK33C2 BOJTVUnkXonYD7UPmTLbM2sCaVvUTbZ+ay6l5iliuDN7/iKUyrIIGyamdIoQ2D6RYtus eJlDkXVB2akBgiZXlwvhPTvdC0CKLp0J2m/677gkd2BBCGX0cWjLWnKUQ+I+Wpt3zdVe OFzlXdkBOo87w18gb0B3qSlKiddQ4H1gFYG0xpsB57ukA43pZ51/BIiSumnm839Cw6Kg wwcA== X-Gm-Message-State: AOJu0YyHqxkMjil3YZTipb/oqRcsMmUpd0A8i8t/RQFYlvlN24AGbBjJ z0gMW53upr4MPQ80zvzdHiWJ7+unwLyOMLgayz4ImxJyeMJs2+BFgrfqYh3MFiANVx/gRgQormr sRTMa2xax6TP/izjmoZd8+KH2Zsmh6Vvii3RXlvgi76I3QAI/EmorhhzH7bwv X-Gm-Gg: ASbGncufnsPKNyOe21ADzZ+PXowbp06N16QInLZAhR10bhKqVxMEaKlNjfpkzHvU/Ne DibgKRU7MGXIJWyWFmaxEVq/AGjFFZvoyCYhuhCAsr8ZMrk2PbkltWIhholuKm7QcFczowSwzEx AXKryH+DjEdv/im5SGWM1B68PKIj+jNk8/+eYkrFfwSJ8ebZTfYsYh31J4e0u/3Pn7MVnneuhZ+ OzXexso0vozkgrzDwpbrl+5XSRjb8zx2uRljjjh+XoXsgOgNpV/3j0sWUZl5LH5teFfVtb6g+TB jwiUaY5Bltxw5B6K4kcxQc4ioUTEatEsPgY921EvvXhFkVyNKyPPVEP4Ia+6a9vKLX/a0Epf134 AfL+PyWuc X-Google-Smtp-Source: AGHT+IFraMc5hzHd8EFC8YCy+AKLwB7UZ0M9pQMH68eBTh6JHpD1BZi5ihf5aWsw6frnEayj45E0OgZF5Mgx X-Received: by 2002:a05:7022:2583:b0:119:e569:f627 with SMTP id a92af1059eb24-11b416049ebmr2080581c88.32.1763184278029; Fri, 14 Nov 2025 21:24:38 -0800 (PST) Received: from postal.iol.unh.edu (postal.iol.unh.edu. [2606:4100:3880:1234::84]) by smtp-relay.gmail.com with ESMTPS id a92af1059eb24-11b060912e4sm411798c88.2.2025.11.14.21.24.37 (version=TLS1_2 cipher=ECDHE-ECDSA-AES128-GCM-SHA256 bits=128/128); Fri, 14 Nov 2025 21:24:38 -0800 (PST) X-Relaying-Domain: iol.unh.edu Date: Fri, 14 Nov 2025 21:24:38 -0800 (PST) Message-ID: <69180e96.050a0220.e1832.52eeSMTPIN_ADDED_MISSING@mx.google.com> Received: from [172.21.0.3] (unknown [172.18.0.240]) by postal.iol.unh.edu (Postfix) with ESMTP id EE0446051830; Sat, 15 Nov 2025 00:24:36 -0500 (EST) Subject: |SUCCESS| pw158716-158738 [PATCH] [v5,23/23] net/cnxk: check for inv From: dpdklab@iol.unh.edu To: Test Report Cc: dpdk-test-reports@iol.unh.edu In-Reply-To: <20251113043808.1180851-23-ndabilpuram@marvell.com> References: <20251113043808.1180851-23-ndabilpuram@marvell.com> Content-Type: text/plain X-BeenThere: test-report@dpdk.org X-Mailman-Version: 2.1.29 Precedence: list List-Id: automatic DPDK test reports List-Unsubscribe: , List-Archive: List-Post: List-Help: List-Subscribe: , Errors-To: test-report-bounces@dpdk.org Test-Label: iol-compile-amd64-testing Test-Status: SUCCESS http://dpdk.org/patch/158738 _Testing PASS_ Submitter: Nithin Dabilpuram Date: Thursday, November 13 2025 04:38:08 DPDK git baseline: Repo:dpdk-next-net-mrvl Branch: master CommitID:be0112878b4fc3a1b918370ed2fe615c52039d77 158716-158738 --> testing pass Upstream job id: Windows-Compile-DPDK-Native#32349 Test environment and result as below: +-------------------------------+--------------------+------------------+-------------------+-------------------------+ | Environment | dpdk_meson_compile | dpdk_compile_ovs | dpdk_msvc_compile | dpdk_llvm_clang_compile | +===============================+====================+==================+===================+=========================+ | Ubuntu 20.04 | PASS | SKIPPED | SKIPPED | SKIPPED | +-------------------------------+--------------------+------------------+-------------------+-------------------------+ | FreeBSD 14.2 | PASS | SKIPPED | SKIPPED | SKIPPED | +-------------------------------+--------------------+------------------+-------------------+-------------------------+ | CentOS Stream 9 | PASS | SKIPPED | SKIPPED | SKIPPED | +-------------------------------+--------------------+------------------+-------------------+-------------------------+ | CentOS Stream 10 | PASS | SKIPPED | SKIPPED | SKIPPED | +-------------------------------+--------------------+------------------+-------------------+-------------------------+ | Debian GNU/Linux 12 | PASS | SKIPPED | SKIPPED | SKIPPED | +-------------------------------+--------------------+------------------+-------------------+-------------------------+ | Fedora Linux 42 | PASS | PASS | SKIPPED | SKIPPED | +-------------------------------+--------------------+------------------+-------------------+-------------------------+ | openSUSE Leap 15.6 | PASS | SKIPPED | SKIPPED | SKIPPED | +-------------------------------+--------------------+------------------+-------------------+-------------------------+ | Red Hat Enterprise Linux 8.10 | PASS | SKIPPED | SKIPPED | SKIPPED | +-------------------------------+--------------------+------------------+-------------------+-------------------------+ | Red Hat Enterprise Linux 9.5 | PASS | SKIPPED | SKIPPED | SKIPPED | +-------------------------------+--------------------+------------------+-------------------+-------------------------+ | Ubuntu 22.04 | PASS | SKIPPED | SKIPPED | SKIPPED | +-------------------------------+--------------------+------------------+-------------------+-------------------------+ | Ubuntu 24.04 | PASS | PASS | SKIPPED | SKIPPED | +-------------------------------+--------------------+------------------+-------------------+-------------------------+ | Alpine Linux 3.22.0 | PASS | SKIPPED | SKIPPED | SKIPPED | +-------------------------------+--------------------+------------------+-------------------+-------------------------+ | Windows Server 2022 | SKIPPED | SKIPPED | PASS | PASS | +-------------------------------+--------------------+------------------+-------------------+-------------------------+ Ubuntu 20.04 Kernel: 4.19 Compiler: gcc gcc (Ubuntu 9.4.0-1ubuntu1~20.04.2) 9.4.0 FreeBSD 14.2 Kernel: 14.2-RELEASE Compiler: clang 18.1.6 CentOS Stream 9 Kernel: 5.15 Compiler: gcc gcc (GCC) 11.5.0 20240719 (Red Hat 11.5.0-11) CentOS Stream 10 Kernel: 5.15 Compiler: gcc gcc (GCC) 14.2.1 20250110 (Red Hat 14.2.1-8) Debian GNU/Linux 12 Kernel: 5.15 Compiler: gcc gcc (Debian 12.2.0-14+deb12u1) 12.2.0 Fedora Linux 42 Kernel: 5.15 Compiler: clang gcc (GCC) 15.2.1 20250808 (Red Hat 15.2.1-1) openSUSE Leap 15.6 Kernel: 5.15 Compiler: gcc gcc (SUSE Linux) 7.5.0 Red Hat Enterprise Linux 8.10 Kernel: 5.15 Compiler: gcc gcc (GCC) 8.5.0 20210514 (Red Hat 8.5.0-22) Red Hat Enterprise Linux 9.5 Kernel: 5.15 Compiler: gcc gcc (GCC) 11.5.0 20240719 (Red Hat 11.5.0-2) Ubuntu 22.04 Kernel: 5.15 Compiler: gcc gcc (Ubuntu 11.4.0-1ubuntu1~22.04) 11.4.0 Ubuntu 24.04 Kernel: 5.15 Compiler: gcc gcc (Ubuntu 13.3.0-6ubuntu2~24.04) 13.3.0 Alpine Linux 3.22.0 Kernel: 5.15 Compiler: gcc gcc (Alpine 14.2.0) 14.2.0 Windows Server 2022 Kernel: 10.0.20348.2031 Compiler: clang 15.0.7, gcc 14.1.0 (MinGW), and MSVC VS 19.39.33521 To view detailed results, visit: https://lab.dpdk.org/results/dashboard/patchsets/34562/ UNH-IOL DPDK Community Lab To manage your email subscriptions, visit: https://lab.dpdk.org/results/dashboard/preferences/subscriptions/