From mboxrd@z Thu Jan 1 00:00:00 1970 Return-Path: Received: from mails.dpdk.org (mails.dpdk.org [217.70.189.124]) by inbox.dpdk.org (Postfix) with ESMTP id 2589F48B14 for ; Sat, 15 Nov 2025 06:36:26 +0100 (CET) Received: from mails.dpdk.org (localhost [127.0.0.1]) by mails.dpdk.org (Postfix) with ESMTP id 1EC79400D6; Sat, 15 Nov 2025 06:36:26 +0100 (CET) Received: from mail-pl1-f227.google.com (mail-pl1-f227.google.com [209.85.214.227]) by mails.dpdk.org (Postfix) with ESMTP id C38BB400D6 for ; Sat, 15 Nov 2025 06:36:24 +0100 (CET) Received: by mail-pl1-f227.google.com with SMTP id d9443c01a7336-2953e415b27so25763155ad.2 for ; Fri, 14 Nov 2025 21:36:24 -0800 (PST) DKIM-Signature: v=1; a=rsa-sha256; c=relaxed/relaxed; d=iol.unh.edu; s=unh-iol; t=1763184984; x=1763789784; darn=dpdk.org; h=references:in-reply-to:cc:to:from:subject:message-id:date:from:to :cc:subject:date:message-id:reply-to; bh=SNmQf8rsO/IqhB17XoseML+MVRgIB0PmMgXIbln0tBA=; b=P31YVi4PlshJCeDQ0iHRYCZGED+PdQ2DzO4HfbC0H4JlwR40IgQ+PVB9QS5D1vgNW/ NOVyJPpzDDINEltvqK9665W8kNYOL0RaBo6nIXpspQ48grLVH9Ua3kr0YemjisXTpyXZ WfcO8WqIY1IQ2hGnfQCisRXZr5aOKHWJokgp4= X-Google-DKIM-Signature: v=1; a=rsa-sha256; c=relaxed/relaxed; d=1e100.net; s=20230601; t=1763184984; x=1763789784; h=references:in-reply-to:cc:to:from:subject:message-id:date:x-gm-gg :x-gm-message-state:from:to:cc:subject:date:message-id:reply-to; bh=SNmQf8rsO/IqhB17XoseML+MVRgIB0PmMgXIbln0tBA=; b=NQGrrPnVbQUtFSjX/S1aUuAhWpag575sfHHWLjSBQAxhdki885KaJkhmNgQAIa4gpY 6IZ21KneyntYtMyP2O4ryr6GrF90tMhbz9T/qXibyIm+Ku2GIJy6wwCuR1Sak03NYOo3 PQ3c3aSlJ2Vj+zLR2kP+MyVUlOqNmyNT3o/NWP8Db7+/9wQMEjOfdJE2mXWt8QSSWMxn lG1pOTfENeuTSEB42GHzIotTZDzcrWoVTqGI20m5oJI1IFAs4nQ13M3SHGlriWzbt1z4 aMw040A5U2IkrtbyUBi5ZrwemO8CTubjOZcpkt+oFvqicMrMe3L/7cqCEe1GzJJ0mAo2 Ofew== X-Gm-Message-State: AOJu0Yx9Z5ruGo0BObmxXm4zgSxI44kpsdd+tzrcIWzEszbkpfMprh72 XjYRh4mlNgD7ewqlm7WHB1LI7rDTc/Y+AbJuoThu8leL4a8NJuggvtaHU5H5Q4IXazC3LpZvL0J 5c7Y/UKKLRJ9ms4Sc5358iFxL4xUABirJY8RtsKy9bg5C85lOVV97WXebr/nl X-Gm-Gg: ASbGncudo52gcd4rhLwCocmkzB1MZhQcTZR1kMunPwXntiJrps9iObOwvQLeVEpHGnQ e0Otlsq0Ed3PRwTxNZPyOKtWeLiSIITB4EDNhsUAqX9jIFIN0ctecc1xDfpw2U/Sa3sxA7pqBJ8 XSChbMSwPEe3WzCYA2GIMzwnxVIrE8gGtA5guYQzs22eAJq4ceWAZ94SzH6ZDuFlBwo7r+FJpaU AmmC4RGq66MYPWz6PDpd4c7c4nyxCg2y6MhNdLnFftTvapJKS8gHnmbcKBmcD8entRnVJxqazoH xIbcHNJ/vAO7dU0XTIliRmw5ntWKdA1PPUbJoOOfjcioYvL3d+FwZZM05G5zc60SX4XkLwVgGEe vmqKm/D7u X-Google-Smtp-Source: AGHT+IEqkJYsLyczAAlrK4v8kurkmjxVQeAB4kZjHIYRoflrOZ0xU8UHujRvQ29U73C2iSXNMJpvKi1Dsl6Q X-Received: by 2002:a17:902:f602:b0:298:5736:de9b with SMTP id d9443c01a7336-2986a7668f6mr61362235ad.50.1763184983961; Fri, 14 Nov 2025 21:36:23 -0800 (PST) Received: from postal.iol.unh.edu (postal.iol.unh.edu. [2606:4100:3880:1234::84]) by smtp-relay.gmail.com with ESMTPS id d9443c01a7336-2985c242313sm7354835ad.24.2025.11.14.21.36.23 (version=TLS1_2 cipher=ECDHE-ECDSA-AES128-GCM-SHA256 bits=128/128); Fri, 14 Nov 2025 21:36:23 -0800 (PST) X-Relaying-Domain: iol.unh.edu Date: Fri, 14 Nov 2025 21:36:23 -0800 (PST) Message-ID: <69181157.170a0220.3c6b57.5addSMTPIN_ADDED_MISSING@mx.google.com> Received: from [172.21.0.2] (unknown [172.18.0.240]) by postal.iol.unh.edu (Postfix) with ESMTP id 2C3DA6051830; Sat, 15 Nov 2025 00:36:23 -0500 (EST) Subject: |SUCCESS| pw158739-158743 [PATCH] [v2,5/5] bus/fslmc: add support fo From: dpdklab@iol.unh.edu To: Test Report Cc: dpdk-test-reports@iol.unh.edu, Stephen Hemminger In-Reply-To: <20251113052931.1784953-5-hemant.agrawal@nxp.com> References: <20251113052931.1784953-5-hemant.agrawal@nxp.com> Content-Type: text/plain X-BeenThere: test-report@dpdk.org X-Mailman-Version: 2.1.29 Precedence: list List-Id: automatic DPDK test reports List-Unsubscribe: , List-Archive: List-Post: List-Help: List-Subscribe: , Errors-To: test-report-bounces@dpdk.org Test-Label: iol-compile-amd64-testing Test-Status: SUCCESS http://dpdk.org/patch/158743 _Testing PASS_ Submitter: Hemant Agrawal Date: Thursday, November 13 2025 05:29:31 DPDK git baseline: Repo:dpdk-next-net Branch: master CommitID:29807269854f9bfc72f1323273de8e23adc724d4 158739-158743 --> testing pass Upstream job id: Windows-Compile-DPDK-Native#32351 Test environment and result as below: +-------------------------------+--------------------+------------------+-------------------+-------------------------+ | Environment | dpdk_meson_compile | dpdk_compile_ovs | dpdk_msvc_compile | dpdk_llvm_clang_compile | +===============================+====================+==================+===================+=========================+ | Ubuntu 20.04 | PASS | SKIPPED | SKIPPED | SKIPPED | +-------------------------------+--------------------+------------------+-------------------+-------------------------+ | FreeBSD 14.2 | PASS | SKIPPED | SKIPPED | SKIPPED | +-------------------------------+--------------------+------------------+-------------------+-------------------------+ | CentOS Stream 9 | PASS | SKIPPED | SKIPPED | SKIPPED | +-------------------------------+--------------------+------------------+-------------------+-------------------------+ | CentOS Stream 10 | PASS | SKIPPED | SKIPPED | SKIPPED | +-------------------------------+--------------------+------------------+-------------------+-------------------------+ | Debian GNU/Linux 12 | PASS | SKIPPED | SKIPPED | SKIPPED | +-------------------------------+--------------------+------------------+-------------------+-------------------------+ | Fedora Linux 42 | PASS | PASS | SKIPPED | SKIPPED | +-------------------------------+--------------------+------------------+-------------------+-------------------------+ | openSUSE Leap 15.6 | PASS | SKIPPED | SKIPPED | SKIPPED | +-------------------------------+--------------------+------------------+-------------------+-------------------------+ | Red Hat Enterprise Linux 8.10 | PASS | SKIPPED | SKIPPED | SKIPPED | +-------------------------------+--------------------+------------------+-------------------+-------------------------+ | Red Hat Enterprise Linux 9.5 | PASS | SKIPPED | SKIPPED | SKIPPED | +-------------------------------+--------------------+------------------+-------------------+-------------------------+ | Ubuntu 22.04 | PASS | SKIPPED | SKIPPED | SKIPPED | +-------------------------------+--------------------+------------------+-------------------+-------------------------+ | Ubuntu 24.04 | PASS | PASS | SKIPPED | SKIPPED | +-------------------------------+--------------------+------------------+-------------------+-------------------------+ | Alpine Linux 3.22.0 | PASS | SKIPPED | SKIPPED | SKIPPED | +-------------------------------+--------------------+------------------+-------------------+-------------------------+ | Windows Server 2022 | SKIPPED | SKIPPED | PASS | PASS | +-------------------------------+--------------------+------------------+-------------------+-------------------------+ Ubuntu 20.04 Kernel: 4.19 Compiler: gcc gcc (Ubuntu 9.4.0-1ubuntu1~20.04.2) 9.4.0 FreeBSD 14.2 Kernel: 14.2-RELEASE Compiler: clang 18.1.6 CentOS Stream 9 Kernel: 5.15 Compiler: gcc gcc (GCC) 11.5.0 20240719 (Red Hat 11.5.0-11) CentOS Stream 10 Kernel: 5.15 Compiler: gcc gcc (GCC) 14.2.1 20250110 (Red Hat 14.2.1-8) Debian GNU/Linux 12 Kernel: 5.15 Compiler: gcc gcc (Debian 12.2.0-14+deb12u1) 12.2.0 Fedora Linux 42 Kernel: 5.15 Compiler: clang gcc (GCC) 15.2.1 20250808 (Red Hat 15.2.1-1) openSUSE Leap 15.6 Kernel: 5.15 Compiler: gcc gcc (SUSE Linux) 7.5.0 Red Hat Enterprise Linux 8.10 Kernel: 5.15 Compiler: gcc gcc (GCC) 8.5.0 20210514 (Red Hat 8.5.0-22) Red Hat Enterprise Linux 9.5 Kernel: 5.15 Compiler: gcc gcc (GCC) 11.5.0 20240719 (Red Hat 11.5.0-2) Ubuntu 22.04 Kernel: 5.15 Compiler: gcc gcc (Ubuntu 11.4.0-1ubuntu1~22.04) 11.4.0 Ubuntu 24.04 Kernel: 5.15 Compiler: gcc gcc (Ubuntu 13.3.0-6ubuntu2~24.04) 13.3.0 Alpine Linux 3.22.0 Kernel: 5.15 Compiler: gcc gcc (Alpine 14.2.0) 14.2.0 Windows Server 2022 Kernel: 10.0.20348.2031 Compiler: clang 15.0.7, gcc 14.1.0 (MinGW), and MSVC VS 19.39.33521 To view detailed results, visit: https://lab.dpdk.org/results/dashboard/patchsets/34563/ UNH-IOL DPDK Community Lab To manage your email subscriptions, visit: https://lab.dpdk.org/results/dashboard/preferences/subscriptions/