From mboxrd@z Thu Jan 1 00:00:00 1970 Return-Path: Received: from mails.dpdk.org (mails.dpdk.org [217.70.189.124]) by inbox.dpdk.org (Postfix) with ESMTP id E5CBD48B14 for ; Sat, 15 Nov 2025 06:43:52 +0100 (CET) Received: from mails.dpdk.org (localhost [127.0.0.1]) by mails.dpdk.org (Postfix) with ESMTP id DEE29400D6; Sat, 15 Nov 2025 06:43:52 +0100 (CET) Received: from mail-qv1-f100.google.com (mail-qv1-f100.google.com [209.85.219.100]) by mails.dpdk.org (Postfix) with ESMTP id EFB54400D6 for ; Sat, 15 Nov 2025 06:43:50 +0100 (CET) Received: by mail-qv1-f100.google.com with SMTP id 6a1803df08f44-8804650ca32so25423546d6.0 for ; Fri, 14 Nov 2025 21:43:50 -0800 (PST) DKIM-Signature: v=1; a=rsa-sha256; c=relaxed/relaxed; d=iol.unh.edu; s=unh-iol; t=1763185430; x=1763790230; darn=dpdk.org; h=cc:to:from:subject:message-id:date:from:to:cc:subject:date :message-id:reply-to; bh=WoOIYuL4n4pGtdsM3l5pS+O3ACLLoJglQGW13jwvni4=; b=E6U2CbNDCzJQecWgvt8QuvQgEMbBn6rAWuHvTpZlo9cio2AJQnrN/Y1djGFeiJhXi1 3KGCQeYjNfGNwLmLH0IA5iesByd3ERP2GbI+VU7pyKJ0RWg3+swy8/6R3j8QprO5rjdD /6qnFn+xLuqb5oApxdxtiTCsp0HGoDbISWI4s= X-Google-DKIM-Signature: v=1; a=rsa-sha256; c=relaxed/relaxed; d=1e100.net; s=20230601; t=1763185430; x=1763790230; h=cc:to:from:subject:message-id:date:x-gm-gg:x-gm-message-state:from :to:cc:subject:date:message-id:reply-to; bh=WoOIYuL4n4pGtdsM3l5pS+O3ACLLoJglQGW13jwvni4=; b=rzWVCUc25c7GargJXRDNeae5bd9+lev7VUlAH5estC8lF0yccpcOK90n0uW8ALTjVz OCu3INJygrpTHXhGRF4EJEwi4f6mh8IaE70ssIwWeoWwA6cV7su4WGPT/RVDJwQV8yfs rhh6f2qk1ETPpp1Hs5P2Q8FoBs7jN5LcOWDt+ILM8mc3SZBAZIgdzg+euJzVWKjq48E2 uuBDmzS7L0TsLf1gZgS0+BvWtsoKRGMcQM4LaqyN0tpvxgZY3SEAgIoADI072G5Dm+Jn cYFAtIA313ijd9dqCwuLIR+j41brx+lUA59/BsXhHGkpZVyPCmo/1hRtcLsBQwuLyM21 a56Q== X-Gm-Message-State: AOJu0Yx8aredUM0gM+T7ynGM/F5mqvk5d/4UaWVs6dnk54qV1af1g/b6 BodTExGDsMBsnmPafAtCc1z21oHbLzZZ5SjpPzZ+oDm0G745px7Czvo9bzDX1qfvXMgLXgmCDyQ hGf6mvtuf6mR4G/qjTfl9eq/sI4a0Z0IaqR2C/TO84/+RxUlqbQyC X-Gm-Gg: ASbGncu4cYv6akfOMTWdYWuKbxTfApiOceSdEWb7IUIgJTNdTLM9HfFaZH+1YrYgrgY 0WO2+ma3HFWUmf6fhEv/+vT3mW30E1qj5w46Me9QxGSUpnWMRxIxBVttEivpc23w9T53pyvJuAq JGkA/v/N3o9Tezw/FE4rVTs5QoTf7iYd0WkJWUF/8PfkpIEDzd8/GZ1fOa1gsBOK3U/KPROQSkg Klo/KIjs7z+sspDZi1k1tv4Xf0bVx/VYXn7f9c/47RM+nA+fwURnUR8C9XlC9eCw7IikE7CqSwI 3MDbbYiXm9rjgVCeJtYl2w4QpldSSW+G9AZgmXPUj3xpCXOwbWuz9XyqSYPqNdtMr/BDcxVn9aj DucjD/oL5 X-Google-Smtp-Source: AGHT+IHlEJZ4RmXaU1z8svFFgsKncvT3WizgJGQK1AiHZ91Vha5XE+JE7CrJYUULSCQWLjQ2Bt3z11RuY8IE X-Received: by 2002:a05:6214:2a8c:b0:882:36bc:da5c with SMTP id 6a1803df08f44-8829261e6a6mr74853006d6.26.1763185430338; Fri, 14 Nov 2025 21:43:50 -0800 (PST) Received: from postal.iol.unh.edu (postal.iol.unh.edu. [2606:4100:3880:1234::84]) by smtp-relay.gmail.com with ESMTPS id 6a1803df08f44-882862f836fsm7926696d6.10.2025.11.14.21.43.50 (version=TLS1_2 cipher=ECDHE-ECDSA-AES128-GCM-SHA256 bits=128/128); Fri, 14 Nov 2025 21:43:50 -0800 (PST) X-Relaying-Domain: iol.unh.edu Date: Fri, 14 Nov 2025 21:43:50 -0800 (PST) Message-ID: <69181316.050a0220.3844f7.71f3SMTPIN_ADDED_MISSING@mx.google.com> Received: from [172.21.0.4] (unknown [172.18.0.240]) by postal.iol.unh.edu (Postfix) with ESMTP id ED59F6051830; Sat, 15 Nov 2025 00:43:49 -0500 (EST) Subject: |SUCCESS| [GIT MASTER] 0bd935abcb823f581ce53986986aa54eaf6f8140 From: dpdklab@iol.unh.edu To: Test Report Cc: dpdk-test-reports@iol.unh.edu, Xueming Li , Christian Ehrhardt , Kevin Traynor , Luca Boccassi Content-Type: text/plain X-BeenThere: test-report@dpdk.org X-Mailman-Version: 2.1.29 Precedence: list List-Id: automatic DPDK test reports List-Unsubscribe: , List-Archive: List-Post: List-Help: List-Subscribe: , Errors-To: test-report-bounces@dpdk.org _Testing PASS_ Branch: tags/v24.11 0bd935abcb823f581ce53986986aa54eaf6f8140 --> testing pass Upstream job id: Generic-VM-DPDK-Compile-Meson#39789 Test environment and result as below: +---------------------+--------------------+-------------------+ | Environment | dpdk_meson_compile | dpdk_msvc_compile | +=====================+====================+===================+ | Ubuntu 20.04 | PASS | SKIPPED | +---------------------+--------------------+-------------------+ | FreeBSD 14.2 | PASS | SKIPPED | +---------------------+--------------------+-------------------+ | Windows Server 2022 | SKIPPED | PASS | +---------------------+--------------------+-------------------+ Ubuntu 20.04 Kernel: 4.19 Compiler: gcc gcc (Ubuntu 9.4.0-1ubuntu1~20.04.2) 9.4.0 FreeBSD 14.2 Kernel: 14.2-RELEASE Compiler: clang 18.1.6 Windows Server 2022 Kernel: 10.0.20348.2031 Compiler: clang 15.0.7, gcc 14.1.0 (MinGW), and MSVC VS 19.39.33521 To view detailed results, visit: https://lab.dpdk.org/results/dashboard/tarballs/35608/ UNH-IOL DPDK Community Lab To manage your email subscriptions, visit: https://lab.dpdk.org/results/dashboard/preferences/subscriptions/