From mboxrd@z Thu Jan 1 00:00:00 1970 Return-Path: Received: from mails.dpdk.org (mails.dpdk.org [217.70.189.124]) by inbox.dpdk.org (Postfix) with ESMTP id 4B22148B14 for ; Sat, 15 Nov 2025 06:46:32 +0100 (CET) Received: from mails.dpdk.org (localhost [127.0.0.1]) by mails.dpdk.org (Postfix) with ESMTP id 46C09400D6; Sat, 15 Nov 2025 06:46:32 +0100 (CET) Received: from mail-yw1-f225.google.com (mail-yw1-f225.google.com [209.85.128.225]) by mails.dpdk.org (Postfix) with ESMTP id 5554D400D6 for ; Sat, 15 Nov 2025 06:46:31 +0100 (CET) Received: by mail-yw1-f225.google.com with SMTP id 00721157ae682-786a822e73aso29610677b3.3 for ; Fri, 14 Nov 2025 21:46:31 -0800 (PST) DKIM-Signature: v=1; a=rsa-sha256; c=relaxed/relaxed; d=iol.unh.edu; s=unh-iol; t=1763185590; x=1763790390; darn=dpdk.org; h=references:in-reply-to:cc:to:from:subject:message-id:date:from:to :cc:subject:date:message-id:reply-to; bh=w6VcRB2rjTk0GqSLVB/wTLKKTUtRD/3DNTZ4XZDKhU8=; b=WuyW6XNHL9GCwtMmoUW55HIhaMRFXScw6MRERFXt/DIF0O8YJDYH3EA9cy6p2bjmcG vvDpGAhGUEbyRh9HiSyEwZSnXF8XNc5+5Yy7ZZS2FWTNMQVa38zamMlmipFEUwi4D5Or fyufm9OrGjMO/OCznfqvmYtIoixis/VgT/RmU= X-Google-DKIM-Signature: v=1; a=rsa-sha256; c=relaxed/relaxed; d=1e100.net; s=20230601; t=1763185590; x=1763790390; h=references:in-reply-to:cc:to:from:subject:message-id:date:x-gm-gg :x-gm-message-state:from:to:cc:subject:date:message-id:reply-to; bh=w6VcRB2rjTk0GqSLVB/wTLKKTUtRD/3DNTZ4XZDKhU8=; b=XtPAoz3Oov+SZoyuhQy2LhHgbWN5cvGlEJdGAaamlyBUed+3SWs1CBOBG8tJlSdnjm wkEYqU+ITEbsv+0O61f5FBs7dRoYwkooFYcLG1XYvW/LiFlSScUKnNXrCkG44TL1GQ1s 86s1c9h0QABwHXosDfiJ+YJ810Ar8p6OaO2XNGmcwl1ADKvPvVwuAoBVh46AytoLbIT9 pRlP8dixhrlLW8aPMb6IhAaIXlp2evwcqUN8AUnb7lw/5JhSNprJuMmsfLwAlt8xlmgG Y/DyoduJ58JCZs6ji0+Fja4Q8XwYriVwNzLgxxaPoVnGmxCQIK/yMikcqynTl9ZrFa0M AHVQ== X-Gm-Message-State: AOJu0YxSVqSWnv8YasRxnCQUmuUntWqg0FZtdr2TXuh3EiaqY48hToQa XeX3+uvFOibEIDnVQvxvgp+j0po9s2duAFnpYIcRlOhJmOIF6lORmxe0WkZ2S+QWQhd0F77LHVP O/Lg9JBy7UcAYhZyhKiA1nWShnJlnQd1iZoC+mcnRJa5XI2DvbCz/ChcZR0Ri X-Gm-Gg: ASbGncu8uJFyorCbRXtJ4iVgz31nu5xtXWCMcTr6T+IHYCecNI2smnTZ8tdANOWUcP3 j0QqcR1Mxuli6T4LCMOeGNI3XuEVyrZrR4GH+Xu4k2UZm1GlgzCNQ4NtV0mAe7w+UKv311fRfw+ gpF6/MdtVmLje7TBOAJyAesdzo0TXW755ICskFQkVLGfwjR9DTKoS9mH6JcpURLKFQMdLc/RX31 egHANJlXvsd6/R3aaxkpAIsB2Vl8ux/O1AosBvuR18GiQMMDAlR9sOIE7/WSe/TLJRnD/AgIIO5 6vw0ZDRZTe8xJsHLvAuLIAB9HdN8btUD0Av+H/Jvjp0EI/TTgAV3fZc7SAoXxqsoORofxgc1bQE fW4aXNhJz X-Google-Smtp-Source: AGHT+IHseLo8rPFBTvb5NKDBevdjLcW6MuNEeHSuzNdq33Nn4UR7wefYiM3o9XFVknrInUZ0WaU6PQF2y0p4 X-Received: by 2002:a05:690e:2598:b0:63f:a6da:4b3b with SMTP id 956f58d0204a3-641e74a5b30mr3714223d50.14.1763185590568; Fri, 14 Nov 2025 21:46:30 -0800 (PST) Received: from postal.iol.unh.edu (postal.iol.unh.edu. [2606:4100:3880:1234::84]) by smtp-relay.gmail.com with ESMTPS id 00721157ae682-78821dee4e6sm3803787b3.1.2025.11.14.21.46.30 (version=TLS1_2 cipher=ECDHE-ECDSA-AES128-GCM-SHA256 bits=128/128); Fri, 14 Nov 2025 21:46:30 -0800 (PST) X-Relaying-Domain: iol.unh.edu Date: Fri, 14 Nov 2025 21:46:30 -0800 (PST) Message-ID: <691813b6.050a0220.2c5cb9.279dSMTPIN_ADDED_MISSING@mx.google.com> Received: from [172.21.0.3] (unknown [172.18.0.240]) by postal.iol.unh.edu (Postfix) with ESMTP id 3A3EE6051830; Sat, 15 Nov 2025 00:46:30 -0500 (EST) Subject: |SUCCESS| pw158744 [PATCH] net/mlx5: fix cross GVMI metadata match f From: dpdklab@iol.unh.edu To: Test Report Cc: dpdk-test-reports@iol.unh.edu In-Reply-To: <20251113071746.434067-1-getelson@nvidia.com> References: <20251113071746.434067-1-getelson@nvidia.com> Content-Type: text/plain X-BeenThere: test-report@dpdk.org X-Mailman-Version: 2.1.29 Precedence: list List-Id: automatic DPDK test reports List-Unsubscribe: , List-Archive: List-Post: List-Help: List-Subscribe: , Errors-To: test-report-bounces@dpdk.org Test-Label: iol-compile-amd64-testing Test-Status: SUCCESS http://dpdk.org/patch/158744 _Testing PASS_ Submitter: Gregory Etelson Date: Thursday, November 13 2025 07:17:45 DPDK git baseline: Repo:dpdk-next-net-mlx Branch: master CommitID:ae657d56b1f0ea979b3f611edf28d773efc2ddcf 158744 --> testing pass Upstream job id: Windows-Compile-DPDK-Native#32353 Test environment and result as below: +-------------------------------+--------------------+------------------+-------------------+-------------------------+ | Environment | dpdk_meson_compile | dpdk_compile_ovs | dpdk_msvc_compile | dpdk_llvm_clang_compile | +===============================+====================+==================+===================+=========================+ | FreeBSD 14.2 | PASS | SKIPPED | SKIPPED | SKIPPED | +-------------------------------+--------------------+------------------+-------------------+-------------------------+ | Ubuntu 20.04 | PASS | SKIPPED | SKIPPED | SKIPPED | +-------------------------------+--------------------+------------------+-------------------+-------------------------+ | CentOS Stream 9 | PASS | SKIPPED | SKIPPED | SKIPPED | +-------------------------------+--------------------+------------------+-------------------+-------------------------+ | CentOS Stream 10 | PASS | SKIPPED | SKIPPED | SKIPPED | +-------------------------------+--------------------+------------------+-------------------+-------------------------+ | Debian GNU/Linux 12 | PASS | SKIPPED | SKIPPED | SKIPPED | +-------------------------------+--------------------+------------------+-------------------+-------------------------+ | Fedora Linux 42 | PASS | PASS | SKIPPED | SKIPPED | +-------------------------------+--------------------+------------------+-------------------+-------------------------+ | openSUSE Leap 15.6 | PASS | SKIPPED | SKIPPED | SKIPPED | +-------------------------------+--------------------+------------------+-------------------+-------------------------+ | Red Hat Enterprise Linux 9.5 | PASS | SKIPPED | SKIPPED | SKIPPED | +-------------------------------+--------------------+------------------+-------------------+-------------------------+ | Red Hat Enterprise Linux 8.10 | PASS | SKIPPED | SKIPPED | SKIPPED | +-------------------------------+--------------------+------------------+-------------------+-------------------------+ | Ubuntu 22.04 | PASS | SKIPPED | SKIPPED | SKIPPED | +-------------------------------+--------------------+------------------+-------------------+-------------------------+ | Alpine Linux 3.22.0 | PASS | SKIPPED | SKIPPED | SKIPPED | +-------------------------------+--------------------+------------------+-------------------+-------------------------+ | Ubuntu 24.04 | PASS | PASS | SKIPPED | SKIPPED | +-------------------------------+--------------------+------------------+-------------------+-------------------------+ | Windows Server 2022 | SKIPPED | SKIPPED | PASS | PASS | +-------------------------------+--------------------+------------------+-------------------+-------------------------+ FreeBSD 14.2 Kernel: 14.2-RELEASE Compiler: clang 18.1.6 Ubuntu 20.04 Kernel: 4.19 Compiler: gcc gcc (Ubuntu 9.4.0-1ubuntu1~20.04.2) 9.4.0 CentOS Stream 9 Kernel: 5.15 Compiler: gcc gcc (GCC) 11.5.0 20240719 (Red Hat 11.5.0-11) CentOS Stream 10 Kernel: 5.15 Compiler: gcc gcc (GCC) 14.2.1 20250110 (Red Hat 14.2.1-8) Debian GNU/Linux 12 Kernel: 5.15 Compiler: gcc gcc (Debian 12.2.0-14+deb12u1) 12.2.0 Fedora Linux 42 Kernel: 5.15 Compiler: clang gcc (GCC) 15.2.1 20250808 (Red Hat 15.2.1-1) openSUSE Leap 15.6 Kernel: 5.15 Compiler: gcc gcc (SUSE Linux) 7.5.0 Red Hat Enterprise Linux 9.5 Kernel: 5.15 Compiler: gcc gcc (GCC) 11.5.0 20240719 (Red Hat 11.5.0-2) Red Hat Enterprise Linux 8.10 Kernel: 5.15 Compiler: gcc gcc (GCC) 8.5.0 20210514 (Red Hat 8.5.0-22) Ubuntu 22.04 Kernel: 5.15 Compiler: gcc gcc (Ubuntu 11.4.0-1ubuntu1~22.04) 11.4.0 Alpine Linux 3.22.0 Kernel: 5.15 Compiler: gcc gcc (Alpine 14.2.0) 14.2.0 Ubuntu 24.04 Kernel: 5.15 Compiler: gcc gcc (Ubuntu 13.3.0-6ubuntu2~24.04) 13.3.0 Windows Server 2022 Kernel: 10.0.20348.2031 Compiler: clang 15.0.7, gcc 14.1.0 (MinGW), and MSVC VS 19.39.33521 To view detailed results, visit: https://lab.dpdk.org/results/dashboard/patchsets/34564/ UNH-IOL DPDK Community Lab To manage your email subscriptions, visit: https://lab.dpdk.org/results/dashboard/preferences/subscriptions/