From mboxrd@z Thu Jan 1 00:00:00 1970 Return-Path: Received: from mails.dpdk.org (mails.dpdk.org [217.70.189.124]) by inbox.dpdk.org (Postfix) with ESMTP id 98A4848B14 for ; Sat, 15 Nov 2025 06:49:06 +0100 (CET) Received: from mails.dpdk.org (localhost [127.0.0.1]) by mails.dpdk.org (Postfix) with ESMTP id 7B8E7400D6; Sat, 15 Nov 2025 06:49:06 +0100 (CET) Received: from mail-yx1-f99.google.com (mail-yx1-f99.google.com [74.125.224.99]) by mails.dpdk.org (Postfix) with ESMTP id 75667400D6 for ; Sat, 15 Nov 2025 06:49:05 +0100 (CET) Received: by mail-yx1-f99.google.com with SMTP id 956f58d0204a3-63e19642764so2265212d50.1 for ; Fri, 14 Nov 2025 21:49:05 -0800 (PST) DKIM-Signature: v=1; a=rsa-sha256; c=relaxed/relaxed; d=iol.unh.edu; s=unh-iol; t=1763185745; x=1763790545; darn=dpdk.org; h=references:in-reply-to:cc:to:from:subject:message-id:date:from:to :cc:subject:date:message-id:reply-to; bh=Ur2NtEaGS2ldKiNQ+DJowntpsnAYjAO8rBVFVc6AM3I=; b=Y7QV05aPPYcQcfuHgHFOfIaIIHn2KT5RkiEsDQFl4Mt9JaMzadww0hXRD7GTssYeEc n0zsXZqgSOA3oFDSoH6CczVKVhXmkFrTvZ+uROKqLcnYSMdXv9NPcQY4IEz1OMC0EgUK KaUSezrIr1gsdq5E5B+tVoWf6IqOXEQXqqX7s= X-Google-DKIM-Signature: v=1; a=rsa-sha256; c=relaxed/relaxed; d=1e100.net; s=20230601; t=1763185745; x=1763790545; h=references:in-reply-to:cc:to:from:subject:message-id:date:x-gm-gg :x-gm-message-state:from:to:cc:subject:date:message-id:reply-to; bh=Ur2NtEaGS2ldKiNQ+DJowntpsnAYjAO8rBVFVc6AM3I=; b=S4hGLlg9Kojgag5gcSKn+ath2W/AhfxFRAiql7df7dQz8Ns0S/4ri+/4QcEwEpxNSi xs0NtM9rbCAKdCZ92xJNnKHUi04Qmmk2/5bbe5/ABWmaAvD5xGuSGq8TELfcNO8Ul9b+ AFJvxRVfyNJexDmoDYI4S8rVZvW6r4X2cYHghMQ5+KpVdNkzjEgvKVCUU9tRBGYtiicv x24GWQiJVCn1+hFyacEnArXLykC+4dxhoPaX6IEDWxnDcBWdXvx75rfZrVQzRYKKQfba IHOw6g3Z9ueSh7jZr+695xqCtC0gLbY5SSH/GQvC9/NqesdZxyfJiOKbKyeP6Y/8X9hG QUug== X-Gm-Message-State: AOJu0YwzwOkr3E1L5gVVr0eQKfzJT8FttHsYjYt+cJ0RXJjF2YJM0QYD X4B0nXrA0+5wnRDdpQrLKj6t465ykIcl9TjOSS4Njq++qoOt1DYu2fsZArh0yzkAmFcKLvf2xCN AQ3VVoRbc1HcdFZHeM2XSgp0XuF/dvMRs4/ljc88gPUS/ X-Gm-Gg: ASbGncsfYlT5i5ShaEEkR5OkXfIXzomT5ZvUBXl5bCy/6RLXgzGvpIfQxRquUhtP1AR Q2LDib4RYmAmd5KOwocKA2BUk8zOgmt+6I2Q3cYJBskwfVfV5wpY4R1nTX5J6nZQSsmbgTS+IZ+ uMW+upWt5P+v1brM0cCUmw1CVUArL2PedbGaf4GVUp9TFRN8avDiRP6W2R3lPblMvbqKcfUN1lG ivlwVmaXdeS6cLUt1lL7wCUDfSDH4xW/5K4fQuhX1KVaDLn9iXBo5PLGhMkgO9tPgoOLbEi5Fnb bPgYyGngAovCkwF5/+L1dqZ0z3sZxj1vYdMxgcasYrTe0L0i8kmgiJMKzVJoWHZjX7G4Koo9j3/ AsIEjL18zrHj77+cMXb/N4p15NkRhilY= X-Google-Smtp-Source: AGHT+IF87Ic+iRFEb+rnTCcFuZDHcv4FGHzksFZNVYwL1ZgMn54vQIRfKfquONnpNbKcQYEL50w0Wc8m86pa X-Received: by 2002:a05:690e:2546:b0:63f:baef:c4f with SMTP id 956f58d0204a3-641e770cc2emr3548192d50.63.1763185744729; Fri, 14 Nov 2025 21:49:04 -0800 (PST) Received: from postal.iol.unh.edu (postal.iol.unh.edu. [132.177.123.84]) by smtp-relay.gmail.com with ESMTPS id 00721157ae682-78821e4f8aesm3862827b3.15.2025.11.14.21.49.04 (version=TLS1_2 cipher=ECDHE-ECDSA-AES128-GCM-SHA256 bits=128/128); Fri, 14 Nov 2025 21:49:04 -0800 (PST) X-Relaying-Domain: iol.unh.edu Date: Fri, 14 Nov 2025 21:49:04 -0800 (PST) Message-ID: <69181450.050a0220.1e5a7b.37a2SMTPIN_ADDED_MISSING@mx.google.com> Received: from [172.21.0.3] (unknown [172.18.0.240]) by postal.iol.unh.edu (Postfix) with ESMTP id 5EC416051830; Sat, 15 Nov 2025 00:49:04 -0500 (EST) Subject: |SUCCESS| pw158744 [PATCH] net/mlx5: fix cross GVMI metadata match f From: dpdklab@iol.unh.edu To: Test Report Cc: dpdk-test-reports@iol.unh.edu In-Reply-To: <20251113071746.434067-1-getelson@nvidia.com> References: <20251113071746.434067-1-getelson@nvidia.com> Content-Type: text/plain X-BeenThere: test-report@dpdk.org X-Mailman-Version: 2.1.29 Precedence: list List-Id: automatic DPDK test reports List-Unsubscribe: , List-Archive: List-Post: List-Help: List-Subscribe: , Errors-To: test-report-bounces@dpdk.org Test-Label: iol-compile-amd64-testing Test-Status: SUCCESS http://dpdk.org/patch/158744 _Testing PASS_ Submitter: Gregory Etelson Date: Thursday, November 13 2025 07:17:45 DPDK git baseline: Repo:dpdk-next-net-mlx Branch: master CommitID:ae657d56b1f0ea979b3f611edf28d773efc2ddcf 158744 --> testing pass Upstream job id: Windows-Compile-DPDK-Native#32354 Test environment and result as below: +-------------------------------+--------------------+------------------+-------------------+-------------------------+----------------------+ | Environment | dpdk_meson_compile | dpdk_compile_ovs | dpdk_msvc_compile | dpdk_llvm_clang_compile | dpdk_mingw64_compile | +===============================+====================+==================+===================+=========================+======================+ | FreeBSD 14.2 | PASS | SKIPPED | SKIPPED | SKIPPED | SKIPPED | +-------------------------------+--------------------+------------------+-------------------+-------------------------+----------------------+ | Ubuntu 20.04 | PASS | SKIPPED | SKIPPED | SKIPPED | SKIPPED | +-------------------------------+--------------------+------------------+-------------------+-------------------------+----------------------+ | CentOS Stream 9 | PASS | SKIPPED | SKIPPED | SKIPPED | SKIPPED | +-------------------------------+--------------------+------------------+-------------------+-------------------------+----------------------+ | CentOS Stream 10 | PASS | SKIPPED | SKIPPED | SKIPPED | SKIPPED | +-------------------------------+--------------------+------------------+-------------------+-------------------------+----------------------+ | Debian GNU/Linux 12 | PASS | SKIPPED | SKIPPED | SKIPPED | SKIPPED | +-------------------------------+--------------------+------------------+-------------------+-------------------------+----------------------+ | Fedora Linux 42 | PASS | PASS | SKIPPED | SKIPPED | SKIPPED | +-------------------------------+--------------------+------------------+-------------------+-------------------------+----------------------+ | openSUSE Leap 15.6 | PASS | SKIPPED | SKIPPED | SKIPPED | SKIPPED | +-------------------------------+--------------------+------------------+-------------------+-------------------------+----------------------+ | Red Hat Enterprise Linux 9.5 | PASS | SKIPPED | SKIPPED | SKIPPED | SKIPPED | +-------------------------------+--------------------+------------------+-------------------+-------------------------+----------------------+ | Red Hat Enterprise Linux 8.10 | PASS | SKIPPED | SKIPPED | SKIPPED | SKIPPED | +-------------------------------+--------------------+------------------+-------------------+-------------------------+----------------------+ | Ubuntu 22.04 | PASS | SKIPPED | SKIPPED | SKIPPED | SKIPPED | +-------------------------------+--------------------+------------------+-------------------+-------------------------+----------------------+ | Alpine Linux 3.22.0 | PASS | SKIPPED | SKIPPED | SKIPPED | SKIPPED | +-------------------------------+--------------------+------------------+-------------------+-------------------------+----------------------+ | Ubuntu 24.04 | PASS | PASS | SKIPPED | SKIPPED | SKIPPED | +-------------------------------+--------------------+------------------+-------------------+-------------------------+----------------------+ | Windows Server 2022 | SKIPPED | SKIPPED | PASS | PASS | PASS | +-------------------------------+--------------------+------------------+-------------------+-------------------------+----------------------+ FreeBSD 14.2 Kernel: 14.2-RELEASE Compiler: clang 18.1.6 Ubuntu 20.04 Kernel: 4.19 Compiler: gcc gcc (Ubuntu 9.4.0-1ubuntu1~20.04.2) 9.4.0 CentOS Stream 9 Kernel: 5.15 Compiler: gcc gcc (GCC) 11.5.0 20240719 (Red Hat 11.5.0-11) CentOS Stream 10 Kernel: 5.15 Compiler: gcc gcc (GCC) 14.2.1 20250110 (Red Hat 14.2.1-8) Debian GNU/Linux 12 Kernel: 5.15 Compiler: gcc gcc (Debian 12.2.0-14+deb12u1) 12.2.0 Fedora Linux 42 Kernel: 5.15 Compiler: clang gcc (GCC) 15.2.1 20250808 (Red Hat 15.2.1-1) openSUSE Leap 15.6 Kernel: 5.15 Compiler: gcc gcc (SUSE Linux) 7.5.0 Red Hat Enterprise Linux 9.5 Kernel: 5.15 Compiler: gcc gcc (GCC) 11.5.0 20240719 (Red Hat 11.5.0-2) Red Hat Enterprise Linux 8.10 Kernel: 5.15 Compiler: gcc gcc (GCC) 8.5.0 20210514 (Red Hat 8.5.0-22) Ubuntu 22.04 Kernel: 5.15 Compiler: gcc gcc (Ubuntu 11.4.0-1ubuntu1~22.04) 11.4.0 Alpine Linux 3.22.0 Kernel: 5.15 Compiler: gcc gcc (Alpine 14.2.0) 14.2.0 Ubuntu 24.04 Kernel: 5.15 Compiler: gcc gcc (Ubuntu 13.3.0-6ubuntu2~24.04) 13.3.0 Windows Server 2022 Kernel: 10.0.20348.2031 Compiler: clang 15.0.7, gcc 14.1.0 (MinGW), and MSVC VS 19.39.33521 To view detailed results, visit: https://lab.dpdk.org/results/dashboard/patchsets/34564/ UNH-IOL DPDK Community Lab To manage your email subscriptions, visit: https://lab.dpdk.org/results/dashboard/preferences/subscriptions/