From mboxrd@z Thu Jan 1 00:00:00 1970 Return-Path: Received: from mails.dpdk.org (mails.dpdk.org [217.70.189.124]) by inbox.dpdk.org (Postfix) with ESMTP id E0B2748B14 for ; Sat, 15 Nov 2025 06:51:50 +0100 (CET) Received: from mails.dpdk.org (localhost [127.0.0.1]) by mails.dpdk.org (Postfix) with ESMTP id C6A39400D6; Sat, 15 Nov 2025 06:51:50 +0100 (CET) Received: from mail-pl1-f225.google.com (mail-pl1-f225.google.com [209.85.214.225]) by mails.dpdk.org (Postfix) with ESMTP id 77AC0400D6 for ; Sat, 15 Nov 2025 06:51:49 +0100 (CET) Received: by mail-pl1-f225.google.com with SMTP id d9443c01a7336-298287a26c3so32878785ad.0 for ; Fri, 14 Nov 2025 21:51:49 -0800 (PST) DKIM-Signature: v=1; a=rsa-sha256; c=relaxed/relaxed; d=iol.unh.edu; s=unh-iol; t=1763185908; x=1763790708; darn=dpdk.org; h=references:in-reply-to:cc:to:from:subject:message-id:date:from:to :cc:subject:date:message-id:reply-to; bh=Av2Ayk4TYgEPIjP1ekqmH77mo2PWsmlMC4RIfeeXxYU=; b=e7pe5sXCznGmAtdrhTMTHgMbpkWtgAoeWLEhKV0TBNvyewUcEmutcxXo9auzswgXKr Ke8L6n/QE61etRu4agOOTMBsv8NOaOumcXezWMeam6jyeRmwhFpg4Lsjm+Z9+AkssmOk ZPUoja8kP6ZAa53X3D3+hn4EEUnigyQpAQcvo= X-Google-DKIM-Signature: v=1; a=rsa-sha256; c=relaxed/relaxed; d=1e100.net; s=20230601; t=1763185908; x=1763790708; h=references:in-reply-to:cc:to:from:subject:message-id:date:x-gm-gg :x-gm-message-state:from:to:cc:subject:date:message-id:reply-to; bh=Av2Ayk4TYgEPIjP1ekqmH77mo2PWsmlMC4RIfeeXxYU=; b=UvynF8Bka9+QRWfaAR50JN+1y3yOE2SanTs1bGqWERRAgX2I3K9ZGzLCpiSXIIYslW LkFPbtUmGCsQ3RakYwHTZSZHYKYrYVZcoU7HsfUG3iubzX39Bohehst+YZ9M4z5+fMfs rj5jyQiFTRU7hBXS77EEuICzeBfCd0OB+U70aOeDoYWQCQoaizF7cdWzDEZbsfrbA3A0 v6aLMqz3IYbvdesoYJxKIXCM/0Hbictwq+uHYg467wAM6Wkjf9M+mr64vtDFTbsJq3h7 zAQNzwy93KhRFBoA4IU10YUu84/GQvIhCSNSpnz6LDGEErLf6CiLBIrwW8KrTziPCRz+ WwuQ== X-Gm-Message-State: AOJu0YwbvOuA/quUBf3DHN9ClZmGMC6GAIoZQdv2pzpd5QZGrTZstGGS uBpYDwKHQ9pnL0PWr9PJMSk/oV+vmB1nYGp3fhgHC+hRK8G59pTyWqpmaWI/vNcKtS9j/YORYQl o0ZdydoKKbAw/B8I3m9/u/UgefMfcE2i7ycYtQ4uGlIOiHhhG5p8/F1aHe0jP X-Gm-Gg: ASbGnctVEIVsJsL+Q2D1NjGctIP6BFzMQP6zsRwjpdkjxY5paPuZGbBEoP6U6hbj6DJ tmmZvGe/wkKkdhczwU6KkWutKdUmPyVFi6+6RQwk3vbBM3johWtG6VJ/RQZKN/KemQVpsWZYoIr 8Y8le7FcvsTk6jKQxI3YkIGk1ZYdig1s3bbF0G+CQQl/g8gQ8JhLIQdlJrytNkURdhj005Mmd1d bxo4KSNF/sFouOh+h2OlaZk0YHzHForDcpqARH6rCrR+hZnPtQ4dchJ48RHTIKEM+XoLkyJnnYE UNDKGgx9Bq3FN6T3iOwXFrTX8sOCe5sVzEOWOYOsC9RbrODbe5H8/3MAFhPLaBjJey+6Hfr3lEC lmPXr8xQ8 X-Google-Smtp-Source: AGHT+IH5NgJ0E9OzQn5QsfECOD0k8rbNLpZTQcbLg2iyxMya7uenrZX8H63+YSAascSnADMYy1PGZPdPfeK6 X-Received: by 2002:a17:902:d492:b0:295:3a28:3e8b with SMTP id d9443c01a7336-2986a741ad1mr66505115ad.36.1763185908597; Fri, 14 Nov 2025 21:51:48 -0800 (PST) Received: from postal.iol.unh.edu (postal.iol.unh.edu. [2606:4100:3880:1234::84]) by smtp-relay.gmail.com with ESMTPS id d9443c01a7336-2985c241a5asm7465285ad.15.2025.11.14.21.51.48 (version=TLS1_2 cipher=ECDHE-ECDSA-AES128-GCM-SHA256 bits=128/128); Fri, 14 Nov 2025 21:51:48 -0800 (PST) X-Relaying-Domain: iol.unh.edu Date: Fri, 14 Nov 2025 21:51:48 -0800 (PST) Message-ID: <691814f4.170a0220.123ea8.53f0SMTPIN_ADDED_MISSING@mx.google.com> Received: from [172.21.0.3] (unknown [172.18.0.240]) by postal.iol.unh.edu (Postfix) with ESMTP id CC0906051830; Sat, 15 Nov 2025 00:51:47 -0500 (EST) Subject: |SUCCESS| pw158745 [PATCH] [v3] net/ice: fix statistics read error From: dpdklab@iol.unh.edu To: Test Report Cc: dpdk-test-reports@iol.unh.edu, Bruce Richardson In-Reply-To: <20251113074710.8251-1-zhichaox.zeng@intel.com> References: <20251113074710.8251-1-zhichaox.zeng@intel.com> Content-Type: text/plain X-BeenThere: test-report@dpdk.org X-Mailman-Version: 2.1.29 Precedence: list List-Id: automatic DPDK test reports List-Unsubscribe: , List-Archive: List-Post: List-Help: List-Subscribe: , Errors-To: test-report-bounces@dpdk.org Test-Label: iol-compile-amd64-testing Test-Status: SUCCESS http://dpdk.org/patch/158745 _Testing PASS_ Submitter: Zhichao Zeng Date: Thursday, November 13 2025 07:47:10 DPDK git baseline: Repo:dpdk-next-net-intel Branch: master CommitID:c63646d076330fb2ef3282cbd413aaf93f0509e6 158745 --> testing pass Upstream job id: Windows-Compile-DPDK-Native#32355 Test environment and result as below: +-------------------------------+--------------------+-------------------------+------------------+-------------------+----------------------+ | Environment | dpdk_meson_compile | dpdk_llvm_clang_compile | dpdk_compile_ovs | dpdk_msvc_compile | dpdk_mingw64_compile | +===============================+====================+=========================+==================+===================+======================+ | FreeBSD 14.2 | PASS | SKIPPED | SKIPPED | SKIPPED | SKIPPED | +-------------------------------+--------------------+-------------------------+------------------+-------------------+----------------------+ | Ubuntu 20.04 | PASS | SKIPPED | SKIPPED | SKIPPED | SKIPPED | +-------------------------------+--------------------+-------------------------+------------------+-------------------+----------------------+ | CentOS Stream 9 | PASS | SKIPPED | SKIPPED | SKIPPED | SKIPPED | +-------------------------------+--------------------+-------------------------+------------------+-------------------+----------------------+ | CentOS Stream 10 | PASS | SKIPPED | SKIPPED | SKIPPED | SKIPPED | +-------------------------------+--------------------+-------------------------+------------------+-------------------+----------------------+ | Debian GNU/Linux 12 | PASS | SKIPPED | SKIPPED | SKIPPED | SKIPPED | +-------------------------------+--------------------+-------------------------+------------------+-------------------+----------------------+ | Fedora Linux 42 | PASS | SKIPPED | PASS | SKIPPED | SKIPPED | +-------------------------------+--------------------+-------------------------+------------------+-------------------+----------------------+ | openSUSE Leap 15.6 | PASS | SKIPPED | SKIPPED | SKIPPED | SKIPPED | +-------------------------------+--------------------+-------------------------+------------------+-------------------+----------------------+ | Red Hat Enterprise Linux 8.10 | PASS | SKIPPED | SKIPPED | SKIPPED | SKIPPED | +-------------------------------+--------------------+-------------------------+------------------+-------------------+----------------------+ | Red Hat Enterprise Linux 9.5 | PASS | SKIPPED | SKIPPED | SKIPPED | SKIPPED | +-------------------------------+--------------------+-------------------------+------------------+-------------------+----------------------+ | Ubuntu 22.04 | PASS | SKIPPED | SKIPPED | SKIPPED | SKIPPED | +-------------------------------+--------------------+-------------------------+------------------+-------------------+----------------------+ | Ubuntu 24.04 | PASS | SKIPPED | PASS | SKIPPED | SKIPPED | +-------------------------------+--------------------+-------------------------+------------------+-------------------+----------------------+ | Alpine Linux 3.22.0 | PASS | SKIPPED | SKIPPED | SKIPPED | SKIPPED | +-------------------------------+--------------------+-------------------------+------------------+-------------------+----------------------+ | Windows Server 2022 | SKIPPED | PASS | SKIPPED | PASS | PASS | +-------------------------------+--------------------+-------------------------+------------------+-------------------+----------------------+ FreeBSD 14.2 Kernel: 14.2-RELEASE Compiler: clang 18.1.6 Ubuntu 20.04 Kernel: 4.19 Compiler: gcc gcc (Ubuntu 9.4.0-1ubuntu1~20.04.2) 9.4.0 CentOS Stream 9 Kernel: 5.15 Compiler: gcc gcc (GCC) 11.5.0 20240719 (Red Hat 11.5.0-11) CentOS Stream 10 Kernel: 5.15 Compiler: gcc gcc (GCC) 14.2.1 20250110 (Red Hat 14.2.1-8) Debian GNU/Linux 12 Kernel: 5.15 Compiler: gcc gcc (Debian 12.2.0-14+deb12u1) 12.2.0 Fedora Linux 42 Kernel: 5.15 Compiler: clang gcc (GCC) 15.2.1 20250808 (Red Hat 15.2.1-1) openSUSE Leap 15.6 Kernel: 5.15 Compiler: gcc gcc (SUSE Linux) 7.5.0 Red Hat Enterprise Linux 8.10 Kernel: 5.15 Compiler: gcc gcc (GCC) 8.5.0 20210514 (Red Hat 8.5.0-22) Red Hat Enterprise Linux 9.5 Kernel: 5.15 Compiler: gcc gcc (GCC) 11.5.0 20240719 (Red Hat 11.5.0-2) Ubuntu 22.04 Kernel: 5.15 Compiler: gcc gcc (Ubuntu 11.4.0-1ubuntu1~22.04) 11.4.0 Ubuntu 24.04 Kernel: 5.15 Compiler: gcc gcc (Ubuntu 13.3.0-6ubuntu2~24.04) 13.3.0 Alpine Linux 3.22.0 Kernel: 5.15 Compiler: gcc gcc (Alpine 14.2.0) 14.2.0 Windows Server 2022 Kernel: 10.0.20348.2031 Compiler: clang 15.0.7, gcc 14.1.0 (MinGW), and MSVC VS 19.39.33521 To view detailed results, visit: https://lab.dpdk.org/results/dashboard/patchsets/34565/ UNH-IOL DPDK Community Lab To manage your email subscriptions, visit: https://lab.dpdk.org/results/dashboard/preferences/subscriptions/