From mboxrd@z Thu Jan 1 00:00:00 1970 Return-Path: Received: from mails.dpdk.org (mails.dpdk.org [217.70.189.124]) by inbox.dpdk.org (Postfix) with ESMTP id 2B9F648B14 for ; Sat, 15 Nov 2025 07:03:53 +0100 (CET) Received: from mails.dpdk.org (localhost [127.0.0.1]) by mails.dpdk.org (Postfix) with ESMTP id 01B73400D6; Sat, 15 Nov 2025 07:03:53 +0100 (CET) Received: from mail-pj1-f99.google.com (mail-pj1-f99.google.com [209.85.216.99]) by mails.dpdk.org (Postfix) with ESMTP id 6EF91400D6 for ; Sat, 15 Nov 2025 07:03:51 +0100 (CET) Received: by mail-pj1-f99.google.com with SMTP id 98e67ed59e1d1-340bb1cb9ddso2360952a91.2 for ; Fri, 14 Nov 2025 22:03:51 -0800 (PST) DKIM-Signature: v=1; a=rsa-sha256; c=relaxed/relaxed; d=iol.unh.edu; s=unh-iol; t=1763186630; x=1763791430; darn=dpdk.org; h=references:in-reply-to:cc:to:from:subject:message-id:date:from:to :cc:subject:date:message-id:reply-to; bh=WQfzNBfyzOkCznpaSz7vjScKEp0KcJt6ie0sFPCWpbs=; b=hE9z+0n81UyMj8XsEpIWJ6SaLkrjY6IIG1ISXGwXBswcnrR2b3lENVR5/2ttiqebCb yMCFKYFrC/o+A+LqmybsWSoZdM7z5Bb+1P4nTnZomrhgzST8GmqaC5kJ4XBTJUIhVWG7 pE+9jARKdfU/+XpgCK0X+W8IQXEO+SIfGw54w= X-Google-DKIM-Signature: v=1; a=rsa-sha256; c=relaxed/relaxed; d=1e100.net; s=20230601; t=1763186630; x=1763791430; h=references:in-reply-to:cc:to:from:subject:message-id:date:x-gm-gg :x-gm-message-state:from:to:cc:subject:date:message-id:reply-to; bh=WQfzNBfyzOkCznpaSz7vjScKEp0KcJt6ie0sFPCWpbs=; b=Kc9otp7ad+uvReL5lB0Q8J0nW7SySd88IxTGqiqPTmvEjDBK65PuSjWrt4FVGzz4eY zvZssadNv+n4nZQxvubsfgnteuzlcJudFEKpYBfRuQq5s6nlKfvQHOC/NMLWQFLm+jtK j8D1qlTXZT6IyREb3bcijKjmHEORNrzNIV+J4LsJcwnUeQPV5vBNW3SXIELVJ1MaXhxQ 0FM4QOr2JTUZ4osRzhPh2M8t2wsyc9pkk/MvynBFGSzI6upxq7EyMaxeeTTn3nD9tjnX Kd0PEemO1oS0ghhoZfv0JRKasNFSVDnH1zZMTwS1iqI5Yz0sv6y1I2NU9if7FeY2ZLJd Qnqw== X-Gm-Message-State: AOJu0YyNMNSpA2PJcTeiJzNtb6MeS+AoTWGp+gHNbpj/w0VXX4PyG4rV M/4tTgck15Vr/aEoWcH8T2dMTLFFrYFS1u94WmUNY6BMF/DE/jSXV5OggQsk23o+nxeo59w0NAl Z2DjOFNGNU1Wxk4XRMCBgqxhMeCVEFotn23iUx6ZH2avagm9E3bSTXDAD+yOJ X-Gm-Gg: ASbGnctyEk58rndCS31ulaPGup6aG5hSmSCRNmoEBqJYS8ahGy6qk0KjY7YZArS8mSf oZ3Gzra6jf1T3MVAwMEy/TiPegqc991hcITYuVfMAHL8dcbTvMBHpUUm/pWd5aheyv+3gMuTK3R 4VJndsh4g0OIFPt1SWtF9l8j+Q+OutrtjRor0dvpytf/m/LonMfoUPXm27EaYTJy9JSM61cjs9G RtWVYBXYj3ORQRrQ+GDkaz1jiEydme3RQskgtHQ5tee0kCnyEPhoDsLUlLypZYJmsNlGb1NmkQR SPDv7GpZB5XdfBZ8HC2cRhEoUA63EvsunsysczyCs5td6G6dBYr1AIDyVF8b5tGFBwpDvYvn1Vm fnCPxRb2i X-Google-Smtp-Source: AGHT+IGmsCFQDpfoe/yl0ourpyODwr1ygbdwvpjCAXX40INpicKsr+em3KMRB9z9RZDcD0lquS+jFUP3pV9r X-Received: by 2002:a17:90b:3fc8:b0:343:a631:28b1 with SMTP id 98e67ed59e1d1-343fa0e07e2mr7609703a91.16.1763186630388; Fri, 14 Nov 2025 22:03:50 -0800 (PST) Received: from postal.iol.unh.edu (postal.iol.unh.edu. [2606:4100:3880:1234::84]) by smtp-relay.gmail.com with ESMTPS id 98e67ed59e1d1-343ed5b06c4sm818228a91.8.2025.11.14.22.03.50 (version=TLS1_2 cipher=ECDHE-ECDSA-AES128-GCM-SHA256 bits=128/128); Fri, 14 Nov 2025 22:03:50 -0800 (PST) X-Relaying-Domain: iol.unh.edu Date: Fri, 14 Nov 2025 22:03:50 -0800 (PST) Message-ID: <691817c6.170a0220.1e1ddb.80e4SMTPIN_ADDED_MISSING@mx.google.com> Received: from [172.21.0.4] (unknown [172.18.0.240]) by postal.iol.unh.edu (Postfix) with ESMTP id 9EE316051830; Sat, 15 Nov 2025 01:03:49 -0500 (EST) Subject: |SUCCESS| pw158746 [PATCH] app/proc-info: allow overriding defaults From: dpdklab@iol.unh.edu To: Test Report Cc: dpdk-test-reports@iol.unh.edu In-Reply-To: <20251112130326.2674728-1-mprajapat@marvell.com> References: <20251112130326.2674728-1-mprajapat@marvell.com> Content-Type: text/plain X-BeenThere: test-report@dpdk.org X-Mailman-Version: 2.1.29 Precedence: list List-Id: automatic DPDK test reports List-Unsubscribe: , List-Archive: List-Post: List-Help: List-Subscribe: , Errors-To: test-report-bounces@dpdk.org Test-Label: iol-compile-amd64-testing Test-Status: SUCCESS http://dpdk.org/patch/158746 _Testing PASS_ Submitter: Mohit Kumar Parjapat Date: Wednesday, November 12 2025 13:03:13 DPDK git baseline: Repo:dpdk Branch: master CommitID:be0112878b4fc3a1b918370ed2fe615c52039d77 158746 --> testing pass Upstream job id: Windows-Compile-DPDK-Native#32356 Test environment and result as below: +-------------------------------+--------------------+------------------+-------------------+-------------------------+ | Environment | dpdk_meson_compile | dpdk_compile_ovs | dpdk_msvc_compile | dpdk_llvm_clang_compile | +===============================+====================+==================+===================+=========================+ | Ubuntu 20.04 | PASS | SKIPPED | SKIPPED | SKIPPED | +-------------------------------+--------------------+------------------+-------------------+-------------------------+ | FreeBSD 14.2 | PASS | SKIPPED | SKIPPED | SKIPPED | +-------------------------------+--------------------+------------------+-------------------+-------------------------+ | CentOS Stream 9 | PASS | SKIPPED | SKIPPED | SKIPPED | +-------------------------------+--------------------+------------------+-------------------+-------------------------+ | CentOS Stream 10 | PASS | SKIPPED | SKIPPED | SKIPPED | +-------------------------------+--------------------+------------------+-------------------+-------------------------+ | Debian GNU/Linux 12 | PASS | SKIPPED | SKIPPED | SKIPPED | +-------------------------------+--------------------+------------------+-------------------+-------------------------+ | Fedora Linux 42 | PASS | PASS | SKIPPED | SKIPPED | +-------------------------------+--------------------+------------------+-------------------+-------------------------+ | openSUSE Leap 15.6 | PASS | SKIPPED | SKIPPED | SKIPPED | +-------------------------------+--------------------+------------------+-------------------+-------------------------+ | Red Hat Enterprise Linux 8.10 | PASS | SKIPPED | SKIPPED | SKIPPED | +-------------------------------+--------------------+------------------+-------------------+-------------------------+ | Red Hat Enterprise Linux 9.5 | PASS | SKIPPED | SKIPPED | SKIPPED | +-------------------------------+--------------------+------------------+-------------------+-------------------------+ | Ubuntu 22.04 | PASS | SKIPPED | SKIPPED | SKIPPED | +-------------------------------+--------------------+------------------+-------------------+-------------------------+ | Ubuntu 24.04 | PASS | PASS | SKIPPED | SKIPPED | +-------------------------------+--------------------+------------------+-------------------+-------------------------+ | Alpine Linux 3.22.0 | PASS | SKIPPED | SKIPPED | SKIPPED | +-------------------------------+--------------------+------------------+-------------------+-------------------------+ | Windows Server 2022 | SKIPPED | SKIPPED | PASS | PASS | +-------------------------------+--------------------+------------------+-------------------+-------------------------+ Ubuntu 20.04 Kernel: 4.19 Compiler: gcc gcc (Ubuntu 9.4.0-1ubuntu1~20.04.2) 9.4.0 FreeBSD 14.2 Kernel: 14.2-RELEASE Compiler: clang 18.1.6 CentOS Stream 9 Kernel: 5.15 Compiler: gcc gcc (GCC) 11.5.0 20240719 (Red Hat 11.5.0-11) CentOS Stream 10 Kernel: 5.15 Compiler: gcc gcc (GCC) 14.2.1 20250110 (Red Hat 14.2.1-8) Debian GNU/Linux 12 Kernel: 5.15 Compiler: gcc gcc (Debian 12.2.0-14+deb12u1) 12.2.0 Fedora Linux 42 Kernel: 5.15 Compiler: clang gcc (GCC) 15.2.1 20250808 (Red Hat 15.2.1-1) openSUSE Leap 15.6 Kernel: 5.15 Compiler: gcc gcc (SUSE Linux) 7.5.0 Red Hat Enterprise Linux 8.10 Kernel: 5.15 Compiler: gcc gcc (GCC) 8.5.0 20210514 (Red Hat 8.5.0-22) Red Hat Enterprise Linux 9.5 Kernel: 5.15 Compiler: gcc gcc (GCC) 11.5.0 20240719 (Red Hat 11.5.0-2) Ubuntu 22.04 Kernel: 5.15 Compiler: gcc gcc (Ubuntu 11.4.0-1ubuntu1~22.04) 11.4.0 Ubuntu 24.04 Kernel: 5.15 Compiler: gcc gcc (Ubuntu 13.3.0-6ubuntu2~24.04) 13.3.0 Alpine Linux 3.22.0 Kernel: 5.15 Compiler: gcc gcc (Alpine 14.2.0) 14.2.0 Windows Server 2022 Kernel: 10.0.20348.2031 Compiler: clang 15.0.7, gcc 14.1.0 (MinGW), and MSVC VS 19.39.33521 To view detailed results, visit: https://lab.dpdk.org/results/dashboard/patchsets/34566/ UNH-IOL DPDK Community Lab To manage your email subscriptions, visit: https://lab.dpdk.org/results/dashboard/preferences/subscriptions/