From mboxrd@z Thu Jan 1 00:00:00 1970 Return-Path: Received: from mails.dpdk.org (mails.dpdk.org [217.70.189.124]) by inbox.dpdk.org (Postfix) with ESMTP id ED4F348B14 for ; Sat, 15 Nov 2025 07:13:07 +0100 (CET) Received: from mails.dpdk.org (localhost [127.0.0.1]) by mails.dpdk.org (Postfix) with ESMTP id C860D400D6; Sat, 15 Nov 2025 07:13:07 +0100 (CET) Received: from mail-qv1-f97.google.com (mail-qv1-f97.google.com [209.85.219.97]) by mails.dpdk.org (Postfix) with ESMTP id 8666F400D6 for ; Sat, 15 Nov 2025 07:13:06 +0100 (CET) Received: by mail-qv1-f97.google.com with SMTP id 6a1803df08f44-88059c28da1so28414356d6.2 for ; Fri, 14 Nov 2025 22:13:06 -0800 (PST) DKIM-Signature: v=1; a=rsa-sha256; c=relaxed/relaxed; d=iol.unh.edu; s=unh-iol; t=1763187185; x=1763791985; darn=dpdk.org; h=references:in-reply-to:cc:to:from:subject:message-id:date:from:to :cc:subject:date:message-id:reply-to; bh=Of6CdUX8sOZ5F2cmJyig3a5akMCwyz37ooT3Vtb56d4=; b=TpiUMRhAY23hhm7BgwBkyRlk0m3BFSRCKYAwbPsFbpTcUarlbznGhZhY3RaPtlXFLq +ObNb7yg1zXSFvsMggdk+oYzitX1iyHTP86b8AJrVkMd5/AGfLM9favnuJ+6wS+DeC2a qzEafQtIX6Jzvg9rw3veSX4M+MJIkAe4Ab8W0= X-Google-DKIM-Signature: v=1; a=rsa-sha256; c=relaxed/relaxed; d=1e100.net; s=20230601; t=1763187185; x=1763791985; h=references:in-reply-to:cc:to:from:subject:message-id:date:x-gm-gg :x-gm-message-state:from:to:cc:subject:date:message-id:reply-to; bh=Of6CdUX8sOZ5F2cmJyig3a5akMCwyz37ooT3Vtb56d4=; b=XMsDSWhKVo+Bn9YZzE0GjOwYn1z1VwuIwSduvwDNSaNkWyhLC5O6+IS19WS+JpPto2 qGpYWfJrtVuElZrDeHI3V7Apl7TpFXY6JKUVPbM7CzvLyfrodO1X8D4VrjN9jh0lEcIc LLzvTMnvJJc0ugbcntmV7R9mNVMsyIvx98dxJpXBvky5XHjp9AveGv4Dq85i6jTOw4dj cUXyarWFHZFiU5uzwxVKvcK2wGlzS6sHuLR0SA+wk6oPBRlrZ7ExZC+GCZkEh1wmrpOI P4jTrt0CGiTXQKJAXrNRqNK77kXxfQqFz3yS0PC5HObBHcUXjlIfI2vfNELBRMZ8MgFL Aqvw== X-Gm-Message-State: AOJu0YxGdjr9HI76qr/bMoDirP3aZ059yiybdbaA7sKBwM34Z1wqbnS9 V2DyMqEeMK57eP0nPEC9uiG6X38N0780WxuJadPIVa6BpO0pEd0TUiX1Pj3dpoT+1oLJ3f09E9f XcmdHRRVmTLo5MFtoT9JZ02B9R2wTKxCc8+nh6pRxbj0n X-Gm-Gg: ASbGnctc0HkskWFcnhvYdU7u1AnRyEEu0kvRJ3vReWVGg7ssLT3vQ281vLS41qoP63u XtMjuI0BCOrGOqSS5BFYUDuLOSFANxA7KQkNoEiirYe273tWdLkfUwur0mT0ZAV9wlDzcaPkDE+ BBdRuQLEl9G2f7x/gCrqC9EQNaTS1qFkfcLHs0T39K77aqu342tJv3KrNA/zBEihSLZ6JIbUvcn +zwLctBC021D4Cn8FhADWztFpQdAJPoGOm+68013R5o0bMw/k9Kc8N6FA2a+i5vYuzQsuAW2h2k 3CVDCVE3ca8E8+Zz25AHLu36XWEP1P5JhSc7v238jNY/pVgOCtrs0yLDyTFamLN3ip6BcYPAbKL v41tyQyrcn06Xq0iQqruJNDIj8UWkqY0= X-Google-Smtp-Source: AGHT+IE5AgIzpCGGbcHOw6XyYbZEBlQ1O4opFNEQoOP6Yi6x0IzTfw6RpAh2u8A/5NhO1UE2qseRLkhjzrr8 X-Received: by 2002:ad4:4ee2:0:b0:880:4ef7:ce77 with SMTP id 6a1803df08f44-882926adb21mr81294686d6.49.1763187185560; Fri, 14 Nov 2025 22:13:05 -0800 (PST) Received: from postal.iol.unh.edu (postal.iol.unh.edu. [132.177.123.84]) by smtp-relay.gmail.com with ESMTPS id 6a1803df08f44-8828656bc0dsm7931116d6.24.2025.11.14.22.13.05 (version=TLS1_2 cipher=ECDHE-ECDSA-AES128-GCM-SHA256 bits=128/128); Fri, 14 Nov 2025 22:13:05 -0800 (PST) X-Relaying-Domain: iol.unh.edu Date: Fri, 14 Nov 2025 22:13:05 -0800 (PST) Message-ID: <691819f1.050a0220.1cabc0.6c71SMTPIN_ADDED_MISSING@mx.google.com> Received: from [172.21.0.3] (unknown [172.18.0.240]) by postal.iol.unh.edu (Postfix) with ESMTP id 4A2936051830; Sat, 15 Nov 2025 01:13:05 -0500 (EST) Subject: |SUCCESS| pw158784-158787 [PATCH] [v5,4/4] bus/fslmc: add support fo From: dpdklab@iol.unh.edu To: Test Report Cc: dpdk-test-reports@iol.unh.edu, Stephen Hemminger In-Reply-To: <20251114062454.2731559-4-hemant.agrawal@nxp.com> References: <20251114062454.2731559-4-hemant.agrawal@nxp.com> Content-Type: text/plain X-BeenThere: test-report@dpdk.org X-Mailman-Version: 2.1.29 Precedence: list List-Id: automatic DPDK test reports List-Unsubscribe: , List-Archive: List-Post: List-Help: List-Subscribe: , Errors-To: test-report-bounces@dpdk.org Test-Label: iol-unit-amd64-testing Test-Status: SUCCESS http://dpdk.org/patch/158787 _Testing PASS_ Submitter: Hemant Agrawal Date: Friday, November 14 2025 06:24:54 DPDK git baseline: Repo:dpdk-next-net Branch: master CommitID:fca6f2910345c25a5050a0b586e0d324ca616cbb 158784-158787 --> testing pass Upstream job id: Generic-VM-Unit-Test-DPDK#32575 Test environment and result as below: +-------------------------------+----------------+ | Environment | dpdk_unit_test | +===============================+================+ | CentOS Stream 9 | PASS | +-------------------------------+----------------+ | Debian GNU/Linux 12 | PASS | +-------------------------------+----------------+ | CentOS Stream 10 | PASS | +-------------------------------+----------------+ | Fedora Linux 40 | PASS | +-------------------------------+----------------+ | Fedora Linux 41 | PASS | +-------------------------------+----------------+ | Fedora Linux 42 | PASS | +-------------------------------+----------------+ | Red Hat Enterprise Linux 9.5 | PASS | +-------------------------------+----------------+ | Red Hat Enterprise Linux 8.10 | PASS | +-------------------------------+----------------+ | Ubuntu 22.04 | PASS | +-------------------------------+----------------+ | Ubuntu 24.04 | PASS | +-------------------------------+----------------+ | Ubuntu 20.04 | PASS | +-------------------------------+----------------+ | Windows Server 2022 | PASS | +-------------------------------+----------------+ CentOS Stream 9 Kernel: 5.15 Compiler: gcc gcc (GCC) 11.5.0 20240719 (Red Hat 11.5.0-11) Debian GNU/Linux 12 Kernel: 5.15 Compiler: gcc gcc (Debian 12.2.0-14+deb12u1) 12.2.0 CentOS Stream 10 Kernel: 5.15 Compiler: gcc gcc (GCC) 14.2.1 20250110 (Red Hat 14.2.1-8) Fedora Linux 40 Kernel: 5.15 Compiler: clang gcc (GCC) 14.2.1 20240912 (Red Hat 14.2.1-3) Fedora Linux 41 Kernel: 5.15 Compiler: gcc gcc (GCC) 14.3.1 20250523 (Red Hat 14.3.1-1) Fedora Linux 42 Kernel: 5.15 Compiler: gcc gcc (GCC) 15.2.1 20250808 (Red Hat 15.2.1-1) Red Hat Enterprise Linux 9.5 Kernel: 5.15 Compiler: gcc gcc (GCC) 11.5.0 20240719 (Red Hat 11.5.0-2) Red Hat Enterprise Linux 8.10 Kernel: 5.15 Compiler: gcc gcc (GCC) 8.5.0 20210514 (Red Hat 8.5.0-22) Ubuntu 22.04 Kernel: 5.15 Compiler: gcc gcc (Ubuntu 11.4.0-1ubuntu1~22.04) 11.4.0 Ubuntu 24.04 Kernel: 5.15 Compiler: gcc gcc (Ubuntu 13.3.0-6ubuntu2~24.04) 13.3.0 Ubuntu 20.04 Kernel: 5.15 Compiler: gcc gcc (Ubuntu 9.4.0-1ubuntu1~20.04.2) 9.4.0 Windows Server 2022 Kernel: 10.0.20348.2031 Compiler: clang 15.0.7, gcc 14.1.0 (MinGW), and MSVC VS 19.39.33521 To view detailed results, visit: https://lab.dpdk.org/results/dashboard/patchsets/34589/ UNH-IOL DPDK Community Lab To manage your email subscriptions, visit: https://lab.dpdk.org/results/dashboard/preferences/subscriptions/