From mboxrd@z Thu Jan 1 00:00:00 1970 Return-Path: Received: from mails.dpdk.org (mails.dpdk.org [217.70.189.124]) by inbox.dpdk.org (Postfix) with ESMTP id 2664448B14 for ; Sat, 15 Nov 2025 07:15:27 +0100 (CET) Received: from mails.dpdk.org (localhost [127.0.0.1]) by mails.dpdk.org (Postfix) with ESMTP id 1FDB1400D6; Sat, 15 Nov 2025 07:15:27 +0100 (CET) Received: from mail-pl1-f227.google.com (mail-pl1-f227.google.com [209.85.214.227]) by mails.dpdk.org (Postfix) with ESMTP id 077ED400D6 for ; Sat, 15 Nov 2025 07:15:25 +0100 (CET) Received: by mail-pl1-f227.google.com with SMTP id d9443c01a7336-298456bb53aso29723375ad.0 for ; Fri, 14 Nov 2025 22:15:24 -0800 (PST) DKIM-Signature: v=1; a=rsa-sha256; c=relaxed/relaxed; d=iol.unh.edu; s=unh-iol; t=1763187324; x=1763792124; darn=dpdk.org; h=references:in-reply-to:cc:to:from:subject:message-id:date:from:to :cc:subject:date:message-id:reply-to; bh=2fauOhYt7QezNOLh2WAh6hCJGCi+Bhy6cV1el3bcUGY=; b=JM6V3Y/DorjX9aySYxx8O5mmm9a36u5RZkOQ2KXjMbZBEEvGpuVBX8l4EXmaDNqOPw JxGo/tJeJPVLEy4DgyAN3lU//ldBaEhn6tQdQakbaPg+UF4M3hlXJ9OMWFu87qckPgyc 6VhFCOzdrFIyzE6QCv/DorFGkKTmT0nuB54uU= X-Google-DKIM-Signature: v=1; a=rsa-sha256; c=relaxed/relaxed; d=1e100.net; s=20230601; t=1763187324; x=1763792124; h=references:in-reply-to:cc:to:from:subject:message-id:date:x-gm-gg :x-gm-message-state:from:to:cc:subject:date:message-id:reply-to; bh=2fauOhYt7QezNOLh2WAh6hCJGCi+Bhy6cV1el3bcUGY=; b=TQwe7Tm4zwFo1CRhmOiOiMNjdaHnWkJrANU1aECyPp6LznUFqebOXsgOVlmm+kOSsd 1w2IvKvjpl/6Xui6jiUg0DaWmWOx2WpKHfg6KTVShqf7WSaMjBeV1/ENPgc6bHgW2H9c h6jdot9QLN10YucgCyAO4Fm3derqrzRCuYknSMcJflIagREKeb4tWDoRgmmWYoS32zNu Gbo5ChkgRbKE/e1hc8P3Uxp2foMgnq2IKJIHWhEW32WnKa8fnZPSfr2WwtWPivwxaoND Oq9GTsKM0+Z4sYSJbmX06S9rj3abYpQw3GYUyLm7HAMKaAlRLbvU0cPeYiNomZr+hubB oG1w== X-Gm-Message-State: AOJu0YyYw8zynVIrx6U5W1QkBSOaRfaMKFk1+gaPpqUNt1+8en2hkW1+ kbMPBU0UxLXb8JXWW1LDbVnFDpYBeTdvXKpl/abWsrDq4Wby1trkNBGetTI3FJC6gXk/rriNLeK h9zNu/IU+J+kMfD+zilVOt8OU1ljm3AxnGbspZdYFbkiN X-Gm-Gg: ASbGncsFGZZiGkeaJ6QbXT/zukvQRr4LAz2TbTU/ZQbq6zdEPhCKt3JdNRG0tJivpg5 G+FA8dl0kiNyyTiB0xCuUUGRDOqhvuqRagnXL+cnTSuy+9CKeWKOZ6ZseDbzigOhnQ720mmb9/6 KeRM6TyWNA7LTN6exP/PaPy2Ng7UlQNBz2X2FA1/O1IMv3Cn6SHtJ7oYJHjIRPD+RAuXV5xjCbb iWNvbwrsOVgmixeLXo1awM/kIL4eUPK7f+mMI/fiRC+iCkTMCXaub4zdYQZevHGTNDPSPs2LwSf IOBPXnjd4ea2Fa+Yrqfq7gG6JX8w3e+wapVgztXnD4DGOZcWFIV/19FNYcbxIZCjErkzD8BZbg5 GjSPq1xd5MLvWoQ2tYMDmrS+qY5bccEM= X-Google-Smtp-Source: AGHT+IGqBFhEMA2SBtaGqotB4bavWFfolZrFXkzVt9Y2F2NEkM9KBForFOcxxuuNwtp11IbejhNCE54bewXg X-Received: by 2002:a17:902:d501:b0:295:1e50:e7cb with SMTP id d9443c01a7336-2986a6e9524mr64208125ad.23.1763187324197; Fri, 14 Nov 2025 22:15:24 -0800 (PST) Received: from postal.iol.unh.edu (postal.iol.unh.edu. [132.177.123.84]) by smtp-relay.gmail.com with ESMTPS id d9443c01a7336-2985c2346cesm7830515ad.11.2025.11.14.22.15.24 (version=TLS1_2 cipher=ECDHE-ECDSA-AES128-GCM-SHA256 bits=128/128); Fri, 14 Nov 2025 22:15:24 -0800 (PST) X-Relaying-Domain: iol.unh.edu Date: Fri, 14 Nov 2025 22:15:24 -0800 (PST) Message-ID: <69181a7c.170a0220.18610c.6b09SMTPIN_ADDED_MISSING@mx.google.com> Received: from [172.21.0.3] (unknown [172.18.0.240]) by postal.iol.unh.edu (Postfix) with ESMTP id 628D86051830; Sat, 15 Nov 2025 01:15:23 -0500 (EST) Subject: |SUCCESS| pw158746 [PATCH] app/proc-info: allow overriding defaults From: dpdklab@iol.unh.edu To: Test Report Cc: dpdk-test-reports@iol.unh.edu In-Reply-To: <20251112130326.2674728-1-mprajapat@marvell.com> References: <20251112130326.2674728-1-mprajapat@marvell.com> Content-Type: text/plain X-BeenThere: test-report@dpdk.org X-Mailman-Version: 2.1.29 Precedence: list List-Id: automatic DPDK test reports List-Unsubscribe: , List-Archive: List-Post: List-Help: List-Subscribe: , Errors-To: test-report-bounces@dpdk.org Test-Label: iol-compile-amd64-testing Test-Status: SUCCESS http://dpdk.org/patch/158746 _Testing PASS_ Submitter: Mohit Kumar Parjapat Date: Wednesday, November 12 2025 13:03:13 DPDK git baseline: Repo:dpdk Branch: master CommitID:be0112878b4fc3a1b918370ed2fe615c52039d77 158746 --> testing pass Upstream job id: Windows-Compile-DPDK-Native#32357 Test environment and result as below: +-------------------------------+--------------------+------------------+-------------------+-------------------------+----------------------+ | Environment | dpdk_meson_compile | dpdk_compile_ovs | dpdk_msvc_compile | dpdk_llvm_clang_compile | dpdk_mingw64_compile | +===============================+====================+==================+===================+=========================+======================+ | Ubuntu 20.04 | PASS | SKIPPED | SKIPPED | SKIPPED | SKIPPED | +-------------------------------+--------------------+------------------+-------------------+-------------------------+----------------------+ | FreeBSD 14.2 | PASS | SKIPPED | SKIPPED | SKIPPED | SKIPPED | +-------------------------------+--------------------+------------------+-------------------+-------------------------+----------------------+ | CentOS Stream 9 | PASS | SKIPPED | SKIPPED | SKIPPED | SKIPPED | +-------------------------------+--------------------+------------------+-------------------+-------------------------+----------------------+ | CentOS Stream 10 | PASS | SKIPPED | SKIPPED | SKIPPED | SKIPPED | +-------------------------------+--------------------+------------------+-------------------+-------------------------+----------------------+ | Debian GNU/Linux 12 | PASS | SKIPPED | SKIPPED | SKIPPED | SKIPPED | +-------------------------------+--------------------+------------------+-------------------+-------------------------+----------------------+ | Fedora Linux 42 | PASS | PASS | SKIPPED | SKIPPED | SKIPPED | +-------------------------------+--------------------+------------------+-------------------+-------------------------+----------------------+ | openSUSE Leap 15.6 | PASS | SKIPPED | SKIPPED | SKIPPED | SKIPPED | +-------------------------------+--------------------+------------------+-------------------+-------------------------+----------------------+ | Red Hat Enterprise Linux 8.10 | PASS | SKIPPED | SKIPPED | SKIPPED | SKIPPED | +-------------------------------+--------------------+------------------+-------------------+-------------------------+----------------------+ | Red Hat Enterprise Linux 9.5 | PASS | SKIPPED | SKIPPED | SKIPPED | SKIPPED | +-------------------------------+--------------------+------------------+-------------------+-------------------------+----------------------+ | Ubuntu 22.04 | PASS | SKIPPED | SKIPPED | SKIPPED | SKIPPED | +-------------------------------+--------------------+------------------+-------------------+-------------------------+----------------------+ | Ubuntu 24.04 | PASS | PASS | SKIPPED | SKIPPED | SKIPPED | +-------------------------------+--------------------+------------------+-------------------+-------------------------+----------------------+ | Alpine Linux 3.22.0 | PASS | SKIPPED | SKIPPED | SKIPPED | SKIPPED | +-------------------------------+--------------------+------------------+-------------------+-------------------------+----------------------+ | Windows Server 2022 | SKIPPED | SKIPPED | PASS | PASS | PASS | +-------------------------------+--------------------+------------------+-------------------+-------------------------+----------------------+ Ubuntu 20.04 Kernel: 4.19 Compiler: gcc gcc (Ubuntu 9.4.0-1ubuntu1~20.04.2) 9.4.0 FreeBSD 14.2 Kernel: 14.2-RELEASE Compiler: clang 18.1.6 CentOS Stream 9 Kernel: 5.15 Compiler: gcc gcc (GCC) 11.5.0 20240719 (Red Hat 11.5.0-11) CentOS Stream 10 Kernel: 5.15 Compiler: gcc gcc (GCC) 14.2.1 20250110 (Red Hat 14.2.1-8) Debian GNU/Linux 12 Kernel: 5.15 Compiler: gcc gcc (Debian 12.2.0-14+deb12u1) 12.2.0 Fedora Linux 42 Kernel: 5.15 Compiler: clang gcc (GCC) 15.2.1 20250808 (Red Hat 15.2.1-1) openSUSE Leap 15.6 Kernel: 5.15 Compiler: gcc gcc (SUSE Linux) 7.5.0 Red Hat Enterprise Linux 8.10 Kernel: 5.15 Compiler: gcc gcc (GCC) 8.5.0 20210514 (Red Hat 8.5.0-22) Red Hat Enterprise Linux 9.5 Kernel: 5.15 Compiler: gcc gcc (GCC) 11.5.0 20240719 (Red Hat 11.5.0-2) Ubuntu 22.04 Kernel: 5.15 Compiler: gcc gcc (Ubuntu 11.4.0-1ubuntu1~22.04) 11.4.0 Ubuntu 24.04 Kernel: 5.15 Compiler: gcc gcc (Ubuntu 13.3.0-6ubuntu2~24.04) 13.3.0 Alpine Linux 3.22.0 Kernel: 5.15 Compiler: gcc gcc (Alpine 14.2.0) 14.2.0 Windows Server 2022 Kernel: 10.0.20348.2031 Compiler: clang 15.0.7, gcc 14.1.0 (MinGW), and MSVC VS 19.39.33521 To view detailed results, visit: https://lab.dpdk.org/results/dashboard/patchsets/34566/ UNH-IOL DPDK Community Lab To manage your email subscriptions, visit: https://lab.dpdk.org/results/dashboard/preferences/subscriptions/