From mboxrd@z Thu Jan 1 00:00:00 1970 Return-Path: Received: from mails.dpdk.org (mails.dpdk.org [217.70.189.124]) by inbox.dpdk.org (Postfix) with ESMTP id 4497648B14 for ; Sat, 15 Nov 2025 07:32:39 +0100 (CET) Received: from mails.dpdk.org (localhost [127.0.0.1]) by mails.dpdk.org (Postfix) with ESMTP id 2A529400D6; Sat, 15 Nov 2025 07:32:39 +0100 (CET) Received: from mail-pj1-f97.google.com (mail-pj1-f97.google.com [209.85.216.97]) by mails.dpdk.org (Postfix) with ESMTP id 07E54400D6 for ; Sat, 15 Nov 2025 07:32:37 +0100 (CET) Received: by mail-pj1-f97.google.com with SMTP id 98e67ed59e1d1-3436a97f092so3246874a91.3 for ; Fri, 14 Nov 2025 22:32:37 -0800 (PST) DKIM-Signature: v=1; a=rsa-sha256; c=relaxed/relaxed; d=iol.unh.edu; s=unh-iol; t=1763188357; x=1763793157; darn=dpdk.org; h=references:in-reply-to:cc:to:from:subject:message-id:date:from:to :cc:subject:date:message-id:reply-to; bh=rYwKbwJccBno3dAFJIQG62FYWEIlF14Dtyc2x3JcnsA=; b=OIQ6jpAZmhVWTlWXkV5Tw3tNsTendv+SSem6ItuezpXXCz8lDTccSKxL4PuuRDMXrV 8tOEwKKD4DmLxIHEhFGpsngNzK5EOj1nUq4bS6skqxVkdpEBglGEWI1OVeCbfoVwLMwl bdkLsxaS9cy/fcX8gd8A91E2ErwjkaBI9bGNk= X-Google-DKIM-Signature: v=1; a=rsa-sha256; c=relaxed/relaxed; d=1e100.net; s=20230601; t=1763188357; x=1763793157; h=references:in-reply-to:cc:to:from:subject:message-id:date:x-gm-gg :x-gm-message-state:from:to:cc:subject:date:message-id:reply-to; bh=rYwKbwJccBno3dAFJIQG62FYWEIlF14Dtyc2x3JcnsA=; b=IBo7Sy/fxG7HYVqZcglfaRZx4DarTIANDR/ah+hiLPaWX5XYDWu6lf5M0S/EaCDSrZ wLmCjywLCBm4DMV894ev5O/Fu8RxzZABWkey4BJqyyP/7/EeynAzOMH990e5F6nmbm6z F+2S3XZJ4RFbV8vml+8wHqoKNxng/OI4AEh54QRMUucAy9dasxx1HWDMbo3yaCcTTyQA sQFFFgZzMqNIySJX9ccQfM96j63L+vbiJE+pEP03uOqVfz7p+Ov4Y1MmodgfJJXbOhYY aDuTJ7XtfJhCod+R0bKUVuiTko5ErF0xoenJ0AcR9HILc6g3/x/VCbudawc7pcBey4tP em2A== X-Gm-Message-State: AOJu0YwDPJjOAsM/bofNoGU15jMnE0eiMrj0oDmg+fpTidY50gX1UjaF otSgdf8mqViL1dfKGfs8rWwff4pydwkOt/djUpIYNuX4YXIXWUcSGDJkpbAcfs21T3N54kyI2Ho X1Kr5HPEaATxwJIapwcLsr5AuIRBgTnZKLtxbyIYtYWhY X-Gm-Gg: ASbGnctZ2IieGeyoTHMGbPNkNSpEGv+Qlsw6Yq41/gAO3uiU5TsVAgxNfyYNt0N39CS xbxx7Js3F71xgq+cbBXS/yjgbxv/GFNZYdQ81nMlDf29rbYwO1teyjw7aDjcb3dhkwSm5ucrIHP dcv7ejM5ps8ClLrrLYuuK9pBi/unhi9BpW671p/9rH1bCFMnPAKPN+wuaPtVqIvXNhJQzOmF2aG onqWgKA20zBalj9yqrjW2TpBGDXRFjZIDrgQbZAYImf3qT/hJPlZy5AHNDDKNkp3nuqFHqwKLgu mlcyOpERCi8md6oPbEND16SrwjqL7cMNoJDDPqb5vDL2DM7TkwGYNgRRB1wF9K+lY0FyG7Nuqjq NZwC+Ing40U+f8VE5uzfD3bMG/BZzo4Q= X-Google-Smtp-Source: AGHT+IHwpxmHPM1eSwHonQeCWajbPcUQ4NAvPpffF1KZRl9+aqtAzPYone93tGvvpPB3G5lnR/OIsaGjUf79 X-Received: by 2002:a17:90b:5904:b0:32d:a0f7:fa19 with SMTP id 98e67ed59e1d1-343fa52bd87mr6643379a91.17.1763188357154; Fri, 14 Nov 2025 22:32:37 -0800 (PST) Received: from postal.iol.unh.edu (postal.iol.unh.edu. [132.177.123.84]) by smtp-relay.gmail.com with ESMTPS id 98e67ed59e1d1-343ed58c5absm851665a91.7.2025.11.14.22.32.37 (version=TLS1_2 cipher=ECDHE-ECDSA-AES128-GCM-SHA256 bits=128/128); Fri, 14 Nov 2025 22:32:37 -0800 (PST) X-Relaying-Domain: iol.unh.edu Date: Fri, 14 Nov 2025 22:32:37 -0800 (PST) Message-ID: <69181e85.170a0220.2c42d3.a1a4SMTPIN_ADDED_MISSING@mx.google.com> Received: from [172.21.0.3] (unknown [172.18.0.240]) by postal.iol.unh.edu (Postfix) with ESMTP id 337AD60003E7; Sat, 15 Nov 2025 01:32:36 -0500 (EST) Subject: |SUCCESS| pw158784-158787 [PATCH] [v5,4/4] bus/fslmc: add support fo From: dpdklab@iol.unh.edu To: Test Report Cc: dpdk-test-reports@iol.unh.edu, Stephen Hemminger In-Reply-To: <20251114062454.2731559-4-hemant.agrawal@nxp.com> References: <20251114062454.2731559-4-hemant.agrawal@nxp.com> Content-Type: text/plain X-BeenThere: test-report@dpdk.org X-Mailman-Version: 2.1.29 Precedence: list List-Id: automatic DPDK test reports List-Unsubscribe: , List-Archive: List-Post: List-Help: List-Subscribe: , Errors-To: test-report-bounces@dpdk.org Test-Label: iol-unit-amd64-testing Test-Status: SUCCESS http://dpdk.org/patch/158787 _Testing PASS_ Submitter: Hemant Agrawal Date: Friday, November 14 2025 06:24:54 DPDK git baseline: Repo:dpdk-next-net Branch: master CommitID:fca6f2910345c25a5050a0b586e0d324ca616cbb 158784-158787 --> testing pass Upstream job id: Generic-VM-Unit-Test-DPDK#32576 Test environment and result as below: +-------------------------------+----------------+ | Environment | dpdk_unit_test | +===============================+================+ | CentOS Stream 9 | PASS | +-------------------------------+----------------+ | Debian GNU/Linux 12 | PASS | +-------------------------------+----------------+ | CentOS Stream 10 | PASS | +-------------------------------+----------------+ | Fedora Linux 40 | PASS | +-------------------------------+----------------+ | Fedora Linux 41 | PASS | +-------------------------------+----------------+ | Fedora Linux 42 | PASS | +-------------------------------+----------------+ | Red Hat Enterprise Linux 9.5 | PASS | +-------------------------------+----------------+ | Red Hat Enterprise Linux 8.10 | PASS | +-------------------------------+----------------+ | Ubuntu 22.04 | PASS | +-------------------------------+----------------+ | Ubuntu 24.04 | PASS | +-------------------------------+----------------+ | Ubuntu 20.04 | PASS | +-------------------------------+----------------+ | Windows Server 2022 | PASS | +-------------------------------+----------------+ CentOS Stream 9 Kernel: 5.15 Compiler: gcc gcc (GCC) 11.5.0 20240719 (Red Hat 11.5.0-11) Debian GNU/Linux 12 Kernel: 5.15 Compiler: gcc gcc (Debian 12.2.0-14+deb12u1) 12.2.0 CentOS Stream 10 Kernel: 5.15 Compiler: gcc gcc (GCC) 14.2.1 20250110 (Red Hat 14.2.1-8) Fedora Linux 40 Kernel: 5.15 Compiler: clang gcc (GCC) 14.2.1 20240912 (Red Hat 14.2.1-3) Fedora Linux 41 Kernel: 5.15 Compiler: gcc gcc (GCC) 14.3.1 20250523 (Red Hat 14.3.1-1) Fedora Linux 42 Kernel: 5.15 Compiler: gcc gcc (GCC) 15.2.1 20250808 (Red Hat 15.2.1-1) Red Hat Enterprise Linux 9.5 Kernel: 5.15 Compiler: gcc gcc (GCC) 11.5.0 20240719 (Red Hat 11.5.0-2) Red Hat Enterprise Linux 8.10 Kernel: 5.15 Compiler: gcc gcc (GCC) 8.5.0 20210514 (Red Hat 8.5.0-22) Ubuntu 22.04 Kernel: 5.15 Compiler: gcc gcc (Ubuntu 11.4.0-1ubuntu1~22.04) 11.4.0 Ubuntu 24.04 Kernel: 5.15 Compiler: gcc gcc (Ubuntu 13.3.0-6ubuntu2~24.04) 13.3.0 Ubuntu 20.04 Kernel: 5.15 Compiler: gcc gcc (Ubuntu 9.4.0-1ubuntu1~20.04.2) 9.4.0 Windows Server 2022 Kernel: 10.0.20348.2031 Compiler: clang 15.0.7, gcc 14.1.0 (MinGW), and MSVC VS 19.39.33521 To view detailed results, visit: https://lab.dpdk.org/results/dashboard/patchsets/34589/ UNH-IOL DPDK Community Lab To manage your email subscriptions, visit: https://lab.dpdk.org/results/dashboard/preferences/subscriptions/