From mboxrd@z Thu Jan 1 00:00:00 1970 Return-Path: Received: from mails.dpdk.org (mails.dpdk.org [217.70.189.124]) by inbox.dpdk.org (Postfix) with ESMTP id 3867048B15 for ; Sat, 15 Nov 2025 08:02:58 +0100 (CET) Received: from mails.dpdk.org (localhost [127.0.0.1]) by mails.dpdk.org (Postfix) with ESMTP id 317A0400D6; Sat, 15 Nov 2025 08:02:58 +0100 (CET) Received: from mail-il1-f226.google.com (mail-il1-f226.google.com [209.85.166.226]) by mails.dpdk.org (Postfix) with ESMTP id 199E2400D6 for ; Sat, 15 Nov 2025 08:02:57 +0100 (CET) Received: by mail-il1-f226.google.com with SMTP id e9e14a558f8ab-433261f2045so12060555ab.3 for ; Fri, 14 Nov 2025 23:02:57 -0800 (PST) DKIM-Signature: v=1; a=rsa-sha256; c=relaxed/relaxed; d=iol.unh.edu; s=unh-iol; t=1763190176; x=1763794976; darn=dpdk.org; h=references:in-reply-to:cc:to:from:subject:message-id:date:from:to :cc:subject:date:message-id:reply-to; bh=5Vj8gTYeGGI8HxQz7H4Wm3eMKy7aThTOI0MIDM7TSic=; b=LHIpXClu2nOdKBdHtV7ylFxRINkP2HglLbCy8Zd343/HO+rcFyzurO/oS8FNdbNAke H/QUhUei/B+eTCJNoelCgFoy+ha6Y78YzHFnJbF2CVa0KJEI8zBSkvAej8qQhkvI6wF7 vrJA6pgiSwZu0oHh50vBhEGEtTCllUQieMKek= X-Google-DKIM-Signature: v=1; a=rsa-sha256; c=relaxed/relaxed; d=1e100.net; s=20230601; t=1763190176; x=1763794976; h=references:in-reply-to:cc:to:from:subject:message-id:date:x-gm-gg :x-gm-message-state:from:to:cc:subject:date:message-id:reply-to; bh=5Vj8gTYeGGI8HxQz7H4Wm3eMKy7aThTOI0MIDM7TSic=; b=KH6MysUKgTj5f2t5ZxfUio2NoFNMvW5M8aQGkiRvY+oK0WDA2IhKZKKpQ+tMf3MxEp kfiypRwCiDNZtE4DokFK2JRIeL59FvRsJuhdGDwAthnPjUFtDi0CH1Wim5oppTja8u7N Jh365bD44YvjiwNNB46VSCTUhJpCMnruHs8dODoJ39kwYoQ0RMT19Tx1uibe52yeOOhZ S7xeL8xB2jjgMBiYhDxSyVa8+pAE9jFlwKCNN8DIniNM7P4B/x9eYLEu4qllszNI2AlL X7a85exh9CxIlsQsELxQcRI+j3pm0li/h8KhN2SKKX80t6l4gZaM7VddKyKW1GXthodH NBkw== X-Gm-Message-State: AOJu0YzDkdnxRwgfJCPc933ktYiCvWyoPAPjD+XyBxKWhcna1Ocj4Q5k xcUCz3R1qucoDoCbqx3SCLyzkKf+GSLZ+mAsp3ypI63rj3CR3CVqSHqSoQpWkn4m1OB8Xr47QVh DhPh+Hk6+y+M04+zzc/7+2y0DVNWGwVCUeykCNJW7TK3/ X-Gm-Gg: ASbGncvOeCImO2L6gpdmEh1IndeGqvdgjb0UY6A0SPRxQgKtDLhJDI3pZTgdN8x9DSZ VTUBr8jCrtsBlPcFuW2XZu6FgfymRApv6/kwFHqwh0iOkm26Ft+gK5G7YUhNdQSqPoSvF0A+TUV 5wzgIjoPSX4GV4lbChtnMKwqQLT9+66Xdh4de9hCWreU1BQ2iKnMk+fS8j0LDQ5oX7/BCXU8473 J7a4PAzJyW7+gl18IGbF5DrC+iYFSQANutA20QQkBjvTyw5B4OXzGwp3iWvYTAw1IxgeFy6GMd8 7uxHBhhNhbfn7TRUChptgxstHKcruFM8QQYrNwFqS91csrOPZB/8jcUWvb2dIOg40g7TJtZyyo0 fnLVPPFcqZcjTZQ7W8lqobtlnz2TGcM8= X-Google-Smtp-Source: AGHT+IGcndikLDhZnBOtYSD3E/Tl3wZUXVBsrF7NRCOyLPtW15JXuo276TNWJgphz8BBFSrQcI7AHXjJV+yV X-Received: by 2002:a92:c081:0:b0:434:96ea:ff66 with SMTP id e9e14a558f8ab-43496eb0130mr27694525ab.39.1763190176355; Fri, 14 Nov 2025 23:02:56 -0800 (PST) Received: from postal.iol.unh.edu (postal.iol.unh.edu. [132.177.123.84]) by smtp-relay.gmail.com with ESMTPS id 8926c6da1cb9f-5b7bd31a8b3sm368893173.19.2025.11.14.23.02.56 (version=TLS1_2 cipher=ECDHE-ECDSA-AES128-GCM-SHA256 bits=128/128); Fri, 14 Nov 2025 23:02:56 -0800 (PST) X-Relaying-Domain: iol.unh.edu Date: Fri, 14 Nov 2025 23:02:56 -0800 (PST) Message-ID: <691825a0.050a0220.13c7e3.1809SMTPIN_ADDED_MISSING@mx.google.com> Received: from [172.21.0.5] (unknown [172.18.0.240]) by postal.iol.unh.edu (Postfix) with ESMTP id E669C6051830; Sat, 15 Nov 2025 02:02:55 -0500 (EST) Subject: |SUCCESS| pw158752 [PATCH] ethdev: add GENEVE encapsulation and deca From: dpdklab@iol.unh.edu To: Test Report Cc: dpdk-test-reports@iol.unh.edu, Stephen Hemminger In-Reply-To: <20251113102158.48040-1-sunyang.wu@jaguarmicro.com> References: <20251113102158.48040-1-sunyang.wu@jaguarmicro.com> Content-Type: text/plain X-BeenThere: test-report@dpdk.org X-Mailman-Version: 2.1.29 Precedence: list List-Id: automatic DPDK test reports List-Unsubscribe: , List-Archive: List-Post: List-Help: List-Subscribe: , Errors-To: test-report-bounces@dpdk.org Test-Label: iol-compile-amd64-testing Test-Status: SUCCESS http://dpdk.org/patch/158752 _Testing PASS_ Submitter: Sunyang Wu Date: Thursday, November 13 2025 10:21:58 DPDK git baseline: Repo:dpdk-next-net Branch: master CommitID:29807269854f9bfc72f1323273de8e23adc724d4 158752 --> testing pass Upstream job id: Windows-Compile-DPDK-Native#32362 Test environment and result as below: +-------------------------------+--------------------+-------------------+------------------+-------------------------+ | Environment | dpdk_meson_compile | dpdk_msvc_compile | dpdk_compile_ovs | dpdk_llvm_clang_compile | +===============================+====================+===================+==================+=========================+ | Ubuntu 20.04 | PASS | SKIPPED | SKIPPED | SKIPPED | +-------------------------------+--------------------+-------------------+------------------+-------------------------+ | FreeBSD 14.2 | PASS | SKIPPED | SKIPPED | SKIPPED | +-------------------------------+--------------------+-------------------+------------------+-------------------------+ | Ubuntu 22.04 | PASS | SKIPPED | SKIPPED | SKIPPED | +-------------------------------+--------------------+-------------------+------------------+-------------------------+ | CentOS Stream 9 | PASS | SKIPPED | SKIPPED | SKIPPED | +-------------------------------+--------------------+-------------------+------------------+-------------------------+ | CentOS Stream 10 | PASS | SKIPPED | SKIPPED | SKIPPED | +-------------------------------+--------------------+-------------------+------------------+-------------------------+ | Debian GNU/Linux 12 | PASS | SKIPPED | SKIPPED | SKIPPED | +-------------------------------+--------------------+-------------------+------------------+-------------------------+ | Fedora Linux 42 | PASS | SKIPPED | PASS | SKIPPED | +-------------------------------+--------------------+-------------------+------------------+-------------------------+ | openSUSE Leap 15.6 | PASS | SKIPPED | SKIPPED | SKIPPED | +-------------------------------+--------------------+-------------------+------------------+-------------------------+ | Red Hat Enterprise Linux 8.10 | PASS | SKIPPED | SKIPPED | SKIPPED | +-------------------------------+--------------------+-------------------+------------------+-------------------------+ | Red Hat Enterprise Linux 9.5 | PASS | SKIPPED | SKIPPED | SKIPPED | +-------------------------------+--------------------+-------------------+------------------+-------------------------+ | Ubuntu 24.04 | PASS | SKIPPED | PASS | SKIPPED | +-------------------------------+--------------------+-------------------+------------------+-------------------------+ | Alpine Linux 3.22.0 | PASS | SKIPPED | SKIPPED | SKIPPED | +-------------------------------+--------------------+-------------------+------------------+-------------------------+ | Windows Server 2022 | SKIPPED | PASS | SKIPPED | PASS | +-------------------------------+--------------------+-------------------+------------------+-------------------------+ Ubuntu 20.04 Kernel: 4.19 Compiler: gcc gcc (Ubuntu 9.4.0-1ubuntu1~20.04.2) 9.4.0 FreeBSD 14.2 Kernel: 14.2-RELEASE Compiler: clang 18.1.6 Ubuntu 22.04 Kernel: 5.15 Compiler: gcc gcc (Ubuntu 11.4.0-1ubuntu1~22.04) 11.4.0 CentOS Stream 9 Kernel: 5.15 Compiler: gcc gcc (GCC) 11.5.0 20240719 (Red Hat 11.5.0-11) CentOS Stream 10 Kernel: 5.15 Compiler: gcc gcc (GCC) 14.2.1 20250110 (Red Hat 14.2.1-8) Debian GNU/Linux 12 Kernel: 5.15 Compiler: gcc gcc (Debian 12.2.0-14+deb12u1) 12.2.0 Fedora Linux 42 Kernel: 5.15 Compiler: clang gcc (GCC) 15.2.1 20250808 (Red Hat 15.2.1-1) openSUSE Leap 15.6 Kernel: 5.15 Compiler: gcc gcc (SUSE Linux) 7.5.0 Red Hat Enterprise Linux 8.10 Kernel: 5.15 Compiler: gcc gcc (GCC) 8.5.0 20210514 (Red Hat 8.5.0-22) Red Hat Enterprise Linux 9.5 Kernel: 5.15 Compiler: gcc gcc (GCC) 11.5.0 20240719 (Red Hat 11.5.0-2) Ubuntu 24.04 Kernel: 5.15 Compiler: gcc gcc (Ubuntu 13.3.0-6ubuntu2~24.04) 13.3.0 Alpine Linux 3.22.0 Kernel: 5.15 Compiler: gcc gcc (Alpine 14.2.0) 14.2.0 Windows Server 2022 Kernel: 10.0.20348.2031 Compiler: clang 15.0.7, gcc 14.1.0 (MinGW), and MSVC VS 19.39.33521 To view detailed results, visit: https://lab.dpdk.org/results/dashboard/patchsets/34569/ UNH-IOL DPDK Community Lab To manage your email subscriptions, visit: https://lab.dpdk.org/results/dashboard/preferences/subscriptions/