From mboxrd@z Thu Jan 1 00:00:00 1970 Return-Path: Received: from mails.dpdk.org (mails.dpdk.org [217.70.189.124]) by inbox.dpdk.org (Postfix) with ESMTP id 3DAD448B16 for ; Sat, 15 Nov 2025 08:12:28 +0100 (CET) Received: from mails.dpdk.org (localhost [127.0.0.1]) by mails.dpdk.org (Postfix) with ESMTP id 1F10F400D6; Sat, 15 Nov 2025 08:12:28 +0100 (CET) Received: from mail-qv1-f98.google.com (mail-qv1-f98.google.com [209.85.219.98]) by mails.dpdk.org (Postfix) with ESMTP id E60CC400D6 for ; Sat, 15 Nov 2025 08:12:26 +0100 (CET) Received: by mail-qv1-f98.google.com with SMTP id 6a1803df08f44-882451b353fso18276936d6.1 for ; Fri, 14 Nov 2025 23:12:26 -0800 (PST) DKIM-Signature: v=1; a=rsa-sha256; c=relaxed/relaxed; d=iol.unh.edu; s=unh-iol; t=1763190746; x=1763795546; darn=dpdk.org; h=references:in-reply-to:cc:to:from:subject:message-id:date:from:to :cc:subject:date:message-id:reply-to; bh=XrV16gTga24tB9fE0ISZ0Metwn9yodofPUL3kNmZ0k0=; b=d65aOMmlerqId1t+XFq+AIBem/QFMKNoFfLxhVFDGLFs5Oqil+RVQJLwGGXuMg+Yyj c6JAkPR0I7/9Z2otPHh8okzEOEyB/ZW2ybGn2lYnQNfoJNuZ0e4XNE3wcYORR5NVOd0D 1NXUabMqIm7aqEZ+t4y0sC0MJzAxO31JzyAh4= X-Google-DKIM-Signature: v=1; a=rsa-sha256; c=relaxed/relaxed; d=1e100.net; s=20230601; t=1763190746; x=1763795546; h=references:in-reply-to:cc:to:from:subject:message-id:date:x-gm-gg :x-gm-message-state:from:to:cc:subject:date:message-id:reply-to; bh=XrV16gTga24tB9fE0ISZ0Metwn9yodofPUL3kNmZ0k0=; b=W7PF50G6ejdcKTdAIC6fQCbR9u18fH8GdEmqYrlvxvoWzIRSFkF0muIMqZc1qByeDy CmX87emldWOJS+0WC32fJ3Icfm+0GYadnTlvfAshhA4YPMlRpn+XyxBsgneRbVpC5vJ+ 37jl5EHtWjfXEEJuFuWikKbd4y3xZP2DNhQCuOfYPfFLXGozDATvbR6JUxrtZUOOG0+t ME2PVjlYm3jpJGXae+AFKVOCdtOZ6Dd5cuI2zNBPYqPOgm1UAEMiNGQf7T9Hc77Go4QP hMWCk1SlplEilf+SVO90g1RMd7OyXlIaPk0h3Ongu1EIj1+X4RfBd7Hn+Ry/xfNKhDwH Ah+A== X-Gm-Message-State: AOJu0YzAw/hDmQlSljqma9t51ESVhIw7hhppRykN5lWnxd8NaLM9oKok zjoC5alcwxwu/W4MLROjQacJJtdVLihsgTSUmbL8hhXatgH0I4/3XipMWFTxSDsVFf1KCDnFeNw hkw6xaa4bLGy9BfQX3FWnqjgLoeMvAy3TAp0c8ZmQvv/A X-Gm-Gg: ASbGncuOO0pmAitPUaz8eqkujT7lw2MqRTvHJWEzh2iN1wES0bw6svqmhhEoCIz2xfn NEFQEiJRB2UdLJLR/5+ZJJyYhtmibSxF+pxbgyS9cYd7CPYEvdGTfN8tSE4n71bILgcCG+o6t54 OSXGW5gE1Op0XLgfmgTtuLh245/WPmGcTQEuPN9jun6qHpg/sCiwdms2PX2Ph5ThOF9yRSbyr0L TvCwW6HRq3V1UzWJ42TS6uYh8xda9Ds1QWHU8Z9ZiqfTWpp90tCf8MMbf4AizUgqpEDYZwO+PBL oIHa25M9JqJgphm5QKsuN8zqtVWSg74P+oufqeF2bvskNxY5NR7AaJUAnNwOgGb8CddXUjDjTpF VzR/BdGAJUzDzXKieI7bf7Y9ImYApKvM= X-Google-Smtp-Source: AGHT+IECm9mpgijU9O+b4JES3iuUeSaWLIjbREFT87llqkQhCL0YEboj/mmfPxLVvE3GOYNpBzmYszFFHsfw X-Received: by 2002:a05:6214:c65:b0:882:4dec:42b9 with SMTP id 6a1803df08f44-882925f280amr83379096d6.26.1763190746212; Fri, 14 Nov 2025 23:12:26 -0800 (PST) Received: from postal.iol.unh.edu (postal.iol.unh.edu. [132.177.123.84]) by smtp-relay.gmail.com with ESMTPS id 6a1803df08f44-88286139639sm8390866d6.0.2025.11.14.23.12.26 (version=TLS1_2 cipher=ECDHE-ECDSA-AES128-GCM-SHA256 bits=128/128); Fri, 14 Nov 2025 23:12:26 -0800 (PST) X-Relaying-Domain: iol.unh.edu Date: Fri, 14 Nov 2025 23:12:26 -0800 (PST) Message-ID: <691827da.050a0220.391baa.92a1SMTPIN_ADDED_MISSING@mx.google.com> Received: from [172.21.0.3] (unknown [172.18.0.240]) by postal.iol.unh.edu (Postfix) with ESMTP id EE1396051830; Sat, 15 Nov 2025 02:12:25 -0500 (EST) Subject: |SUCCESS| pw158752 [PATCH] ethdev: add GENEVE encapsulation and deca From: dpdklab@iol.unh.edu To: Test Report Cc: dpdk-test-reports@iol.unh.edu, Stephen Hemminger In-Reply-To: <20251113102158.48040-1-sunyang.wu@jaguarmicro.com> References: <20251113102158.48040-1-sunyang.wu@jaguarmicro.com> Content-Type: text/plain X-BeenThere: test-report@dpdk.org X-Mailman-Version: 2.1.29 Precedence: list List-Id: automatic DPDK test reports List-Unsubscribe: , List-Archive: List-Post: List-Help: List-Subscribe: , Errors-To: test-report-bounces@dpdk.org Test-Label: iol-compile-amd64-testing Test-Status: SUCCESS http://dpdk.org/patch/158752 _Testing PASS_ Submitter: Sunyang Wu Date: Thursday, November 13 2025 10:21:58 DPDK git baseline: Repo:dpdk-next-net Branch: master CommitID:29807269854f9bfc72f1323273de8e23adc724d4 158752 --> testing pass Upstream job id: Windows-Compile-DPDK-Native#32363 Test environment and result as below: +-------------------------------+--------------------+-------------------+------------------+-------------------------+----------------------+ | Environment | dpdk_meson_compile | dpdk_msvc_compile | dpdk_compile_ovs | dpdk_llvm_clang_compile | dpdk_mingw64_compile | +===============================+====================+===================+==================+=========================+======================+ | Ubuntu 20.04 | PASS | SKIPPED | SKIPPED | SKIPPED | SKIPPED | +-------------------------------+--------------------+-------------------+------------------+-------------------------+----------------------+ | FreeBSD 14.2 | PASS | SKIPPED | SKIPPED | SKIPPED | SKIPPED | +-------------------------------+--------------------+-------------------+------------------+-------------------------+----------------------+ | Ubuntu 22.04 | PASS | SKIPPED | SKIPPED | SKIPPED | SKIPPED | +-------------------------------+--------------------+-------------------+------------------+-------------------------+----------------------+ | CentOS Stream 9 | PASS | SKIPPED | SKIPPED | SKIPPED | SKIPPED | +-------------------------------+--------------------+-------------------+------------------+-------------------------+----------------------+ | CentOS Stream 10 | PASS | SKIPPED | SKIPPED | SKIPPED | SKIPPED | +-------------------------------+--------------------+-------------------+------------------+-------------------------+----------------------+ | Debian GNU/Linux 12 | PASS | SKIPPED | SKIPPED | SKIPPED | SKIPPED | +-------------------------------+--------------------+-------------------+------------------+-------------------------+----------------------+ | Fedora Linux 42 | PASS | SKIPPED | PASS | SKIPPED | SKIPPED | +-------------------------------+--------------------+-------------------+------------------+-------------------------+----------------------+ | openSUSE Leap 15.6 | PASS | SKIPPED | SKIPPED | SKIPPED | SKIPPED | +-------------------------------+--------------------+-------------------+------------------+-------------------------+----------------------+ | Red Hat Enterprise Linux 8.10 | PASS | SKIPPED | SKIPPED | SKIPPED | SKIPPED | +-------------------------------+--------------------+-------------------+------------------+-------------------------+----------------------+ | Red Hat Enterprise Linux 9.5 | PASS | SKIPPED | SKIPPED | SKIPPED | SKIPPED | +-------------------------------+--------------------+-------------------+------------------+-------------------------+----------------------+ | Ubuntu 24.04 | PASS | SKIPPED | PASS | SKIPPED | SKIPPED | +-------------------------------+--------------------+-------------------+------------------+-------------------------+----------------------+ | Alpine Linux 3.22.0 | PASS | SKIPPED | SKIPPED | SKIPPED | SKIPPED | +-------------------------------+--------------------+-------------------+------------------+-------------------------+----------------------+ | Windows Server 2022 | SKIPPED | PASS | SKIPPED | PASS | PASS | +-------------------------------+--------------------+-------------------+------------------+-------------------------+----------------------+ Ubuntu 20.04 Kernel: 4.19 Compiler: gcc gcc (Ubuntu 9.4.0-1ubuntu1~20.04.2) 9.4.0 FreeBSD 14.2 Kernel: 14.2-RELEASE Compiler: clang 18.1.6 Ubuntu 22.04 Kernel: 5.15 Compiler: gcc gcc (Ubuntu 11.4.0-1ubuntu1~22.04) 11.4.0 CentOS Stream 9 Kernel: 5.15 Compiler: gcc gcc (GCC) 11.5.0 20240719 (Red Hat 11.5.0-11) CentOS Stream 10 Kernel: 5.15 Compiler: gcc gcc (GCC) 14.2.1 20250110 (Red Hat 14.2.1-8) Debian GNU/Linux 12 Kernel: 5.15 Compiler: gcc gcc (Debian 12.2.0-14+deb12u1) 12.2.0 Fedora Linux 42 Kernel: 5.15 Compiler: clang gcc (GCC) 15.2.1 20250808 (Red Hat 15.2.1-1) openSUSE Leap 15.6 Kernel: 5.15 Compiler: gcc gcc (SUSE Linux) 7.5.0 Red Hat Enterprise Linux 8.10 Kernel: 5.15 Compiler: gcc gcc (GCC) 8.5.0 20210514 (Red Hat 8.5.0-22) Red Hat Enterprise Linux 9.5 Kernel: 5.15 Compiler: gcc gcc (GCC) 11.5.0 20240719 (Red Hat 11.5.0-2) Ubuntu 24.04 Kernel: 5.15 Compiler: gcc gcc (Ubuntu 13.3.0-6ubuntu2~24.04) 13.3.0 Alpine Linux 3.22.0 Kernel: 5.15 Compiler: gcc gcc (Alpine 14.2.0) 14.2.0 Windows Server 2022 Kernel: 10.0.20348.2031 Compiler: clang 15.0.7, gcc 14.1.0 (MinGW), and MSVC VS 19.39.33521 To view detailed results, visit: https://lab.dpdk.org/results/dashboard/patchsets/34569/ UNH-IOL DPDK Community Lab To manage your email subscriptions, visit: https://lab.dpdk.org/results/dashboard/preferences/subscriptions/