From mboxrd@z Thu Jan 1 00:00:00 1970 Return-Path: Received: from mails.dpdk.org (mails.dpdk.org [217.70.189.124]) by inbox.dpdk.org (Postfix) with ESMTP id 37FA448B16 for ; Sat, 15 Nov 2025 08:12:39 +0100 (CET) Received: from mails.dpdk.org (localhost [127.0.0.1]) by mails.dpdk.org (Postfix) with ESMTP id 3397B400D6; Sat, 15 Nov 2025 08:12:39 +0100 (CET) Received: from mail-ot1-f97.google.com (mail-ot1-f97.google.com [209.85.210.97]) by mails.dpdk.org (Postfix) with ESMTP id E21D8400D6 for ; Sat, 15 Nov 2025 08:12:37 +0100 (CET) Received: by mail-ot1-f97.google.com with SMTP id 46e09a7af769-7c6dbdaced8so1926504a34.1 for ; Fri, 14 Nov 2025 23:12:37 -0800 (PST) DKIM-Signature: v=1; a=rsa-sha256; c=relaxed/relaxed; d=iol.unh.edu; s=unh-iol; t=1763190757; x=1763795557; darn=dpdk.org; h=references:in-reply-to:cc:to:from:subject:message-id:date:from:to :cc:subject:date:message-id:reply-to; bh=C+sg3D2ncZzMaXostalZqsiPdXBhkWB8xq8iv+w94PE=; b=WWKHCfvqeAGlhyHYQDSBx74YwdsVXvtL/ijoWmgWMVgq91C6QF3R22CTuY8tLq1YPk Ixgv5RPhEb6qEjxhetjTJxgBTuA6y5m/K7Vv8rHfFfLOHRLhvCI+YXKrOcri+fQlgCbl x3kSUnX1tvXSEISTCh4fNbGlB8nJJO7cznoXc= X-Google-DKIM-Signature: v=1; a=rsa-sha256; c=relaxed/relaxed; d=1e100.net; s=20230601; t=1763190757; x=1763795557; h=references:in-reply-to:cc:to:from:subject:message-id:date:x-gm-gg :x-gm-message-state:from:to:cc:subject:date:message-id:reply-to; bh=C+sg3D2ncZzMaXostalZqsiPdXBhkWB8xq8iv+w94PE=; b=gqTnqjlz1lYtBzBZkr2fV718JB2NEaWpVQCF3CyCTJ0hvScCvAuXaTT7yZIye/IAzY 4W8X+5S0onaQRJN52oiI9aw5UV5cntL+udlb1+0kXeakJ62hq02z9NjN3uzD3f1xPBNo XmqYlELgBEKJ0asQfwer9KtvJdRBxeXUX8PjIXNdPJf2C8BgpfptYyYNKLzialBeNgqA W2UNcJ/zzc+hFCTDD62TKizZ9mpY2MgWmNJQ+ybcK8NOcoLvI/A8RBtUzAjSya4mg0DD bvykCz4L3rUYhiLvsRExTy+3iLa/7NaUFWPOfYQXyMwCxWyTbLDjEibaa2efcLbTWtft H+XQ== X-Gm-Message-State: AOJu0YwAYL9s1culLm/VVb2oJc1qnR6PQ3HBicxwNB2lmw9ShERYbxYD 1fVETu7KuKYzyAsSzvFhiNbft8HIAClYjBxcey+vHnB7NVu2QFwE6sSHCVYvhuQaX1zGBT8lE0C tuGTArCacYtaI9O6Xbjtb05OA8ZCur4tURxSfJmlAmcLb X-Gm-Gg: ASbGncuzEc34EXThIi3TApUl05fmX7DgZdcXb3WfJHQEva3tooOy5HqbbdSvM3pJsC0 91CDckae2LfKD3vuaqV0FKi32fv1renjKyg7Ix38TNGXY9yODjw/B2uVwM/JAuHjllxufvfuQjm o0Fvp4gJECv/14eUMEXiiEeaOUKOSaBJ6JwkkxkwLgRmuQqsEhtr0zkQBBmgdEpy9Woj67FCQra 4kkelNnqztr1Fgaxq04JxeiM1o8IPSMuvmaMFsb8r7W8jRbv1nB7NgQryo3HxXudoC6y1SCjg9o 28BusfgZICDiqcTMw/KdyNNzOfHFHl0S4s8QR2a9rM9QsYBJfwZnOlZUixi0j9E+1wIrW0j72/d EUW9QdffLNk/LlDcUD1Bh8Dx4w0FoVfA= X-Google-Smtp-Source: AGHT+IHGl85q/gI/ORZaD+AgpyHwv0FLYXyi0uJ3fz+NhtqvylUBwyNOlV4UFG6WNVg84RXsZc7ZwX9FvM9p X-Received: by 2002:a05:6830:4393:b0:7c5:3972:20da with SMTP id 46e09a7af769-7c7445ab10dmr4367538a34.31.1763190757010; Fri, 14 Nov 2025 23:12:37 -0800 (PST) Received: from postal.iol.unh.edu (postal.iol.unh.edu. [132.177.123.84]) by smtp-relay.gmail.com with ESMTPS id 46e09a7af769-7c750dfc23csm83337a34.5.2025.11.14.23.12.36 (version=TLS1_2 cipher=ECDHE-ECDSA-AES128-GCM-SHA256 bits=128/128); Fri, 14 Nov 2025 23:12:37 -0800 (PST) X-Relaying-Domain: iol.unh.edu Date: Fri, 14 Nov 2025 23:12:37 -0800 (PST) Message-ID: <691827e5.050a0220.2e45c7.4323SMTPIN_ADDED_MISSING@mx.google.com> Received: from [172.21.0.4] (unknown [172.18.0.240]) by postal.iol.unh.edu (Postfix) with ESMTP id 76A306051830; Sat, 15 Nov 2025 02:12:36 -0500 (EST) Subject: |SUCCESS| pw158788 [PATCH] net: ipv6 link local compliance with rfc From: dpdklab@iol.unh.edu To: Test Report Cc: dpdk-test-reports@iol.unh.edu In-Reply-To: <20251114105751.54802-3-rjarry@redhat.com> References: <20251114105751.54802-3-rjarry@redhat.com> Content-Type: text/plain X-BeenThere: test-report@dpdk.org X-Mailman-Version: 2.1.29 Precedence: list List-Id: automatic DPDK test reports List-Unsubscribe: , List-Archive: List-Post: List-Help: List-Subscribe: , Errors-To: test-report-bounces@dpdk.org Test-Label: iol-unit-amd64-testing Test-Status: SUCCESS http://dpdk.org/patch/158788 _Testing PASS_ Submitter: Robin Jarry Date: Friday, November 14 2025 10:57:53 DPDK git baseline: Repo:dpdk Branch: master CommitID:be0112878b4fc3a1b918370ed2fe615c52039d77 158788 --> testing pass Upstream job id: Generic-VM-Unit-Test-DPDK#32578 Test environment and result as below: +-------------------------------+----------------+ | Environment | dpdk_unit_test | +===============================+================+ | CentOS Stream 10 | PASS | +-------------------------------+----------------+ | Debian GNU/Linux 12 | PASS | +-------------------------------+----------------+ | CentOS Stream 9 | PASS | +-------------------------------+----------------+ | Fedora Linux 41 | PASS | +-------------------------------+----------------+ | Fedora Linux 40 | PASS | +-------------------------------+----------------+ | Red Hat Enterprise Linux 8.10 | PASS | +-------------------------------+----------------+ | Fedora Linux 42 | PASS | +-------------------------------+----------------+ | Ubuntu 20.04 | PASS | +-------------------------------+----------------+ | Ubuntu 22.04 | PASS | +-------------------------------+----------------+ | Red Hat Enterprise Linux 9.5 | PASS | +-------------------------------+----------------+ | Ubuntu 24.04 | PASS | +-------------------------------+----------------+ | Windows Server 2022 | PASS | +-------------------------------+----------------+ CentOS Stream 10 Kernel: 5.15 Compiler: gcc gcc (GCC) 14.2.1 20250110 (Red Hat 14.2.1-8) Debian GNU/Linux 12 Kernel: 5.15 Compiler: gcc gcc (Debian 12.2.0-14+deb12u1) 12.2.0 CentOS Stream 9 Kernel: 5.15 Compiler: gcc gcc (GCC) 11.5.0 20240719 (Red Hat 11.5.0-11) Fedora Linux 41 Kernel: 5.15 Compiler: gcc gcc (GCC) 14.3.1 20250523 (Red Hat 14.3.1-1) Fedora Linux 40 Kernel: 5.15 Compiler: clang gcc (GCC) 14.2.1 20240912 (Red Hat 14.2.1-3) Red Hat Enterprise Linux 8.10 Kernel: 5.15 Compiler: gcc gcc (GCC) 8.5.0 20210514 (Red Hat 8.5.0-22) Fedora Linux 42 Kernel: 5.15 Compiler: clang gcc (GCC) 15.2.1 20250808 (Red Hat 15.2.1-1) Ubuntu 20.04 Kernel: 5.15 Compiler: gcc gcc (Ubuntu 9.4.0-1ubuntu1~20.04.2) 9.4.0 Ubuntu 22.04 Kernel: 5.15 Compiler: gcc gcc (Ubuntu 11.4.0-1ubuntu1~22.04) 11.4.0 Red Hat Enterprise Linux 9.5 Kernel: 5.15 Compiler: gcc gcc (GCC) 11.5.0 20240719 (Red Hat 11.5.0-2) Ubuntu 24.04 Kernel: 5.15 Compiler: gcc gcc (Ubuntu 13.3.0-6ubuntu2~24.04) 13.3.0 Windows Server 2022 Kernel: 10.0.20348.2031 Compiler: clang 15.0.7, gcc 14.1.0 (MinGW), and MSVC VS 19.39.33521 To view detailed results, visit: https://lab.dpdk.org/results/dashboard/patchsets/34590/ UNH-IOL DPDK Community Lab To manage your email subscriptions, visit: https://lab.dpdk.org/results/dashboard/preferences/subscriptions/