From mboxrd@z Thu Jan 1 00:00:00 1970 Return-Path: Received: from mails.dpdk.org (mails.dpdk.org [217.70.189.124]) by inbox.dpdk.org (Postfix) with ESMTP id 892F648B16 for ; Sat, 15 Nov 2025 08:27:24 +0100 (CET) Received: from mails.dpdk.org (localhost [127.0.0.1]) by mails.dpdk.org (Postfix) with ESMTP id 82552400D6; Sat, 15 Nov 2025 08:27:24 +0100 (CET) Received: from mail-qv1-f97.google.com (mail-qv1-f97.google.com [209.85.219.97]) by mails.dpdk.org (Postfix) with ESMTP id CD2F3400D6 for ; Sat, 15 Nov 2025 08:27:22 +0100 (CET) Received: by mail-qv1-f97.google.com with SMTP id 6a1803df08f44-88044caaa3eso25824366d6.3 for ; Fri, 14 Nov 2025 23:27:22 -0800 (PST) DKIM-Signature: v=1; a=rsa-sha256; c=relaxed/relaxed; d=iol.unh.edu; s=unh-iol; t=1763191642; x=1763796442; darn=dpdk.org; h=references:in-reply-to:cc:to:from:subject:message-id:date:from:to :cc:subject:date:message-id:reply-to; bh=FyMZDB3vIlwSaNke6S/cOezt7jMIQxTnxBLhTsD1Fac=; b=RCQGTHS6Q0isvcKC9Ftvqt0j0Vtr9UKjjToo22n4QQXAC9NoPnLYVkyV4md6yLHe5B PXcym3n+RPNRH+citRoTj0ZmRqPzbFyKsF10XPTNNa+LRmVQNhn/l1NANU0kvaby/JIq AwlUIyOY+jtlwVaROrgfhX9HhCuxT5nMPe6vE= X-Google-DKIM-Signature: v=1; a=rsa-sha256; c=relaxed/relaxed; d=1e100.net; s=20230601; t=1763191642; x=1763796442; h=references:in-reply-to:cc:to:from:subject:message-id:date:x-gm-gg :x-gm-message-state:from:to:cc:subject:date:message-id:reply-to; bh=FyMZDB3vIlwSaNke6S/cOezt7jMIQxTnxBLhTsD1Fac=; b=KbN4PvUa2jV3Cne3/J1x37Yqg9ucz/D++G1Hfp+2tk5LDYex75YHXrNmX7Pkbewrys UFPrnnaieLl6r/9OR5C7v+oodDzB/xHyYhO3OGKP9FJP5TVW98mLAADCTOZJv+c844Wu btgQnrz06BwfAhgH+C6AA6De1O+sySs9VpEqV8w3WP+WJ9GviigaXOgVWifUUID+60xz PIMrGbE1KJegJps3GfHb5ysH0MQclL8YNjn2RLHilRuC218iTHhvk4ZdZnpSKTcOFWmO FnJCgvAvLk4o6TVu4b/uW9dpLSDaznvVcz7bCCcLOtcVeH5uvgWK4RW/+ADtwtF2rojC xHcg== X-Gm-Message-State: AOJu0Yyv0Y46wPwZ3jHAE7mXg2SO5lJxpmLbdvSnPeQ3PXQ//VkhFP7J AnFJPW6ltnWtfZv6OZ+vVdR2MubOoQmR+l9SxBIr86ldqL0OwzOgwkVGO4VL6VjkZ4Ql7zyO43d Oro6EN9o9KkduESE/TqdOZ+/j+RwdgXbgOTz6nFasCQwF7EX3U24axJfzxgoy X-Gm-Gg: ASbGncslD8Gq279VPwidR057w6j8yAiETR6P1RcyvJM2JF80TG7TLFBrtD49bhE2ssl Xl8gD313+V064/aZCqqP083fJg0ryZh5zopBCa2J7IzUz+CDiNbUkLutLgIAd+RiAXiBnJdEdku tkAbvrS7RYBdf2YG5p7JAA1suuhQz/AjrLYTPHMaBnrwEaaIcWjM6dOrJEGK4BSsDfUgO++jKKM pChnkCw0oOhFCuCKX6DwgGAYdSByjiM2ENxEto4KH8M/Tpv+69ov7zfpRc1aE8zTf29MV8BiIFK hXW+RfDrnjpP7BhmhaKfnks21wTJ9+Fjcqa81CqvHKOw2AD92X0Zhjo/rOujec41eABKCNCYmSR rj8/WA6qY X-Google-Smtp-Source: AGHT+IGAOqHdsnbZucwmwVZY2lJUbS614ixBfNtUZUJiwmm3UM65SXrlZt15NbJUR5X79rMUf+xMkptFI62j X-Received: by 2002:a05:6214:509c:b0:880:42a7:7730 with SMTP id 6a1803df08f44-882926aa66dmr77943496d6.53.1763191642227; Fri, 14 Nov 2025 23:27:22 -0800 (PST) Received: from postal.iol.unh.edu (postal.iol.unh.edu. [2606:4100:3880:1234::84]) by smtp-relay.gmail.com with ESMTPS id 6a1803df08f44-882862b3760sm8122366d6.4.2025.11.14.23.27.22 (version=TLS1_2 cipher=ECDHE-ECDSA-AES128-GCM-SHA256 bits=128/128); Fri, 14 Nov 2025 23:27:22 -0800 (PST) X-Relaying-Domain: iol.unh.edu Date: Fri, 14 Nov 2025 23:27:22 -0800 (PST) Message-ID: <69182b5a.050a0220.2a9e47.8ba6SMTPIN_ADDED_MISSING@mx.google.com> Received: from [172.21.0.3] (unknown [172.18.0.240]) by postal.iol.unh.edu (Postfix) with ESMTP id 005356051830; Sat, 15 Nov 2025 02:27:22 -0500 (EST) Subject: |SUCCESS| pw158753 [PATCH] net/intel: rename variable in Rx select t From: dpdklab@iol.unh.edu To: Test Report Cc: dpdk-test-reports@iol.unh.edu, Bruce Richardson In-Reply-To: <20251113103012.3782264-1-ciara.loftus@intel.com> References: <20251113103012.3782264-1-ciara.loftus@intel.com> Content-Type: text/plain X-BeenThere: test-report@dpdk.org X-Mailman-Version: 2.1.29 Precedence: list List-Id: automatic DPDK test reports List-Unsubscribe: , List-Archive: List-Post: List-Help: List-Subscribe: , Errors-To: test-report-bounces@dpdk.org Test-Label: iol-compile-amd64-testing Test-Status: SUCCESS http://dpdk.org/patch/158753 _Testing PASS_ Submitter: Ciara Loftus Date: Thursday, November 13 2025 10:30:12 DPDK git baseline: Repo:dpdk-next-net-intel Branch: master CommitID:123703be5bdd0fa45e4fda14f36a0d941d1f7e63 158753 --> testing pass Upstream job id: Windows-Compile-DPDK-Native#32364 Test environment and result as below: +-------------------------------+--------------------+------------------+-------------------+-------------------------+ | Environment | dpdk_meson_compile | dpdk_compile_ovs | dpdk_msvc_compile | dpdk_llvm_clang_compile | +===============================+====================+==================+===================+=========================+ | Ubuntu 20.04 | PASS | SKIPPED | SKIPPED | SKIPPED | +-------------------------------+--------------------+------------------+-------------------+-------------------------+ | FreeBSD 14.2 | PASS | SKIPPED | SKIPPED | SKIPPED | +-------------------------------+--------------------+------------------+-------------------+-------------------------+ | CentOS Stream 9 | PASS | SKIPPED | SKIPPED | SKIPPED | +-------------------------------+--------------------+------------------+-------------------+-------------------------+ | CentOS Stream 10 | PASS | SKIPPED | SKIPPED | SKIPPED | +-------------------------------+--------------------+------------------+-------------------+-------------------------+ | Debian GNU/Linux 12 | PASS | SKIPPED | SKIPPED | SKIPPED | +-------------------------------+--------------------+------------------+-------------------+-------------------------+ | Fedora Linux 42 | PASS | PASS | SKIPPED | SKIPPED | +-------------------------------+--------------------+------------------+-------------------+-------------------------+ | openSUSE Leap 15.6 | PASS | SKIPPED | SKIPPED | SKIPPED | +-------------------------------+--------------------+------------------+-------------------+-------------------------+ | Red Hat Enterprise Linux 8.10 | PASS | SKIPPED | SKIPPED | SKIPPED | +-------------------------------+--------------------+------------------+-------------------+-------------------------+ | Red Hat Enterprise Linux 9.5 | PASS | SKIPPED | SKIPPED | SKIPPED | +-------------------------------+--------------------+------------------+-------------------+-------------------------+ | Ubuntu 22.04 | PASS | SKIPPED | SKIPPED | SKIPPED | +-------------------------------+--------------------+------------------+-------------------+-------------------------+ | Ubuntu 24.04 | PASS | PASS | SKIPPED | SKIPPED | +-------------------------------+--------------------+------------------+-------------------+-------------------------+ | Alpine Linux 3.22.0 | PASS | SKIPPED | SKIPPED | SKIPPED | +-------------------------------+--------------------+------------------+-------------------+-------------------------+ | Windows Server 2022 | SKIPPED | SKIPPED | PASS | PASS | +-------------------------------+--------------------+------------------+-------------------+-------------------------+ Ubuntu 20.04 Kernel: 4.19 Compiler: gcc gcc (Ubuntu 9.4.0-1ubuntu1~20.04.2) 9.4.0 FreeBSD 14.2 Kernel: 14.2-RELEASE Compiler: clang 18.1.6 CentOS Stream 9 Kernel: 5.15 Compiler: gcc gcc (GCC) 11.5.0 20240719 (Red Hat 11.5.0-11) CentOS Stream 10 Kernel: 5.15 Compiler: gcc gcc (GCC) 14.2.1 20250110 (Red Hat 14.2.1-8) Debian GNU/Linux 12 Kernel: 5.15 Compiler: gcc gcc (Debian 12.2.0-14+deb12u1) 12.2.0 Fedora Linux 42 Kernel: 5.15 Compiler: clang gcc (GCC) 15.2.1 20250808 (Red Hat 15.2.1-1) openSUSE Leap 15.6 Kernel: 5.15 Compiler: gcc gcc (SUSE Linux) 7.5.0 Red Hat Enterprise Linux 8.10 Kernel: 5.15 Compiler: gcc gcc (GCC) 8.5.0 20210514 (Red Hat 8.5.0-22) Red Hat Enterprise Linux 9.5 Kernel: 5.15 Compiler: gcc gcc (GCC) 11.5.0 20240719 (Red Hat 11.5.0-2) Ubuntu 22.04 Kernel: 5.15 Compiler: gcc gcc (Ubuntu 11.4.0-1ubuntu1~22.04) 11.4.0 Ubuntu 24.04 Kernel: 5.15 Compiler: gcc gcc (Ubuntu 13.3.0-6ubuntu2~24.04) 13.3.0 Alpine Linux 3.22.0 Kernel: 5.15 Compiler: gcc gcc (Alpine 14.2.0) 14.2.0 Windows Server 2022 Kernel: 10.0.20348.2031 Compiler: clang 15.0.7, gcc 14.1.0 (MinGW), and MSVC VS 19.39.33521 To view detailed results, visit: https://lab.dpdk.org/results/dashboard/patchsets/34570/ UNH-IOL DPDK Community Lab To manage your email subscriptions, visit: https://lab.dpdk.org/results/dashboard/preferences/subscriptions/