From mboxrd@z Thu Jan 1 00:00:00 1970 Return-Path: Received: from mails.dpdk.org (mails.dpdk.org [217.70.189.124]) by inbox.dpdk.org (Postfix) with ESMTP id BC91148B16 for ; Sat, 15 Nov 2025 08:37:40 +0100 (CET) Received: from mails.dpdk.org (localhost [127.0.0.1]) by mails.dpdk.org (Postfix) with ESMTP id A7FF3400D6; Sat, 15 Nov 2025 08:37:40 +0100 (CET) Received: from mail-pj1-f98.google.com (mail-pj1-f98.google.com [209.85.216.98]) by mails.dpdk.org (Postfix) with ESMTP id C8CA9400D6 for ; Sat, 15 Nov 2025 08:37:39 +0100 (CET) Received: by mail-pj1-f98.google.com with SMTP id 98e67ed59e1d1-3437c093ef5so2588111a91.0 for ; Fri, 14 Nov 2025 23:37:39 -0800 (PST) DKIM-Signature: v=1; a=rsa-sha256; c=relaxed/relaxed; d=iol.unh.edu; s=unh-iol; t=1763192259; x=1763797059; darn=dpdk.org; h=references:in-reply-to:cc:to:from:subject:message-id:date:from:to :cc:subject:date:message-id:reply-to; bh=2yAu76USggSv145kjc/wt24hbmulee0tuKXi3rvkxCc=; b=bYkn2yJL485KEw4t6YlxWvEgXileUWHDTAV23fXfoP3q989INJCcVn0JZ3Oc9nAoAh 7PKZoILhAgoiJYQAg0tsjnTpmY0E37wX5qOeBee2qkWtmJOKH7o8KUc6l17Mfio4cEBV 3mYAjlY9mtNZG44OoatL6jdPaR+DJvht570Yc= X-Google-DKIM-Signature: v=1; a=rsa-sha256; c=relaxed/relaxed; d=1e100.net; s=20230601; t=1763192259; x=1763797059; h=references:in-reply-to:cc:to:from:subject:message-id:date:x-gm-gg :x-gm-message-state:from:to:cc:subject:date:message-id:reply-to; bh=2yAu76USggSv145kjc/wt24hbmulee0tuKXi3rvkxCc=; b=uFFlqYfW29XWXQi9HwJdrzvgcdE8SL0VeG/nV/ElKkqPESqdSC5jbTsVY7Ni0VU7b9 f0MMeJ6XxkaxP9t63heFmTIgS/v+Q/GZVQVQqBu0QCP+8dPomI6bZ3rkGFYQKyutPW3z i0AFX09cCG9l29Swefl2tXvFnq7RA7V8LdlAr8k4jORSPv+b6ooOv2ydVoqCWhOX03fA pOwoAgHL1TeVB6GnY87eG95aM/yRqzrQIPjdHLT4Tzx3FlJOhSuA2ek1F8zBBoQozIys p+rwJWAMbxcglElfaaTsnn8Skrhuj4uRfXStUnFL4AmI0eh4f+QpgLHywcC0bOw1dxVa hYnw== X-Gm-Message-State: AOJu0YyrWO2MLTDQNno7xBusVruivGOOhIEHYNMx3AjVn8zN3QFFfbBb Tl9OtMcUk2MFERK22Vgsx4mT0EbMyBa3pE3LKyV25WnjMLuyB+l8yOkDlhdlOXmZMKOKoeWb+yO Dxxo/dVN46LnmANCM54j8YWpwEc0mJChxTK8bAwCJNaRLTmlVuzeOj8EuqcCv X-Gm-Gg: ASbGncvr0Zw37C/5FjqKFm3Qh6Oaqi8bvZabq5jCw8epWvzT+Jbu2Tpo6CVkhWKH+Ew ngRDhfqkgQldf3cA570IVTXymXKUpMfa64WMY+dXfqEjXQtK5t9NUr828fmpU0mhE6aPral1ylT vIrSj36gf5GiqbTBxQqY1Hh8mVoAm90AVpj6qbnJZF3WJv6sMezvFfduXNxUMtQghDmSh3aL+b6 gtNxF6evSFEtK32V3O9CQJD5u3aktrCJfd38MdUR3nMpIyPLYMmn7wePnPfuvLPJITCsX80MyW7 Eep2uk/lHcCEs0mYhmwGQJfw001GqtEGB09Scldg0sRjtilVgvrXQyDFRYlMemcvBhrGkWtHGQL yN6rSsk1w X-Google-Smtp-Source: AGHT+IHMvhkXchdkUdUiFkMRT6628ayT+52ydn+0AoE5YiaNRgl9gCJNPOd4DWzYdxgIo77houNP8oD1LXlC X-Received: by 2002:a17:90a:ec84:b0:32b:df0e:9283 with SMTP id 98e67ed59e1d1-343fa76a1afmr6152257a91.34.1763192258892; Fri, 14 Nov 2025 23:37:38 -0800 (PST) Received: from postal.iol.unh.edu (postal.iol.unh.edu. [2606:4100:3880:1234::84]) by smtp-relay.gmail.com with ESMTPS id 98e67ed59e1d1-343ed570798sm907162a91.5.2025.11.14.23.37.38 (version=TLS1_2 cipher=ECDHE-ECDSA-AES128-GCM-SHA256 bits=128/128); Fri, 14 Nov 2025 23:37:38 -0800 (PST) X-Relaying-Domain: iol.unh.edu Date: Fri, 14 Nov 2025 23:37:38 -0800 (PST) Message-ID: <69182dc2.170a0220.8ead.ccecSMTPIN_ADDED_MISSING@mx.google.com> Received: from [172.21.0.2] (unknown [172.18.0.240]) by postal.iol.unh.edu (Postfix) with ESMTP id AB3FD6051830; Sat, 15 Nov 2025 02:37:37 -0500 (EST) Subject: |SUCCESS| pw158791 [PATCH] [v4] test/crypto: add AES-CCM test case w From: dpdklab@iol.unh.edu To: Test Report Cc: dpdk-test-reports@iol.unh.edu, Akhil Goyal In-Reply-To: <20251114162036.170466-1-emma.finn@intel.com> References: <20251114162036.170466-1-emma.finn@intel.com> Content-Type: text/plain X-BeenThere: test-report@dpdk.org X-Mailman-Version: 2.1.29 Precedence: list List-Id: automatic DPDK test reports List-Unsubscribe: , List-Archive: List-Post: List-Help: List-Subscribe: , Errors-To: test-report-bounces@dpdk.org Test-Label: iol-unit-amd64-testing Test-Status: SUCCESS http://dpdk.org/patch/158791 _Testing PASS_ Submitter: Emma Finn Date: Friday, November 14 2025 16:20:35 DPDK git baseline: Repo:dpdk-next-crypto Branch: master CommitID:754ac59dcaf20949b55c58ab00ca73ea19dcc1cb 158791 --> testing pass Upstream job id: Generic-VM-Unit-Test-DPDK#32579 Test environment and result as below: +-------------------------------+----------------+ | Environment | dpdk_unit_test | +===============================+================+ | Debian GNU/Linux 12 | PASS | +-------------------------------+----------------+ | Fedora Linux 42 | PASS | +-------------------------------+----------------+ | Fedora Linux 40 | PASS | +-------------------------------+----------------+ | Fedora Linux 41 | PASS | +-------------------------------+----------------+ | CentOS Stream 10 | PASS | +-------------------------------+----------------+ | CentOS Stream 9 | PASS | +-------------------------------+----------------+ | Ubuntu 22.04 | PASS | +-------------------------------+----------------+ | Red Hat Enterprise Linux 9.5 | PASS | +-------------------------------+----------------+ | Ubuntu 20.04 | PASS | +-------------------------------+----------------+ | Ubuntu 24.04 | PASS | +-------------------------------+----------------+ | Red Hat Enterprise Linux 8.10 | PASS | +-------------------------------+----------------+ | Windows Server 2022 | PASS | +-------------------------------+----------------+ Debian GNU/Linux 12 Kernel: 5.15 Compiler: gcc gcc (Debian 12.2.0-14+deb12u1) 12.2.0 Fedora Linux 42 Kernel: 5.15 Compiler: gcc gcc (GCC) 15.2.1 20250808 (Red Hat 15.2.1-1) Fedora Linux 40 Kernel: 5.15 Compiler: gcc gcc (GCC) 14.2.1 20240912 (Red Hat 14.2.1-3) Fedora Linux 41 Kernel: 5.15 Compiler: gcc gcc (GCC) 14.3.1 20250523 (Red Hat 14.3.1-1) CentOS Stream 10 Kernel: 5.15 Compiler: gcc gcc (GCC) 14.2.1 20250110 (Red Hat 14.2.1-8) CentOS Stream 9 Kernel: 5.15 Compiler: gcc gcc (GCC) 11.5.0 20240719 (Red Hat 11.5.0-11) Ubuntu 22.04 Kernel: 5.15 Compiler: gcc gcc (Ubuntu 11.4.0-1ubuntu1~22.04) 11.4.0 Red Hat Enterprise Linux 9.5 Kernel: 5.15 Compiler: gcc gcc (GCC) 11.5.0 20240719 (Red Hat 11.5.0-2) Ubuntu 20.04 Kernel: 5.15 Compiler: gcc gcc (Ubuntu 9.4.0-1ubuntu1~20.04.2) 9.4.0 Ubuntu 24.04 Kernel: 5.15 Compiler: gcc gcc (Ubuntu 13.3.0-6ubuntu2~24.04) 13.3.0 Red Hat Enterprise Linux 8.10 Kernel: 5.15 Compiler: gcc gcc (GCC) 8.5.0 20210514 (Red Hat 8.5.0-22) Windows Server 2022 Kernel: 10.0.20348.2031 Compiler: clang 15.0.7, gcc 14.1.0 (MinGW), and MSVC VS 19.39.33521 To view detailed results, visit: https://lab.dpdk.org/results/dashboard/patchsets/34592/ UNH-IOL DPDK Community Lab To manage your email subscriptions, visit: https://lab.dpdk.org/results/dashboard/preferences/subscriptions/