From mboxrd@z Thu Jan 1 00:00:00 1970 Return-Path: Received: from mails.dpdk.org (mails.dpdk.org [217.70.189.124]) by inbox.dpdk.org (Postfix) with ESMTP id 8DF5D48B16 for ; Sat, 15 Nov 2025 08:44:46 +0100 (CET) Received: from mails.dpdk.org (localhost [127.0.0.1]) by mails.dpdk.org (Postfix) with ESMTP id 711FE400D6; Sat, 15 Nov 2025 08:44:46 +0100 (CET) Received: from mail-io1-f97.google.com (mail-io1-f97.google.com [209.85.166.97]) by mails.dpdk.org (Postfix) with ESMTP id 1A686400D6 for ; Sat, 15 Nov 2025 08:44:45 +0100 (CET) Received: by mail-io1-f97.google.com with SMTP id ca18e2360f4ac-92aee734585so108039539f.3 for ; Fri, 14 Nov 2025 23:44:45 -0800 (PST) DKIM-Signature: v=1; a=rsa-sha256; c=relaxed/relaxed; d=iol.unh.edu; s=unh-iol; t=1763192684; x=1763797484; darn=dpdk.org; h=references:in-reply-to:cc:to:from:subject:message-id:date:from:to :cc:subject:date:message-id:reply-to; bh=58pdKYuBEVWknqW9KMq9tTh70u9nCtFp+VQME9h2pBU=; b=hhUxHH8apoR4fWKnY69KaZUsK4I1Ul2V9LkNywLCjWpOWQ/GqBchfgHMkyTv3FWkmA vyOhd4y0zpkeMT/n7GBykg8WJmL/b6cYDFeW/KfNbq8Yc+1x7XqDweXPxxPip1g34cfM 1+H8N9wbRK2DEUibjaLAxX9IN8UCPBiH2E8lE= X-Google-DKIM-Signature: v=1; a=rsa-sha256; c=relaxed/relaxed; d=1e100.net; s=20230601; t=1763192684; x=1763797484; h=references:in-reply-to:cc:to:from:subject:message-id:date:x-gm-gg :x-gm-message-state:from:to:cc:subject:date:message-id:reply-to; bh=58pdKYuBEVWknqW9KMq9tTh70u9nCtFp+VQME9h2pBU=; b=ZETuQEnCg/cCeCKpm1B+vPdi9ElRzxmO5fsmQj1HoTml1kul0cBqJxZUtB/XBGJEsw hgJJbgpSU7CGxO4pV0EIE2tH+lvz7s72KEmm8hXhuy+6OgoExiH0HsyztL/znwa3sabh NeX9zg1EmIIyGnWA6QAESoQ+avuULR+gc30gbfAUsA74qQwSeICo9ZFWivNGtQ2YQarB 9FlIBVFmFhUM9NL/UWu9P/GIJv4z3RFoNDGAZort9QmzRrjI3y7eScsiVOLa+5UuIi3o FChaPO+KvaOSXBJ4YZW6TLvB/NG6BBkYkV9aq5tYzDeuIboX/UJ+TgebI+HckYhac8yr AK4g== X-Gm-Message-State: AOJu0YzO8I/vxEQBMVuPb09SCs3OvT7FEXRehwnOGTabmY1TVpeQtutY PmfMlyYe23a9l8UM9wPfk9nDrR0gwmnmnW8R2MDavB9I07XwndXEYZyD0nasCEJAhOyxTZRO5Up +tAScogUDcmLJGf4trqnAQvLp/hubWXlAI5DYqr118iRSRH2gJ83qk7eXEIyW X-Gm-Gg: ASbGncsqWJMkODbZttkU2Rg/szObMvJzNsOmjdccH7s0BB0ekuC1AlcKy6wBzIbWuU2 j7WB0OceGm/WR0ldGIMrNHGvX3YNOMhoqUQT6V4LNX4V6sZaoDLXbPSw0WTiY1+T4uYhPUYlTTQ 5tjJtThP0pnNgIG4tufYOOtLOTOhsz33O8lu7CdKrDcn9YiN73v1Hche6GTEUswY9qqkaEpOiO1 lQ1IMDhAw8BxaPJLe7/soZeFcIWcY7NcOeAq2TiEz38APcmNlAu1XlbQlm+1M620B3ZHGFrS9qa 0In8Yv2EgJsOFuCvKIqE/tWDKqTZ/ahg80hYUGO3G2ZPZmbOXQ1oLat9LIDqirmBTETi5GH3CMj pGqMlqa6C X-Google-Smtp-Source: AGHT+IFys5+QsXJ6SgdjvMqhU/6gEB+ZFoiIRn1s9nPxWGqNsFAkbWBRHDzd7C02I4HfXrjFPMXyU4BK9RvA X-Received: by 2002:a05:6638:ac87:b0:5b7:14f5:bec8 with SMTP id 8926c6da1cb9f-5b7c9c4a4dbmr1387444173.2.1763192684399; Fri, 14 Nov 2025 23:44:44 -0800 (PST) Received: from postal.iol.unh.edu (postal.iol.unh.edu. [2606:4100:3880:1234::84]) by smtp-relay.gmail.com with ESMTPS id 8926c6da1cb9f-5b7bd246c89sm360701173.6.2025.11.14.23.44.44 (version=TLS1_2 cipher=ECDHE-ECDSA-AES128-GCM-SHA256 bits=128/128); Fri, 14 Nov 2025 23:44:44 -0800 (PST) X-Relaying-Domain: iol.unh.edu Date: Fri, 14 Nov 2025 23:44:44 -0800 (PST) Message-ID: <69182f6c.050a0220.3b1900.16f0SMTPIN_ADDED_MISSING@mx.google.com> Received: from [172.21.0.2] (unknown [172.18.0.240]) by postal.iol.unh.edu (Postfix) with ESMTP id 0D57B6051830; Sat, 15 Nov 2025 02:44:43 -0500 (EST) Subject: |SUCCESS| pw158754 [PATCH] net/ice: add MAC anti-spoof disable optio From: dpdklab@iol.unh.edu To: Test Report Cc: dpdk-test-reports@iol.unh.edu, Bruce Richardson In-Reply-To: <20251113105914.34949-1-anurag.mandal@intel.com> References: <20251113105914.34949-1-anurag.mandal@intel.com> Content-Type: text/plain X-BeenThere: test-report@dpdk.org X-Mailman-Version: 2.1.29 Precedence: list List-Id: automatic DPDK test reports List-Unsubscribe: , List-Archive: List-Post: List-Help: List-Subscribe: , Errors-To: test-report-bounces@dpdk.org Test-Label: iol-compile-amd64-testing Test-Status: SUCCESS http://dpdk.org/patch/158754 _Testing PASS_ Submitter: Anurag Mandal Date: Thursday, November 13 2025 10:59:14 DPDK git baseline: Repo:dpdk-next-net-intel Branch: master CommitID:123703be5bdd0fa45e4fda14f36a0d941d1f7e63 158754 --> testing pass Upstream job id: Windows-Compile-DPDK-Native#32366 Test environment and result as below: +-------------------------------+--------------------+-------------------------+------------------+-------------------+----------------------+ | Environment | dpdk_meson_compile | dpdk_llvm_clang_compile | dpdk_compile_ovs | dpdk_msvc_compile | dpdk_mingw64_compile | +===============================+====================+=========================+==================+===================+======================+ | Ubuntu 20.04 | PASS | SKIPPED | SKIPPED | SKIPPED | SKIPPED | +-------------------------------+--------------------+-------------------------+------------------+-------------------+----------------------+ | FreeBSD 14.2 | PASS | SKIPPED | SKIPPED | SKIPPED | SKIPPED | +-------------------------------+--------------------+-------------------------+------------------+-------------------+----------------------+ | CentOS Stream 9 | PASS | SKIPPED | SKIPPED | SKIPPED | SKIPPED | +-------------------------------+--------------------+-------------------------+------------------+-------------------+----------------------+ | CentOS Stream 10 | PASS | SKIPPED | SKIPPED | SKIPPED | SKIPPED | +-------------------------------+--------------------+-------------------------+------------------+-------------------+----------------------+ | Debian GNU/Linux 12 | PASS | SKIPPED | SKIPPED | SKIPPED | SKIPPED | +-------------------------------+--------------------+-------------------------+------------------+-------------------+----------------------+ | Fedora Linux 42 | PASS | SKIPPED | PASS | SKIPPED | SKIPPED | +-------------------------------+--------------------+-------------------------+------------------+-------------------+----------------------+ | openSUSE Leap 15.6 | PASS | SKIPPED | SKIPPED | SKIPPED | SKIPPED | +-------------------------------+--------------------+-------------------------+------------------+-------------------+----------------------+ | Red Hat Enterprise Linux 8.10 | PASS | SKIPPED | SKIPPED | SKIPPED | SKIPPED | +-------------------------------+--------------------+-------------------------+------------------+-------------------+----------------------+ | Red Hat Enterprise Linux 9.5 | PASS | SKIPPED | SKIPPED | SKIPPED | SKIPPED | +-------------------------------+--------------------+-------------------------+------------------+-------------------+----------------------+ | Ubuntu 22.04 | PASS | SKIPPED | SKIPPED | SKIPPED | SKIPPED | +-------------------------------+--------------------+-------------------------+------------------+-------------------+----------------------+ | Ubuntu 24.04 | PASS | SKIPPED | PASS | SKIPPED | SKIPPED | +-------------------------------+--------------------+-------------------------+------------------+-------------------+----------------------+ | Alpine Linux 3.22.0 | PASS | SKIPPED | SKIPPED | SKIPPED | SKIPPED | +-------------------------------+--------------------+-------------------------+------------------+-------------------+----------------------+ | Windows Server 2022 | SKIPPED | PASS | SKIPPED | PASS | PASS | +-------------------------------+--------------------+-------------------------+------------------+-------------------+----------------------+ Ubuntu 20.04 Kernel: 4.19 Compiler: gcc gcc (Ubuntu 9.4.0-1ubuntu1~20.04.2) 9.4.0 FreeBSD 14.2 Kernel: 14.2-RELEASE Compiler: clang 18.1.6 CentOS Stream 9 Kernel: 5.15 Compiler: gcc gcc (GCC) 11.5.0 20240719 (Red Hat 11.5.0-11) CentOS Stream 10 Kernel: 5.15 Compiler: gcc gcc (GCC) 14.2.1 20250110 (Red Hat 14.2.1-8) Debian GNU/Linux 12 Kernel: 5.15 Compiler: gcc gcc (Debian 12.2.0-14+deb12u1) 12.2.0 Fedora Linux 42 Kernel: 5.15 Compiler: clang gcc (GCC) 15.2.1 20250808 (Red Hat 15.2.1-1) openSUSE Leap 15.6 Kernel: 5.15 Compiler: gcc gcc (SUSE Linux) 7.5.0 Red Hat Enterprise Linux 8.10 Kernel: 5.15 Compiler: gcc gcc (GCC) 8.5.0 20210514 (Red Hat 8.5.0-22) Red Hat Enterprise Linux 9.5 Kernel: 5.15 Compiler: gcc gcc (GCC) 11.5.0 20240719 (Red Hat 11.5.0-2) Ubuntu 22.04 Kernel: 5.15 Compiler: gcc gcc (Ubuntu 11.4.0-1ubuntu1~22.04) 11.4.0 Ubuntu 24.04 Kernel: 5.15 Compiler: gcc gcc (Ubuntu 13.3.0-6ubuntu2~24.04) 13.3.0 Alpine Linux 3.22.0 Kernel: 5.15 Compiler: gcc gcc (Alpine 14.2.0) 14.2.0 Windows Server 2022 Kernel: 10.0.20348.2031 Compiler: clang 15.0.7, gcc 14.1.0 (MinGW), and MSVC VS 19.39.33521 To view detailed results, visit: https://lab.dpdk.org/results/dashboard/patchsets/34571/ UNH-IOL DPDK Community Lab To manage your email subscriptions, visit: https://lab.dpdk.org/results/dashboard/preferences/subscriptions/