From mboxrd@z Thu Jan 1 00:00:00 1970 Return-Path: Received: from mails.dpdk.org (mails.dpdk.org [217.70.189.124]) by inbox.dpdk.org (Postfix) with ESMTP id 06A8248B16 for ; Sat, 15 Nov 2025 08:48:33 +0100 (CET) Received: from mails.dpdk.org (localhost [127.0.0.1]) by mails.dpdk.org (Postfix) with ESMTP id D0F65400D6; Sat, 15 Nov 2025 08:48:32 +0100 (CET) Received: from mail-il1-f225.google.com (mail-il1-f225.google.com [209.85.166.225]) by mails.dpdk.org (Postfix) with ESMTP id D6533400D6 for ; Sat, 15 Nov 2025 08:48:31 +0100 (CET) Received: by mail-il1-f225.google.com with SMTP id e9e14a558f8ab-43346da8817so14893965ab.0 for ; Fri, 14 Nov 2025 23:48:31 -0800 (PST) DKIM-Signature: v=1; a=rsa-sha256; c=relaxed/relaxed; d=iol.unh.edu; s=unh-iol; t=1763192911; x=1763797711; darn=dpdk.org; h=references:in-reply-to:cc:to:from:subject:message-id:date:from:to :cc:subject:date:message-id:reply-to; bh=Jmg5xtYs2HG0K6VkKViTr814jn7N0IDeaehlcdkGS4U=; b=RZv4Iy6vsp8oHNJAHF4C6UuTIVE//UHDNSEq8BaN5ZNkiREiHJ2hfcKQ+0vO42UOU6 G8Q53TLqR8JmQK3MupEd+wD+8zEkTeyvMb7b8hpf7aHjmmLyejIu/BQplqkSF7lM0+rG ilKExQQi3F4t9iny+DGx/FK/5Rl1H8ncbNS4I= X-Google-DKIM-Signature: v=1; a=rsa-sha256; c=relaxed/relaxed; d=1e100.net; s=20230601; t=1763192911; x=1763797711; h=references:in-reply-to:cc:to:from:subject:message-id:date:x-gm-gg :x-gm-message-state:from:to:cc:subject:date:message-id:reply-to; bh=Jmg5xtYs2HG0K6VkKViTr814jn7N0IDeaehlcdkGS4U=; b=knIqIwR/X7Q+SB20yBSzkpHKgPm5rDJvFUzT6ExczJi54ENuuLPFlB4TGcYMii9cfR wuSW85bFRtnc6pbyWmcVTvLH9xReoigrXpIjqhqza6cFLjjyovU3ztTQytGAHuj80eIQ NgtVucli34TqVaAdHPcYGFq7LbNAptGKEMlI45Q2Gi6HW4MruOrQ+VYlV6FyQel0dL5u pN0sdXa7Giy2pv0GPD7yKnODoHwaiTg6NmivgtdvSstI6UfjSP/DLAOSQm2D5DGU+Djc WR7xc2ujSu0vJXgE8C5qcstG4ap6c5D6VYmnA9ZtPkg0IPNc0SSwlUh0Y1Jij9PDRDuT L4eQ== X-Gm-Message-State: AOJu0Yw9xqEoEb2iuqb7jxrPILBOJndo88gAfeOWQLp6mpKr259x1LHy l1NFq0ZSNpNejpP6U4M7Vdbk6P+GRdSiP1jM119Th6i+hEGx37o8gg9Y00jlFe8FnRlG5cp0tsE u0Fz4mQEh/8r8frd2PP7TY169y+/mh5o7hgdST53UeOeb X-Gm-Gg: ASbGnctOlD4/gBo8CWPhB74Al8azsgWdIfIVAu4Ikvu0VYYSEEAHmJ+z6XzZDmQgurq QnVAkehWHFt/5bSJGc44Tr3V9v4/tgSShtbt5SqBdqeTcF7Os58J+/h5Va1IQF1oxrJJpT6ogvS 5U/fDadOAhk8R1recAKnqyEt4FpXJdjyiV+SbXg6U6OFx/b/v1QLGgpWpyMb6nRjkUWtdt8qZNw UzOY+Yx7ifonGeS7pcxe/rvLgECQP8K6gSUTHlt3AugnPMOCt5JG4agNfOWaUK/8cnSZ5cXZFag 4sJe/mZ3b6ARmPVuqJd1aDGe8yFe1GCTBw2FMMpHhnKeiEgJXFUpGxgVGYyy4H+qmt6fMM/D26z YH3wqrM+50NQsAzG9fMBRd52bcdhk8Hs= X-Google-Smtp-Source: AGHT+IFf4N5swyCZB0nX0kxFqaTN+gmwO0zGBWVhhTwricwWhjAfwd+Yvzor5CuBF8MonssXXgrZ3ilJVuB3 X-Received: by 2002:a05:6e02:1a45:b0:433:7c9a:e8b6 with SMTP id e9e14a558f8ab-4348c742e15mr83925115ab.9.1763192910809; Fri, 14 Nov 2025 23:48:30 -0800 (PST) Received: from postal.iol.unh.edu (postal.iol.unh.edu. [132.177.123.84]) by smtp-relay.gmail.com with ESMTPS id e9e14a558f8ab-434838c4669sm6473495ab.15.2025.11.14.23.48.30 (version=TLS1_2 cipher=ECDHE-ECDSA-AES128-GCM-SHA256 bits=128/128); Fri, 14 Nov 2025 23:48:30 -0800 (PST) X-Relaying-Domain: iol.unh.edu Date: Fri, 14 Nov 2025 23:48:30 -0800 (PST) Message-ID: <6918304e.050a0220.11415.fcb8SMTPIN_ADDED_MISSING@mx.google.com> Received: from [172.21.0.2] (unknown [172.18.0.240]) by postal.iol.unh.edu (Postfix) with ESMTP id 56C816051830; Sat, 15 Nov 2025 02:48:30 -0500 (EST) Subject: |SUCCESS| pw158791 [PATCH] [v4] test/crypto: add AES-CCM test case w From: dpdklab@iol.unh.edu To: Test Report Cc: dpdk-test-reports@iol.unh.edu, Akhil Goyal In-Reply-To: <20251114162036.170466-1-emma.finn@intel.com> References: <20251114162036.170466-1-emma.finn@intel.com> Content-Type: text/plain X-BeenThere: test-report@dpdk.org X-Mailman-Version: 2.1.29 Precedence: list List-Id: automatic DPDK test reports List-Unsubscribe: , List-Archive: List-Post: List-Help: List-Subscribe: , Errors-To: test-report-bounces@dpdk.org Test-Label: iol-unit-amd64-testing Test-Status: SUCCESS http://dpdk.org/patch/158791 _Testing PASS_ Submitter: Emma Finn Date: Friday, November 14 2025 16:20:35 DPDK git baseline: Repo:dpdk-next-crypto Branch: master CommitID:754ac59dcaf20949b55c58ab00ca73ea19dcc1cb 158791 --> testing pass Upstream job id: Generic-VM-Unit-Test-DPDK#32580 Test environment and result as below: +-------------------------------+----------------+ | Environment | dpdk_unit_test | +===============================+================+ | Debian GNU/Linux 12 | PASS | +-------------------------------+----------------+ | Fedora Linux 42 | PASS | +-------------------------------+----------------+ | Fedora Linux 40 | PASS | +-------------------------------+----------------+ | Fedora Linux 41 | PASS | +-------------------------------+----------------+ | CentOS Stream 10 | PASS | +-------------------------------+----------------+ | CentOS Stream 9 | PASS | +-------------------------------+----------------+ | Ubuntu 22.04 | PASS | +-------------------------------+----------------+ | Red Hat Enterprise Linux 9.5 | PASS | +-------------------------------+----------------+ | Ubuntu 20.04 | PASS | +-------------------------------+----------------+ | Ubuntu 24.04 | PASS | +-------------------------------+----------------+ | Red Hat Enterprise Linux 8.10 | PASS | +-------------------------------+----------------+ | Windows Server 2022 | PASS | +-------------------------------+----------------+ Debian GNU/Linux 12 Kernel: 5.15 Compiler: gcc gcc (Debian 12.2.0-14+deb12u1) 12.2.0 Fedora Linux 42 Kernel: 5.15 Compiler: gcc gcc (GCC) 15.2.1 20250808 (Red Hat 15.2.1-1) Fedora Linux 40 Kernel: 5.15 Compiler: gcc gcc (GCC) 14.2.1 20240912 (Red Hat 14.2.1-3) Fedora Linux 41 Kernel: 5.15 Compiler: gcc gcc (GCC) 14.3.1 20250523 (Red Hat 14.3.1-1) CentOS Stream 10 Kernel: 5.15 Compiler: gcc gcc (GCC) 14.2.1 20250110 (Red Hat 14.2.1-8) CentOS Stream 9 Kernel: 5.15 Compiler: gcc gcc (GCC) 11.5.0 20240719 (Red Hat 11.5.0-11) Ubuntu 22.04 Kernel: 5.15 Compiler: gcc gcc (Ubuntu 11.4.0-1ubuntu1~22.04) 11.4.0 Red Hat Enterprise Linux 9.5 Kernel: 5.15 Compiler: gcc gcc (GCC) 11.5.0 20240719 (Red Hat 11.5.0-2) Ubuntu 20.04 Kernel: 5.15 Compiler: gcc gcc (Ubuntu 9.4.0-1ubuntu1~20.04.2) 9.4.0 Ubuntu 24.04 Kernel: 5.15 Compiler: gcc gcc (Ubuntu 13.3.0-6ubuntu2~24.04) 13.3.0 Red Hat Enterprise Linux 8.10 Kernel: 5.15 Compiler: gcc gcc (GCC) 8.5.0 20210514 (Red Hat 8.5.0-22) Windows Server 2022 Kernel: 10.0.20348.2031 Compiler: clang 15.0.7, gcc 14.1.0 (MinGW), and MSVC VS 19.39.33521 To view detailed results, visit: https://lab.dpdk.org/results/dashboard/patchsets/34592/ UNH-IOL DPDK Community Lab To manage your email subscriptions, visit: https://lab.dpdk.org/results/dashboard/preferences/subscriptions/